Workbook

Sheet Estimat
A1: Estimat DNO inntekter (USD)
R2: Kurdistan
C3: Produksjon Kurdistan | D3: Produksjon Oman/NCS | E3: Oljepris Tawke | F3: Oljepris Oman/NCS | G3: Reell override betaling | H3: Override betaling Kurdistan | I3: DNO andel Tawke | J3: DNO andel Oman/NCS | K3: Samlet | L3: Kvartalsinntekter estimert | M3: Gjeldsinntekter | N3: Revenue per Q Estimert | O3: Revenue per Q rapportert | P3: Revenue per år. Estimert | Q3: Revenue per år. Rapportert | R3: Estimert eksport per dag (per Q) | S3: Rapportert eksport per dag | T3: Snitt est eksport per år (boed) | U3: Reell eksp. | V3: Gjeldsbetaling | W3: Per Q | X3: Akkumulert
A4: 42736 | C4: =Kurdistan!R5 -> 112537 | D4: =Oman!G5 -> 4756.8 | E4: =Oljepris!B4-12 -> 42.58 | F4: =Oljepris!B4-5 -> 49.58 | H4: =C4*E4*Oljepris!D4*0.05*0.71 -> 5273403.9 | I4: =C4*E4*Oljepris!D4*0.71*0.31-H4 -> 27421700 | J4: =D4*F4*Oljepris!D4*0.5*0.45 -> 1644999 | K4: =I4+J4 -> 29066699
A5: 42767 | C5: =Kurdistan!R6 -> 110641 | D5: =Oman!G6 -> 4713.9888 | E5: =Oljepris!B5-12 -> 42.87 | F5: =Oljepris!B5-5 -> 49.87 | H5: =C5*E5*Oljepris!D5*0.05*0.71 -> 4714720.6 | I5: =C5*E5*Oljepris!D5*0.71*0.31-H5 -> 24516547 | J5: =D5*F5*Oljepris!D5*0.5*0.45 -> 1481045.7 | K5: =I5+J5 -> 25997593
A6: 42795 | C6: =Kurdistan!R7 -> 108513 | D6: =Oman!G7 -> 4671.5629 | E6: =Oljepris!B6-12 -> 39.9 | F6: =Oljepris!B6-5 -> 46.9 | H6: =C6*E6*Oljepris!D6*0.05*0.71 -> 4764800.4 | I6: =C6*E6*Oljepris!D6*0.71*0.31-H6 -> 24776962 | J6: =D6*F6*Oljepris!D6*0.5*0.45 -> 1528196.7 | K6: =I6+J6 -> 26305159 | L6: 77100000
A7: 42826 | C7: =Kurdistan!R8 -> 108519 | D7: =Oman!G8 -> 4629.5188 | E7: =Oljepris!B7-12 -> 40.31 | F7: =Oljepris!B7-5 -> 47.31 | H7: =C7*E7*Oljepris!D7*0.05*0.71 -> 4658736.9 | I7: =C7*E7*Oljepris!D7*0.71*0.31-H7 -> 24225432 | J7: =D7*F7*Oljepris!D7*0.5*0.45 -> 1478402.1 | K7: =I7+J7 -> 25703834
A8: 42856 | C8: =Kurdistan!R9 -> 107554.93 | D8: =Oman!G9 -> 4587.8532 | E8: =Oljepris!B8-12 -> 38.33 | F8: =Oljepris!B8-5 -> 45.33 | G8: 6390000 | H8: =C8*E8*Oljepris!D8*0.05*0.71 -> 4536900 | I8: =C8*E8*Oljepris!D8*0.71*0.31-H8 -> 23591880 | J8: =D8*F8*Oljepris!D8*0.5*0.45 -> 1450572.5 | K8: =I8+J8 -> 25042453
A9: 42887 | C9: =Kurdistan!R10 -> 105660.27 | D9: =Oman!G10 -> 4546.5625 | E9: =Oljepris!B9-12 -> 34.37 | F9: =Oljepris!B9-5 -> 41.37 | G9: 5447315 | H9: =C9*E9*Oljepris!D9*0.05*0.71 -> 3867593.6 | I9: =C9*E9*Oljepris!D9*0.71*0.31-H9 -> 20111487 | J9: =D9*F9*Oljepris!D9*0.5*0.45 -> 1269616.2 | K9: =I9+J9 -> 21381103 | L9: =SUM(I4:I6)+SUM(J7:J9) -> 80913800 | M9: =SUM(H4:H6) -> 14752925 | N9: =L9 -> 80913800 | O9: 81700000
A10: 42917 | C10: =Kurdistan!R11 -> 112521.51 | D10: =Oman!G11 -> 4505.6434 | E10: =Oljepris!B10-12 -> 36.48 | F10: =Oljepris!B10-5 -> 43.48 | G10: 6362416 | H10: =C10*E10*Oljepris!D10*0.05*0.71 -> 4517315.4 | I10: =C10*E10*Oljepris!D10*0.71*0.31-H10 -> 23490040 | J10: =D10*F10*Oljepris!D10*0.5*0.45 -> 1366440 | K10: =I10+J10 -> 24856480
A11: 42948 | C11: =Kurdistan!R12 -> 108881.12 | D11: =Oman!G12 -> 4465.0926 | E11: =Oljepris!B11-12 -> 39.7 | F11: =Oljepris!B11-5 -> 46.7 | G11: 4020000 | H11: =Kurdistan!H12*E11*Oljepris!D11*0.03 -> 3744198 | I11: =(C11*E11*Oljepris!D11*0.71*0.3107-H11)*1.3666 -> 35279872 | J11: =D11*F11*Oljepris!D11*0.5*0.45 -> 1454425.8 | K11: =IF(G11<>0,G11+I11+J11,H11+I11+J11) -> 40754298
A12: 42979 | C12: =Kurdistan!R13 -> 107378.03 | D12: =Oman!G13 -> 4424.9068 | E12: =Oljepris!B12-12 -> 44.15 | F12: =Oljepris!B12-5 -> 51.15 | G12: 4266666 | H12: =Kurdistan!H13*E12*Oljepris!D12*0.03 -> 4048314.8 | I12: =(C12*E12*Oljepris!D12*0.71*0.3375-H12)*1.3666 -> 41041294 | J12: =D12*F12*Oljepris!D12*0.5*0.45 -> 1527754.4 | K12: =IF(G12<>0,G12+I12+J12,H12+I12+J12) -> 46835714 | L12: =SUM(I7:I9)+SUM(J10:J12) -> 72277419 | M12: =SUM(H7:H9) -> 13063231 | N12: =L12 -> 72277419 | O12: 73000000 | R12: =SUM(C10:C12)/3 -> 109593.55 | S12: 109755
A13: 43009 | C13: =Kurdistan!R14 -> 105927.07 | D13: =Oman!G14 -> 4385.0826 | E13: =Oljepris!B13-13.2 -> 44.31 | F13: =Oljepris!B13-5 -> 52.51 | G13: 4370000 | H13: =Kurdistan!H14*E13*Oljepris!D13*0.03 -> 4135054.6 | I13: =(C13*E13*Oljepris!D13*0.71*0.33-H13)*1.3666 -> 40938111 | J13: =D13*F13*Oljepris!D13*0.5*0.45 -> 1606068.3 | K13: =IF(G13<>0,G13+I13+J13,H13+I13+J13) -> 46914179 | N13: =L13+M13 -> 0
A14: 43040 | C14: =Kurdistan!R15 -> 105371.72 | D14: =Oman!G15 -> 4345.6169 | E14: =Oljepris!B14-12 -> 50.71 | F14: =Oljepris!B14-5 -> 57.71 | G14: 4700000 | H14: =Kurdistan!H15*E14*Oljepris!D14*0.03 -> 4624977.9 | I14: =(C14*E14*Oljepris!D14*0.71*0.3078-H14)*1.3666 -> 41554341 | J14: =D14*F14*Oljepris!D14*0.5*0.45 -> 1692802.5 | K14: =IF(G14<>0,G14+I14+J14,H14+I14+J14) -> 47947143 | N14: =L14+M14 -> 0
A15: 43070 | C15: =Kurdistan!R16 -> 110276.98 | D15: =Oman!G16 -> 4306.5063 | E15: =Oljepris!B15-13.2 -> 51.17 | F15: =Oljepris!B15-5 -> 59.37 | G15: 5253000 | H15: =Kurdistan!H16*E15*Oljepris!D15*0.03 -> 5059163.2 | I15: =(C15*E15*Oljepris!D15*0.71*0.32-H15)*1.3666 -> 47400141 | J15: =D15*F15*Oljepris!D15*0.5*0.45 -> 1783349 | K15: =IF(G15<>0,G15+I15+J15,H15+I15+J15) -> 54436490 | L15: =SUM(I10:I12)+SUM(J13:J15) -> 1.0489343e+08 | M15: =SUM(H10:H13) -> 16444883 | N15: =L15+M15-H13 -> 1.1720325e+08 | O15: 116000000 | R15: =SUM(C13:C15)/3 -> 107191.92 | S15: 106200 | T15: =SUM(C4:C15)/12 -> 108648.47 | U15: 109000
A16: 43101 | C16: =Kurdistan!R17 -> 107158.78 | D16: =Oman!G17 -> 4267.7478 | E16: =Oljepris!B16-16.5 -> 52.58 | F16: =Oljepris!B16-5 -> 64.08 | G16: 5240000 | H16: =Kurdistan!H17*E16*Oljepris!D16*0.03 -> 5094598.1 | I16: =(C16*E16*Oljepris!D16*0.71*0.2935-H16)*1.3666 -> 42779111 | J16: =D16*F16*Oljepris!D16*0.5*0.45 -> 1907504 | K16: =IF(G16<>0,G16+I16+J16,H16+I16+J16) -> 49926615 | N16: =L16+M16 -> 0
A17: 43132 | C17: =Kurdistan!R18 -> 102994.33 | D17: =Oman!G18 -> 4229.3381 | E17: =Oljepris!B17-13.15 -> 52.17 | F17: =Oljepris!B17-5 -> 60.32 | G17: 4513500 | H17: =Kurdistan!H18*E17*Oljepris!D17*0.03 -> 4474377.2 | I17: =(C17*E17*Oljepris!D17*0.71*0.2871-H17)*1.3666 -> 35796039 | J17: =D17*F17*Oljepris!D17*0.5*0.45 -> 1607216.1 | K17: =IF(G17<>0,G17+I17+J17,H17+I17+J17) -> 41916755 | N17: =L17+M17 -> 0
A18: 43160 | C18: =Kurdistan!R19 -> 113485.91 | D18: =Oman!G19 -> 4191.274 | E18: =Oljepris!B18-13.15 -> 52.87 | F18: =Oljepris!B18-5 -> 61.02 | G18: 5580000 | H18: =Kurdistan!H19*E18*Oljepris!D18*0.03 -> 4919838.1 | I18: =(C18*E18*Oljepris!D18*0.71*0.2979-H18)*1.3666 -> 47039514 | J18: =D18*F18*Oljepris!D18*0.5*0.45 -> 1783867 | K18: =IF(G18<>0,G18+I18+J18,H18+I18+J18) -> 54403381 | L18: =SUM(I13:I15)+SUM(J16:J18) -> 1.3519118e+08 | M18: =SUM(H14:H15) -> 9684141.1 | N18: =L18+M18 -> 1.4487532e+08 | O18: 142300000 | R18: =SUM(C16:C18)/3 -> 107879.67 | S18: 109400
A19: 43191 | C19: =Kurdistan!R20 -> 101952.36 | D19: =Oman!G20 -> 4153.5525 | E19: =Oljepris!B19-13.15 -> 58.96 | F19: =Oljepris!B19-5 -> 67.11 | G19: 5410000 | H19: =Kurdistan!H20*E19*Oljepris!D19*0.03 -> 5336028.8 | I19: =(C19*E19*Oljepris!D19*0.71*0.31177-H19)*1.3666 -> 47259710 | J19: =D19*F19*Oljepris!D19*0.5*0.45 -> 1881528.2 | K19: =IF(G19<>0,G19+I19+J19,H19+I19+J19) -> 54551238 | N19: =L19+M19 -> 0
A20: 43221 | C20: =Kurdistan!R21 -> 100922.28 | D20: =Oman!G21 -> 4116.1706 | E20: =Oljepris!B20-13.15 -> 63.82 | F20: =Oljepris!B20-5 -> 71.97 | G20: 5990000 | H20: =Kurdistan!H21*E20*Oljepris!D20*0.03 -> 5849032.1 | I20: =(C20*E20*Oljepris!D20*0.71*0.31134-H20)*1.3666 -> 52323785 | J20: =D20*F20*Oljepris!D20*0.5*0.45 -> 2066279.6 | K20: =IF(G20<>0,G20+I20+J20,H20+I20+J20) -> 60380065 | N20: =L20+M20 -> 0
A21: 43252 | C21: =Kurdistan!R22 -> 105016.87 | D21: =Oman!G22 -> 4079.125 | E21: =Oljepris!B21-13.15 -> 61.26 | F21: =Oljepris!B21-5 -> 69.41 | G21: 5790000 | H21: =Kurdistan!H22*E21*Oljepris!D21*0.03 -> 5324634.9 | I21: =(C21*E21*Oljepris!D21*0.71*0.3-H21)*1.3666 -> 48902913 | J21: =D21*F21*Oljepris!D21*0.5*0.45 -> 1911141.5 | K21: =IF(G21<>0,G21+I21+J21,H21+I21+J21) -> 56604055 | L21: =SUM(I16:I18)+SUM(J19:J21) -> 1.3147361e+08 | M21: =SUM(H16:H18) -> 14488813 | N21: =L21+M21 -> 1.4596243e+08 | O21: 147000000 | R21: =SUM(C19:C21)/3 -> 102630.5 | S21: 106000
A22: 43282 | C22: =Kurdistan!R23 -> 109286.73 | D22: =Oman!G23 -> 4042.4129 | E22: =Oljepris!B22-13.15 -> 61.1 | F22: =Oljepris!B22-5 -> 69.25 | G22: 6210000 | H22: =Kurdistan!H23*E22*Oljepris!D22*0.03 -> 5377997.1 | I22: =(C22*E22*Oljepris!D22*0.71*0.3-H22)*1.3666 -> 52905190 | J22: =D22*F22*Oljepris!D22*0.5*0.45 -> 1952561.2 | K22: =IF(G22<>0,G22+I22+J22,H22+I22+J22) -> 61067751 | N22: =L22+M22 -> 0
A23: 43313 | C23: =Kurdistan!R24 -> 113176.66 | D23: =Oman!G24 -> 4006.0312 | E23: =Oljepris!B23-13.15 -> 59.38 | F23: =Oljepris!B23-5 -> 67.53 | G23: 6250000 | H23: =Kurdistan!H24*E23*Oljepris!D23*0.03 -> 5895199 | I23: =(C23*E23*Oljepris!D23*0.71*0.3-H23)*1.3666 -> 52586496 | J23: =D23*F23*Oljepris!D23*0.5*0.45 -> 1886927.8 | K23: =IF(G23<>0,G23+I23+J23,H23+I23+J23) -> 60723424 | N23: =L23+M23 -> 0
A24: 43344 | C24: =Kurdistan!R25 -> 116621.03 | D24: =Oman!G25 -> 3969.9769 | E24: =Oljepris!B24-13.15 -> 65.74 | F24: =Oljepris!B24-5 -> 73.89 | G24: 6900000 | H24: =Kurdistan!H25*E24*Oljepris!D24*0.03 -> 6603919.1 | I24: =(C24*E24*Oljepris!D24*0.71*0.3-H24)*1.3666 -> 57924818 | J24: =D24*F24*Oljepris!D24*0.5*0.45 -> 1980055.8 | K24: =IF(G24<>0,G24+I24+J24,H24+I24+J24) -> 66804874 | L24: =SUM(I19:I21)+SUM(J22:J24) -> 1.5430595e+08 | M24: =SUM(H19:H21) -> 16509696 | N24: =L24+M24 -> 1.7081565e+08 | O24: 171200000 | R24: =SUM(C22:C24)/3 -> 113028.14 | S24: 113100
A25: 43374 | C25: =Kurdistan!R26 -> 126725.85 | D25: =Oman!G26 -> 3934.2471 | E25: =Oljepris!B25-13.15 -> 67.88 | F25: =Oljepris!B25-5 -> 76.03 | G25: 8000000 | H25: =Kurdistan!H26*E25*Oljepris!D25*0.03 -> 7410292.9 | I25: =(C25*E25*Oljepris!D25*0.71*0.3-H25)*1.3666 -> 67495974 | J25: =D25*F25*Oljepris!D25*0.5*0.45 -> 2086367.6 | K25: =IF(G25<>0,G25+I25+J25,H25+I25+J25) -> 77582341 | N25: =L25+M25 -> 0
A26: 43405 | C26: =Kurdistan!R27 -> 127045.65 | D26: =Oman!G27 -> 3898.8389 | E26: =Oljepris!B26-13.15 -> 51.6 | F26: =Oljepris!B26-5 -> 59.75 | G26: 5900000 | H26: =Kurdistan!H27*E26*Oljepris!D26*0.03 -> 5342307.5 | I26: =(C26*E26*Oljepris!D26*0.71*0.3-H26)*1.3666 -> 49946077 | J26: =D26*F26*Oljepris!D26*0.5*0.45 -> 1572450.5 | K26: =IF(G26<>0,G26+I26+J26,H26+I26+J26) -> 57418527 | N26: =L26+M26 -> 0
A27: 43435 | C27: =Kurdistan!R28 -> 127774.17 | D27: =Oman!G28 -> 3863.7494 | E27: =Oljepris!B27-13.15 -> 43.76 | F27: =Oljepris!B27-5 -> 51.91 | G27: 5200000 | H27: =Kurdistan!H28*E27*Oljepris!D27*0.03 -> 4689737.8 | I27: =(C27*E27*Oljepris!D27*0.71*0.3-H27)*1.3666 -> 44045876 | J27: =D27*F27*Oljepris!D27*0.5*0.45 -> 1398956.4 | K27: =IF(G27<>0,G27+I27+J27,H27+I27+J27) -> 50644833 | L27: =SUM(I22:I27)+SUM(J25:J27) -> 3.2996221e+08 | M27: =SUM(H22:H27) -> 35319453 | N27: =L27+M27 -> 3.6528166e+08 | O27: 368800000 | P27: =SUM(N16:N27) -> 8.2693505e+08 | R27: =SUM(C25:C27)/3 -> 127181.89 | S27: 127262 | T27: =SUM(C16:C27)/12 -> 112680.05 | U27: 117607
A28: 43466 | C28: =Kurdistan!R29 -> 128539.48 | D28: ='Norge-UK'!AA29 -> 18006.022 | E28: =Oljepris!B28-13.15 -> 46.26 | F28: =Oljepris!B28-1 -> 58.41 | G28: 5530000 | H28: =Kurdistan!H29*E28*Oljepris!D28*0.03 -> 5159660.9 | I28: =(C28*E28*Oljepris!D28*0.71*0.3-H28)*1.3666 -> 46605623 | J28: =D28*F28*Oljepris!D28*0.73 -> 23800690 | K28: =IF(G28<>0,G28+I28+J28,H28+I28+J28) -> 75936313 | N28: =L28+M28 -> 0 | P28: =SUM(O18:O27) -> 829300000
A29: 43497 | C29: =Kurdistan!R30 -> 126500 | D29: ='Norge-UK'!AA30 -> 18826.908 | E29: =Oljepris!B29-13.15 -> 50.81 | F29: =Oljepris!B29-1 -> 62.96 | H29: =Kurdistan!H30*E29*Oljepris!D29*0.03 -> 5421805.8 | I29: =(C29*E29*Oljepris!D29*0.71*0.3-H29)*1.3666 -> 44976986 | J29: =D29*F29*Oljepris!D29*0.73 -> 24228393 | K29: =IF(G29<>0,G29+I29+J29,H29+I29+J29) -> 74627185 | N29: =L29+M29 -> 0
A30: 43525 | C30: =Kurdistan!R31 -> 125240 | D30: ='Norge-UK'!AA31 -> 18436.407 | E30: =Oljepris!B30-13.15 -> 52.99 | F30: =Oljepris!B30-1 -> 65.14 | H30: =Kurdistan!H31*E30*Oljepris!D30*0.03 -> 6135054.5 | I30: =(C30*E30*Oljepris!D30*0.71*0.3-H30)*1.3666 -> 51501060 | J30: =D30*F30*Oljepris!D30*0.73 -> 27177443 | K30: =IF(G30<>0,G30+I30+J30,H30+I30+J30) -> 84813558 | L30: =SUM(I28:I30)+SUM(J28:J30) -> 2.182902e+08 | M30: =SUM(H28:H30) -> 16716521 | N30: =L30+M30 -> 2.3500672e+08 | O30: 204100000 | R30: =SUM(Kurdistan!H29:H31)/3 -> 123818.68 | S30: 126759
A31: 43556 | C31: =Kurdistan!R32 -> 125000 | D31: ='Norge-UK'!AA32 -> 20305.388 | E31: =Oljepris!B31-13.15 -> 58.08 | F31: =Oljepris!B31-1 -> 70.23 | H31: =Kurdistan!H32*E31*Oljepris!D31*0.03 -> 6377298.5 | I31: =(C31*E31*Oljepris!D31*0.71*0.3-H31)*1.3666 -> 54683271 | J31: =D31*F31*Oljepris!D31*0.73 -> 31230438 | K31: =IF(G31<>0,G31+I31+J31,H31+I31+J31) -> 92291008 | M31: Kurdistan: | N31: =SUM(H31:I33) -> 1.7994564e+08
A32: 43586 | C32: =Kurdistan!R33 -> 127000 | D32: ='Norge-UK'!AA33 -> 20382.25 | E32: =Oljepris!B32-13.15 -> 58.17 | F32: =Oljepris!B32-1 -> 70.32 | H32: =Kurdistan!H33*E32*Oljepris!D32*0.03 -> 6982016.9 | I32: =(C32*E32*Oljepris!D32*0.71*0.3-H32)*1.3666 -> 57121475 | J32: =D32*F32*Oljepris!D32*0.73 -> 32435122 | K32: =IF(G32<>0,G32+I32+J32,H32+I32+J32) -> 96538613 | M32: NCS: | N32: =SUM(J31:J33) -> 81421590
A33: 43617 | C33: =Kurdistan!R34 -> 127615 | D33: ='Norge-UK'!AA34 -> 12824.702 | E33: =Oljepris!B33-13.15 -> 51.07 | F33: =Oljepris!B33-1 -> 63.22 | H33: =Kurdistan!H34*E33*Oljepris!D33*0.03 -> 5813441.8 | I33: =(C33*E33*Oljepris!D33*0.71*0.3-H33)*1.3666 -> 48968138 | J33: =D33*F33*Oljepris!D33*0.73 -> 17756030 | K33: =IF(G33<>0,G33+I33+J33,H33+I33+J33) -> 72537610 | L33: =SUM(I31:I33)+SUM(J31:J33) -> 2.4219447e+08 | M33: =SUM(H31:H33) -> 19172757 | N33: =L33+M33 -> 2.6136723e+08 | O33: 265700000 | R33: =SUM(Kurdistan!H32:H34)/3 -> 125848.41 | S33: 126538
A34: 43647 | C34: =Kurdistan!R35 -> 120800 | D34: ='Norge-UK'!AA35 -> 15936.067 | E34: =Oljepris!B34-13.15 -> 50.77 | F34: =Oljepris!B34-1 -> 62.92 | H34: =Kurdistan!H35*E34*Oljepris!D34*0.03 -> 5852496.3 | I34: =(C34*E34*Oljepris!D34*0.71*0.3-H34)*1.51 -> 52312151 | J34: =D34*F34*Oljepris!D34*0.73 -> 22691041 | K34: =IF(G34<>0,G34+I34+J34,H34+I34+J34) -> 80855688 | M34: Kurdistan: | N34: =SUM(H34:I36) -> 1.6445387e+08 | O34: 164500000
A35: 43678 | C35: =Kurdistan!R36 -> 119700 | D35: ='Norge-UK'!AA36 -> 15471.026 | E35: =Oljepris!B35-13.15 -> 45.89 | F35: =Oljepris!B35-1 -> 58.04 | H35: =Kurdistan!H36*E35*Oljepris!D35*0.03 -> 5184156.7 | I35: =(C35*E35*Oljepris!D35*0.71*0.3-H35)*1.51 -> 46940374 | J35: =D35*F35*Oljepris!D35*0.73 -> 20320344 | K35: =IF(G35<>0,G35+I35+J35,H35+I35+J35) -> 72444875 | M35: NCS: | N35: =SUM(J34:J36) -> 60841896 | O35: 61700000
A36: 43709 | C36: =Kurdistan!R37 -> 118800 | D36: ='Norge-UK'!AA37 -> 13168.018 | E36: =Oljepris!B36-13.15 -> 49.68 | F36: =Oljepris!B36-1 -> 61.83 | H36: =Kurdistan!H37*E36*Oljepris!D36*0.03 -> 5456778.4 | I36: =(C36*E36*Oljepris!D36*0.71*0.3-H36)*1.51 -> 48707918 | J36: =D36*F36*Oljepris!D36*0.73 -> 17830511 | K36: =IF(G36<>0,G36+I36+J36,H36+I36+J36) -> 71995207 | L36: =SUM(I34:I36)+SUM(J34:J36) -> 2.0880234e+08 | M36: =SUM(H34:H36) -> 16493431 | N36: =L36+M36 -> 2.2529577e+08 | O36: 227000000 | R36: =SUM(Kurdistan!H35:H37)/3 -> 122488.79 | S36: 119800
A37: 43739 | C37: =Kurdistan!R38 -> 122000 | D37: ='Norge-UK'!AA38 -> 16564.684 | E37: =Oljepris!B37-13.15 -> 46.56 | F37: =Oljepris!B37-1 -> 58.71 | H37: =Kurdistan!H38*E37*Oljepris!D37*0.03 -> 5525266.9 | I37: =(C37*E37*Oljepris!D37*0.71*0.3-H37)*1.675 -> 53569659 | J37: =D37*F37*Oljepris!D37*0.77 -> 23213875 | K37: =IF(G37<>0,G37+I37+J37,H37+I37+J37) -> 82308801 | M37: Kurdistan: | N37: =SUM(H37:I39) -> 1.9060282e+08 | O37: 191100000
A38: 43770 | C38: =Kurdistan!R39 -> 122850 | D38: ='Norge-UK'!AA39 -> 18270.586 | E38: =Oljepris!B38-13.15 -> 50.06 | F38: =Oljepris!B38-1 -> 62.21 | H38: =Kurdistan!H39*E38*Oljepris!D38*0.03 -> 5791688.1 | I38: =(C38*E38*Oljepris!D38*0.71*0.3-H38)*1.675 -> 56122529 | J38: =D38*F38*Oljepris!D38*0.77 -> 26255764 | K38: =IF(G38<>0,G38+I38+J38,H38+I38+J38) -> 88169982 | M38: NCS: | N38: =SUM(J37:J39) -> 83300285 | O38: 83500000
A39: 43800 | C39: =Kurdistan!R40 -> 123530 | D39: ='Norge-UK'!AA40 -> 21373.657 | E39: =Oljepris!B39-13.15 -> 54.16 | F39: =Oljepris!B39-1 -> 66.31 | H39: =Kurdistan!H40*E39*Oljepris!D39*0.03 -> 6521697.9 | I39: =(C39*E39*Oljepris!D39*0.71*0.3-H39)*1.675 -> 63071979 | J39: =D39*F39*Oljepris!D39*0.77 -> 33830645 | K39: =IF(G39<>0,G39+I39+J39,H39+I39+J39) -> 1.0342432e+08 | L39: =SUM(I37:I39)+SUM(J37:J39) -> 2.5606445e+08 | M39: =SUM(H37:H39) -> 17838653 | N39: =L39+M39 -> 2.7390311e+08 | O39: =SUM(O37:O38) -> 274600000 | P39: =N30+N33+N36+N39 -> 9.9557282e+08 | Q39: =O39+O36+O33+O30 -> 971400000 | R39: =SUM(Kurdistan!H38:H40)/3 -> 128543.6 | S39: 122800 | T39: =SUM(C28:C39)/12 -> 123964.54
A40: 43831 | C40: =Kurdistan!R41 -> 117000 | D40: ='Norge-UK'!AA41 -> 15310.859 | E40: =Oljepris!B40-13.15 -> 50.68 | F40: =Oljepris!B40-1 -> 62.83 | H40: =Kurdistan!H41*E40*Oljepris!D40*0.03 -> 6121996.5 | I40: =(C40*E40*Oljepris!D40*0.71*0.3-H40)*1.714 -> 56614942 | J40: =D40*F40*Oljepris!D40*0.879 -> 26213027 | K40: =IF(G40<>0,G40+I40+J40,H40+I40+J40) -> 88949966 | M40: Kurdistan: | N40: =SUM(H40:I42) -> 1.3394174e+08 | O40: 134600000
...

Sheet Oljepris
A1: Oljepris | D1: Days in month
A2: https://www.eia.gov/dnav/pet/hist/LeafHandler.ashx?n=PET&s=RBRTE&f=M
A4: 42736 | B4: 54.58 | D4: 31 | F4: Estimat 2017 | H4: 60 | J4: Gj. Snitt 2017: | L4: =SUM(B4:B15)/12 -> 54.273333
A5: 42767 | B5: 54.87 | D5: 28 | F5: Estimat 2018 | H5: 55 | J5: Gj. Snitt 2018: | L5: =SUM(B16:B27)/12 -> 71.0225
A6: 42795 | B6: 51.9 | D6: 31 | F6: Estimat 2019 | H6: 64 | J6: Gj. Snitt 2019: | L6: =SUM(B28:B39)/12 -> 64.358333
A7: 42826 | B7: 52.31 | D7: 30 | F7: Estimat 2020 | H7: 54 | J7: Gj. Snitt 2020: | L7: =SUM(B40:B51)/12 -> 41.774167
A8: 42856 | B8: 50.33 | D8: 31 | F8: Estimat 2021 | H8: 67 | J8: Gj. Snitt 2021: | L8: =SUM(B52:B63)/12 -> 65.453333
A9: 42887 | B9: 46.37 | D9: 30 | F9: Estimat 2022 | H9: 65 | J9: Gj. Snitt 2022: | L9: =SUM(B64:B75)/12 -> 65
A10: 42917 | B10: 48.48 | D10: 31
A11: 42948 | B11: 51.7 | D11: 31
A12: 42979 | B12: 56.15 | D12: 30
A13: 43009 | B13: 57.51 | D13: 31
A14: 43040 | B14: 62.71 | D14: 30
A15: 43070 | B15: 64.37 | D15: 31 | H15: =SUM(B4:B15)/12 -> 54.273333
A16: 43101 | B16: 69.08 | D16: 31
A17: 43132 | B17: 65.32 | D17: 28
A18: 43160 | B18: 66.02 | D18: 31 | F18: =SUM(B16:B18)/3 -> 66.806667
A19: 43191 | B19: 72.11 | D19: 30
A20: 43221 | B20: 76.97 | D20: 31
A21: 43252 | B21: 74.41 | D21: 30 | F21: =SUM(B19:B21)/3 -> 74.496667
A22: 43282 | B22: 74.25 | D22: 31
A23: 43313 | B23: 72.53 | D23: 31
A24: 43344 | B24: 78.89 | D24: 30 | F24: =SUM(B22:B24)/3 -> 75.223333
A25: 43374 | B25: 81.03 | D25: 31
A26: 43405 | B26: 64.75 | D26: 30
A27: 43435 | B27: 56.91 | D27: 31 | F27: =SUM(B25:B27)/3 -> 67.563333 | H27: =SUM(B16:B27)/12 -> 71.0225
A28: 43466 | B28: 59.41 | D28: 31
A29: 43497 | B29: 63.96 | D29: 28
A30: 43525 | B30: 66.14 | D30: 31 | F30: =SUM(B28:B30)/3 -> 63.17
A31: 43556 | B31: 71.23 | D31: 30
A32: 43586 | B32: 71.32 | D32: 31
A33: 43617 | B33: 64.22 | D33: 30 | F33: =SUM(B31:B33)/3 -> 68.923333
A34: 43647 | B34: 63.92 | D34: 31
A35: 43678 | B35: 59.04 | D35: 31
A36: 43709 | B36: 62.83 | D36: 30 | F36: =SUM(B34:B36)/3 -> 61.93
A37: 43739 | B37: 59.71 | D37: 31
A38: 43770 | B38: 63.21 | D38: 30
A39: 43800 | B39: 67.31 | D39: 31 | F39: =SUM(B37:B39)/3 -> 63.41 | H39: =SUM(B28:B39)/12 -> 64.358333
A40: 43831 | B40: 63.83 | D40: 31
A41: 43862 | B41: 55.66 | D41: 29
...

Sheet Kurdistan
A1: Tawke | B1: Decline faktor: | C1: 0.02 | D1: Info | E1: Tawke cret | F1: Jeribe | G1: Peshkabir | J1: Erbil | K1: Decline faktor: | L1: 0.01 | M1: Info | N1: Reservoir 1 | O1: Reservoir 2
E2: 2500 | F2: 500 | G2: 7000 | N2: 3000 | O2: 3000
A3: Måned | B3: Forrige måned | C3: Ny inc. decline | D3: Ny produksjon | H3: Estimat | I3: Reell | K3: Forrige måned | L3: Decline | M3: Ny produksjon | P3: Estimat | Q3: Reell | R3: Sum
A5: 42736 | B5: 109546 | C5: =B5-(B5*$C$1) -> 107355.08 | D5: Ingen | E5: 0 | F5: 0 | G5: 0 | H5: =C5+(E5*$E$2)+(F5*$F$2) -> 107355.08 | I5: 112537 | K5: 0 | L5: =K5-(K5*$L$1) -> 0 | P5: =L5+(N5*$N$2)+(O5*$O$2) -> 0 | Q5: 0 | R5: =IF(I5=0,H5+P5,I5+Q5) -> 112537
A6: 42767 | B6: =IF(I5=0,H5,I5) -> 112537 | C6: =B6-(B6*$C$1) -> 110286.26 | D6: Ingen | E6: 0 | F6: 0 | G6: 0 | H6: =H5-(H5*$C$1)+(E6*$E$2)+(F6*$F$2) -> 105207.98 | I6: 110641 | K6: =IF(Q5=0,P5,Q5) -> 0 | L6: =K6-(K6*$L$1) -> 0 | P6: =L6+(N6*$N$2)+(O6*$O$2) -> 0 | R6: =IF(I6=0,H6+P6,I6+Q6) -> 110641
A7: 42795 | B7: =IF(I6=0,H6,I6) -> 110641 | C7: =B7-(B7*$C$1) -> 108428.18 | D7: Ingen | E7: 0 | F7: 0 | G7: 0 | H7: =H6-(H6*$C$1)+(E7*$E$2)+(F7*$F$2) -> 103103.82 | I7: 108513 | K7: =IF(Q6=0,P6,Q6) -> 0 | L7: =K7-(K7*$L$1) -> 0 | P7: =L7+(N7*$N$2)+(O7*$O$2) -> 0 | R7: =IF(I7=0,H7+P7,I7+Q7) -> 108513
A8: 42826 | B8: =IF(I7=0,H7,I7) -> 108513 | C8: =B8-(B8*$C$1) -> 106342.74 | D8: Ingen | E8: 0 | F8: 0 | G8: 0 | H8: =H7-(H7*$C$1)+(E8*$E$2)+(F8*$F$2) -> 101041.74 | I8: 108519 | K8: =IF(Q7=0,P7,Q7) -> 0 | L8: =K8-(K8*$L$1) -> 0 | P8: =L8+(N8*$N$2)+(O8*$O$2) -> 0 | R8: =IF(I8=0,H8+P8,I8+Q8) -> 108519
A9: 42856 | B9: =IF(I8=0,H8,I8) -> 108519 | C9: =B9-(B9*$C$1) -> 106348.62 | D9: Tawke 35 | E9: 1 | F9: 0 | G9: 0 | H9: =H8-(H8*$C$1)+(E9*$E$2)+(F9*$F$2) -> 101520.91 | I9: =IF(Estimat!G8=0,0,Estimat!G8/0.05/Oljepris!D8/(Oljepris!B8-12)) -> 107554.93 | K9: =IF(Q8=0,P8,Q8) -> 0 | L9: =K9-(K9*$L$1) -> 0 | P9: =L9+(N9*$N$2)+(O9*$O$2) -> 0 | R9: =IF(I9=0,H9+P9,I9+Q9) -> 107554.93
A10: 42887 | B10: =IF(I9=0,H9,I9) -> 107554.93 | C10: =B10-(B10*$C$1) -> 105403.84 | D10: Tawke 38, Tawke 39 | E10: 0 | F10: 2 | G10: 0 | H10: =H9-(H9*$C$1)+(E10*$E$2)+(F10*$F$2) -> 100490.49 | I10: =IF(Estimat!G9=0,0,Estimat!G9/0.05/Oljepris!D9/(Oljepris!B9-12)) -> 105660.27 | K10: =IF(Q9=0,P9,Q9) -> 0 | L10: =K10-(K10*$L$1) -> 0 | P10: =L10+(N10*$N$2)+(O10*$O$2) -> 0 | R10: =IF(I10=0,H10+P10,I10+Q10) -> 105660.27
A11: 42917 | B11: =IF(I10=0,H10,I10) -> 105660.27 | C11: =B11-(B11*$C$1) -> 103547.06 | D11: Tawke 42 | E11: 2 | F11: 0 | G11: 0 | H11: =H10-(H10*$C$1)+(E11*$E$2)+(F11*$F$2) -> 103480.68 | I11: =IF(Estimat!G10=0,0,Estimat!G10/0.05/Oljepris!D10/(Oljepris!B10-12)) -> 112521.51 | K11: =IF(Q10=0,P10,Q10) -> 0 | L11: =K11-(K11*$L$1) -> 0 | P11: =L11+(N11*$N$2)+(O11*$O$2) -> 0 | R11: =IF(I11=0,H11+P11,I11+Q11) -> 112521.51
A12: 42948 | B12: =IF(I11=0,H11,I11) -> 112521.51 | C12: =B12-(B12*$C$1) -> 110271.08 | D12: Tawke 41 | E12: 0 | F12: 0 | G12: 0 | H12: =H11-(H11*$C$1)+(E12*$E$2)+(F12*$F$2)+(G12*$G$2) -> 101411.07 | I12: =IF(Estimat!G11=0,0,Estimat!G11/0.03/Oljepris!D11/(Oljepris!B11-12)) -> 108881.12 | K12: =IF(Q11=0,P11,Q11) -> 0 | L12: =K12-(K12*$L$1) -> 0 | P12: =L12+(N12*$N$2)+(O12*$O$2) -> 0 | R12: =IF(I12=0,H12+P12,I12+Q12) -> 108881.12
A13: 42979 | B13: =IF(I12=0,H12,I12) -> 108881.12 | C13: =B13-(B13*$C$1) -> 106703.5 | D13: Tawke 43 | E13: 1 | F13: 0 | G13: 0 | H13: =H12-(H12*$C$1)+(E13*$E$2)+(F13*$F$2)+(G13*$G$2) -> 101882.84 | I13: =IF(Estimat!G12=0,0,Estimat!G12/0.03/Oljepris!D12/(Oljepris!B12-12)) -> 107378.03 | K13: =IF(Q12=0,P12,Q12) -> 0 | L13: =K13-(K13*$L$1) -> 0 | P13: =L13+(N13*$N$2)+(O13*$O$2) -> 0 | R13: =IF(I13=0,H13+P13,I13+Q13) -> 107378.03
A14: 43009 | B14: =IF(I13=0,H13,I13) -> 107378.03 | C14: =B14-(B14*$C$1) -> 105230.47 | D14: Tawke 45 | E14: 0 | F14: 1 | G14: 0 | H14: =H13-(H13*$C$1)+(E14*$E$2)+(F14*$F$2)+(G14*$G$2) -> 100345.19 | I14: =IF(Estimat!G13=0,0,Estimat!G13/0.03/Oljepris!D13/(Oljepris!B13-13.15)) -> 105927.07 | K14: =IF(Q13=0,P13,Q13) -> 0 | L14: =K14-(K14*$L$1) -> 0 | P14: =L14+(N14*$N$2)+(O14*$O$2) -> 0 | R14: =IF(I14=0,H14+P14,I14+Q14) -> 105927.07
A15: 43040 | B15: =IF(I14=0,H14,I14) -> 105927.07 | C15: =B15-(B15*$C$1) -> 103808.53 | D15: Tawke 46, 44 | E15: 1 | F15: 1 | G15: 0 | H15: =H14-(H14*$C$1)+(E15*$E$2)+(F15*$F$2)+(G15*$G$2) -> 101338.28 | I15: =IF(Estimat!G14=0,0,Estimat!G14/0.03/Oljepris!D14/(Oljepris!B14-13.15)) -> 105371.72 | K15: =IF(Q14=0,P14,Q14) -> 0 | L15: =K15-(K15*$L$1) -> 0 | P15: =L15+(N15*$N$2)+(O15*$O$2) -> 0 | R15: =IF(I15=0,H15+P15,I15+Q15) -> 105371.72
A16: 43070 | B16: =IF(I15=0,H15,I15) -> 105371.72 | C16: =B16-(B16*$C$1) -> 103264.28 | D16: Pesh 3 | E16: 0 | F16: 0 | G16: 1 | H16: =H15-(H15*$C$1)+(E16*$E$2)+(F16*$F$2)+(G16*$G$2) -> 106311.52 | I16: =IF(Estimat!G15=0,0,Estimat!G15/0.03/Oljepris!D15/(Oljepris!B15-13.15)) -> 110276.98 | K16: =IF(Q15=0,P15,Q15) -> 0 | L16: =K16-(K16*$L$1) -> 0 | P16: =L16+(N16*$N$2)+(O16*$O$2) -> 0 | R16: =IF(I16=0,H16+P16,I16+Q16) -> 110276.98
A17: 43101 | B17: =IF(I16=0,H16,I16) -> 110276.98 | C17: =B17-(B17*$C$1) -> 108071.44 | D17: Ingen | E17: 0 | F17: 0 | G17: 0 | H17: =H16-(H16*$C$1)+(E17*$E$2)+(F17*$F$2)+(G17*$G$2) -> 104185.29 | I17: =IF(Estimat!G16=0,0,Estimat!G16/0.03/Oljepris!D16/(Oljepris!B16-16.5)) -> 107158.78 | K17: =IF(Q16=0,P16,Q16) -> 0 | L17: =K17-(K17*$L$1) -> 0 | P17: =L17+(N17*$N$2)+(O17*$O$2) -> 0 | R17: =IF(I17=0,H17+P17,I17+Q17) -> 107158.78
A18: 43132 | B18: =IF(I17=0,H17,I17) -> 107158.78 | C18: =B18-(B18*$C$1) -> 105015.6 | D18: Ingen | E18: 0 | F18: 0 | G18: 0 | H18: =H17-(H17*$C$1)+(E18*$E$2)+(F18*$F$2)+(G18*$G$2) -> 102101.58 | I18: =IF(Estimat!G17=0,0,Estimat!G17/0.03/Oljepris!D17/(Oljepris!B17-13.15)) -> 102994.33 | K18: =IF(Q17=0,P17,Q17) -> 0 | L18: =K18-(K18*$L$1) -> 0 | P18: =L18+(N18*$N$2)+(O18*$O$2) -> 0 | R18: =IF(I18=0,H18+P18,I18+Q18) -> 102994.33
A19: 43160 | B19: =IF(I18=0,H18,I18) -> 102994.33 | C19: =B19-(B19*$C$1) -> 100934.45 | D19: Ingen | E19: 0 | H19: =H18-(H18*$C$1)+(E19*$E$2)+(F19*$F$2)+(G19*$G$2) -> 100059.55 | I19: =IF(Estimat!G18=0,0,Estimat!G18/0.03/Oljepris!D18/(Oljepris!B18-13.15)) -> 113485.91 | K19: =IF(Q18=0,P18,Q18) -> 0 | L19: =K19-(K19*$L$1) -> 0 | P19: =P18-(P18*$L$1)+(N19*$N$2)+(O19*$O$2) -> 0 | R19: =IF(I19=0,H19+P19,I19+Q19) -> 113485.91
A20: 43191 | B20: =IF(I19=0,H19,I19) -> 113485.91 | C20: =B20-(B20*$C$1) -> 111216.19 | D20: Tawke 48 | E20: 1 | F20: 0 | G20: 0 | H20: =H19-(H19*$C$1)+(E20*$E$2)+(F20*$F$2)+(G20*$G$2) -> 100558.36 | I20: =IF(Estimat!G19=0,0,Estimat!G19/0.03/Oljepris!D19/(Oljepris!B19-13.15)) -> 101952.36 | K20: =IF(Q19=0,P19,Q19) -> 0 | L20: =K20-(K20*$L$1) -> 0 | M20: Hawler 1A | N20: 0 | P20: =P19-(P19*$L$1)+(N20*$N$2)+(O20*$O$2) -> 0 | R20: =IF(I20=0,H20+P20,I20+Q20) -> 101952.36
A21: 43221 | B21: =IF(I20=0,H20,I20) -> 101952.36 | C21: =B21-(B21*$C$1) -> 99913.312 | D21: Ingen | E21: 0 | G21: 0 | H21: =H20-(H20*$C$1)+(E21*$E$2)+(F21*$F$2)+(G21*$G$2) -> 98547.192 | I21: =IF(Estimat!G20=0,0,Estimat!G20/0.03/Oljepris!D20/(Oljepris!B20-13.15)) -> 100922.28 | K21: =IF(Q20=0,P20,Q20) -> 0 | L21: =K21-(K21*$L$1) -> 0 | P21: =P20-(P20*$L$1)+(N21*$N$2)+(O21*$O$2) -> 0 | R21: =IF(I21=0,H21+P21,I21+Q21) -> 100922.28
A22: 43252 | B22: =IF(I21=0,H21,I21) -> 100922.28 | C22: =B22-(B22*$C$1) -> 98903.839 | D22: Ingen | E22: 0 | G22: 0 | H22: =H21-(H21*$C$1)+(E22*$E$2)+(F22*$F$2)+(G22*$G$2) -> 96576.249 | I22: =IF(Estimat!G21=0,0,Estimat!G21/0.03/Oljepris!D21/(Oljepris!B21-13.15)) -> 105016.87 | K22: =IF(Q21=0,P21,Q21) -> 0 | L22: =K22-(K22*$L$1) -> 0 | P22: =P21-(P21*$L$1)+(N22*$N$2)+(O22*$O$2) -> 0 | R22: =IF(I22=0,H22+P22,I22+Q22) -> 105016.87
A23: 43282 | B23: =IF(I22=0,H22,I22) -> 105016.87 | C23: =B23-(B23*$C$1) -> 102916.53 | D23: Ingen | E23: 0 | G23: 0 | H23: =H22-(H22*$C$1)+(E23*$E$2)+(F23*$F$2)+(G23*$G$2) -> 94644.724 | I23: =IF(Estimat!G22=0,0,Estimat!G22/0.03/Oljepris!D22/(Oljepris!B22-13.15)) -> 109286.73 | K23: =IF(Q22=0,P22,Q22) -> 0 | L23: =K23-(K23*$L$1) -> 0 | P23: =P22-(P22*$L$1)+(N23*$N$2)+(O23*$O$2) -> 0 | R23: =IF(I23=0,H23+P23,I23+Q23) -> 109286.73
A24: 43313 | B24: =IF(I23=0,H23,I23) -> 109286.73 | C24: =B24-(B24*$C$1) -> 107101 | D24: Pesh 4, 5 | F24: 0 | G24: 2 | H24: =H23-(H23*$C$1)+(E24*$E$2)+(F24*$F$2)+(G24*$G$2) -> 106751.83 | I24: =IF(Estimat!G23=0,0,Estimat!G23/0.03/Oljepris!D23/(Oljepris!B23-13.15)) -> 113176.66 | K24: =IF(Q23=0,P23,Q23) -> 0 | L24: =K24-(K24*$L$1) -> 0 | P24: =P23-(P23*$L$1)+(N24*$N$2)+(O24*$O$2) -> 0 | R24: =IF(I24=0,H24+P24,I24+Q24) -> 113176.66
A25: 43344 | B25: =IF(I24=0,H24,I24) -> 113176.66 | C25: =B25-(B25*$C$1) -> 110913.13 | D25: Pesh 7 | E25: 0 | G25: 1 | H25: =H24-(H24*$C$1)+(E25*$E$2)+(F25*$F$2)+(G25*$G$2) -> 111616.79 | I25: =IF(Estimat!G24=0,0,Estimat!G24/0.03/Oljepris!D24/(Oljepris!B24-13.15)) -> 116621.03 | K25: =IF(Q24=0,P24,Q24) -> 0 | L25: =K25-(K25*$L$1) -> 0 | P25: =P24-(P24*$L$1)+(N25*$N$2)+(O25*$O$2) -> 0 | R25: =IF(I25=0,H25+P25,I25+Q25) -> 116621.03
A26: 43374 | B26: =IF(I25=0,H25,I25) -> 116621.03 | C26: =B26-(B26*$C$1) -> 114288.61 | D26: Pesh 6, T-50, T-51 | E26: 0 | F26: 2 | G26: 1 | H26: =H25-(H25*$C$1)+(E26*$E$2)+(F26*$F$2)+(G26*$G$2) -> 117384.46 | I26: =IF(Estimat!G25=0,0,Estimat!G25/0.03/Oljepris!D25/(Oljepris!B25-13.15)) -> 126725.85 | K26: =IF(Q25=0,P25,Q25) -> 0 | L26: =K26-(K26*$L$1) -> 0 | P26: =P25-(P25*$L$1)+(N26*$N$2)+(O26*$O$2) -> 0 | R26: =IF(I26=0,H26+P26,I26+Q26) -> 126725.85
A27: 43405 | B27: =IF(I26=0,H26,I26) -> 126725.85 | C27: =B27-(B27*$C$1) -> 124191.33 | F27: 0 | G27: 0 | H27: =H26-(H26*$C$1)+(E27*$E$2)+(F27*$F$2)+(G27*$G$2) -> 115036.77 | I27: =IF(Estimat!G26=0,0,Estimat!G26/0.03/Oljepris!D26/(Oljepris!B26-13.15)) -> 127045.65 | K27: =IF(Q26=0,P26,Q26) -> 0 | L27: =K27-(K27*$L$1) -> 0 | P27: =P26-(P26*$L$1)+(N27*$N$2)+(O27*$O$2) -> 0 | R27: =IF(I27=0,H27+P27,I27+Q27) -> 127045.65
A28: 43435 | B28: =IF(I27=0,H27,I27) -> 127045.65 | C28: =B28-(B28*$C$1) -> 124504.74 | D28: Tawke 49 | E28: 1 | F28: 0 | H28: =H27-(H27*$C$1)+(E28*$E$2)+(F28*$F$2)+(G28*$G$2) -> 115236.03 | I28: =IF(Estimat!G27=0,0,Estimat!G27/0.03/Oljepris!D27/(Oljepris!B27-13.15)) -> 127774.17 | K28: =SUM(H26:H28)/3 -> 115885.75 | L28: =K28-(K28*$L$1) -> 114726.89 | M28: Hawler XX | N28: 0 | P28: =P27-(P27*$L$1)+(N28*$N$2)+(O28*$O$2) -> 0 | R28: =IF(I28=0,H28+P28,I28+Q28) -> 127774.17 | S28: =SUM(R17:R28)/12 -> 112680.05
A29: 43466 | B29: =IF(I28=0,H28,I28) -> 127774.17 | C29: =B29-(B29*$C$1) -> 125218.69 | D29: Pesh 8 | F29: 0 | G29: 1 | H29: =H28-(H28*$C$1)+(E29*$E$2)+(F29*$F$2)+(G29*$G$2) -> 119931.31 | I29: =IF(Estimat!G28=0,0,Estimat!G28/0.03/Oljepris!D28/(Oljepris!B28-13.15)) -> 128539.48 | K29: =IF(Q28=0,P28,Q28) -> 0 | L29: =K29-(K29*$L$1) -> 0 | P29: =P28-(P28*$L$1)+(N29*$N$2)+(O29*$O$2) -> 0 | R29: =IF(I29=0,H29+P29,I29+Q29) -> 128539.48
A30: 43497 | B30: =IF(I29=0,H29,I29) -> 128539.48 | C30: =B30-(B30*$C$1) -> 125968.69 | D30: Tawke 52, Pesh 9 | E30: 1 | G30: 1 | H30: =H29-(H29*$C$1)+(E30*$E$2)+(F30*$F$2)+(G30*$G$2) -> 127032.69 | I30: 126500 | K30: =IF(Q29=0,P29,Q29) -> 0 | L30: =K30-(K30*$L$1) -> 0 | P30: =P29-(P29*$L$1)+(N30*$N$2)+(O30*$O$2) -> 0 | R30: =IF(I30=0,H30+P30,I30+Q30) -> 126500
A31: 43525 | B31: =IF(I30=0,H30,I30) -> 126500 | C31: =B31-(B31*$C$1) -> 123970 | D31: Ingen | H31: =H30-(H30*$C$1)+(E31*$E$2)+(F31*$F$2)+(G31*$G$2) -> 124492.03 | I31: 125240 | K31: =IF(Q30=0,P30,Q30) -> 0 | L31: =K31-(K31*$L$1) -> 0 | P31: =P30-(P30*$L$1)+(N31*$N$2)+(O31*$O$2) -> 0 | R31: =IF(I31=0,H31+P31,I31+Q31) -> 125240 | T31: =SUM(R29:R31)/3 -> 126759.83
A32: 43556 | B32: =IF(I31=0,H31,I31) -> 125240 | C32: =B32-(B32*$C$1) -> 122735.2 | D32: Ingen | G32: 0 | H32: =H31-(H31*$C$1)+(E32*$E$2)+(F32*$F$2)+(G32*$G$2) -> 122002.19 | I32: 125000 | K32: =IF(Q31=0,P31,Q31) -> 0 | L32: =K32-(K32*$L$1) -> 0 | P32: =P31-(P31*$L$1)+(N32*$N$2)+(O32*$O$2) -> 0 | R32: =IF(I32=0,H32+P32,I32+Q32) -> 125000
A33: 43586 | B33: =IF(I32=0,H32,I32) -> 125000 | C33: =B33-(B33*$C$1) -> 122500 | D33: Tawke xx, Pesh 10 | E33: 1 | G33: 1 | H33: =H32-(H32*$C$1)+(E33*$E$2)+(F33*$F$2)+(G33*$G$2) -> 129062.15 | I33: 127000 | K33: =IF(Q32=0,P32,Q32) -> 0 | L33: =K33-(K33*$L$1) -> 0 | P33: =P32-(P32*$L$1)+(N33*$N$2)+(O33*$O$2) -> 0 | R33: =IF(I33=0,H33+P33,I33+Q33) -> 127000
A34: 43617 | B34: =IF(I33=0,H33,I33) -> 127000 | C34: =B34-(B34*$C$1) -> 124460 | D34: Ingen | H34: =H33-(H33*$C$1)+(E34*$E$2)+(F34*$F$2)+(G34*$G$2) -> 126480.9 | I34: 127615 | K34: =IF(Q33=0,P33,Q33) -> 0 | L34: =K34-(K34*$L$1) -> 0 | P34: =P33-(P33*$L$1)+(N34*$N$2)+(O34*$O$2) -> 0 | R34: =IF(I34=0,H34+P34,I34+Q34) -> 127615 | T34: =SUM(R32:R34)/3 -> 126538.33
A35: 43647 | B35: =IF(I34=0,H34,I34) -> 127615 | C35: =B35-(B35*$C$1) -> 125062.7 | D35: Ingen | H35: =H34-(H34*$C$1)+(E35*$E$2)+(F35*$F$2)+(G35*$G$2) -> 123951.29 | I35: 120800 | K35: =IF(Q34=0,P34,Q34) -> 0 | L35: =K35-(K35*$L$1) -> 0 | P35: =P34-(P34*$L$1)+(N35*$N$2)+(O35*$O$2) -> 0 | R35: =IF(I35=0,H35+P35,I35+Q35) -> 120800
A36: 43678 | B36: =IF(I35=0,H35,I35) -> 120800 | C36: =B36-(B36*$C$1) -> 118384 | D36: Ingen | H36: =H35-(H35*$C$1)+(E36*$E$2)+(F36*$F$2)+(G36*$G$2) -> 121472.26 | I36: 119700 | K36: =IF(Q35=0,P35,Q35) -> 0 | L36: =K36-(K36*$L$1) -> 0 | P36: =P35-(P35*$L$1)+(N36*$N$2)+(O36*$O$2) -> 0 | R36: =IF(I36=0,H36+P36,I36+Q36) -> 119700
A37: 43709 | B37: =IF(I36=0,H36,I36) -> 119700 | C37: =B37-(B37*$C$1) -> 117306 | D37: Tawke 56 NE, Pesh 12 | E37: 1 | F37: 1 | H37: =H36-(H36*$C$1)+(E37*$E$2)+(F37*$F$2)+(G37*$G$2) -> 122042.82 | I37: 118800 | K37: =IF(Q36=0,P36,Q36) -> 0 | L37: =K37-(K37*$L$1) -> 0 | P37: =P36-(P36*$L$1)+(N37*$N$2)+(O37*$O$2) -> 0 | R37: =IF(I37=0,H37+P37,I37+Q37) -> 118800
A38: 43739 | B38: =IF(I37=0,H37,I37) -> 118800 | C38: =B38-(B38*$C$1) -> 116424 | D38: Pesh 11 | F38: 2 | G38: 1 | H38: =H37-(H37*$C$1)+(E38*$E$2)+(F38*$F$2)+(G38*$G$2) -> 127601.96 | I38: 122000 | K38: =IF(Q37=0,P37,Q37) -> 0 | L38: =K38-(K38*$L$1) -> 0 | M38: Hawler XX | N38: 0 | P38: =P37-(P37*$L$1)+(N38*$N$2)+(O38*$O$2) -> 0 | R38: =IF(I38=0,H38+P38,I38+Q38) -> 122000
A39: 43770 | B39: =IF(I38=0,H38,I38) -> 122000 | C39: =B39-(B39*$C$1) -> 119560 | D39: Tawke 58 | E39: 1 | F39: 2 | H39: =H38-(H38*$C$1)+(E39*$E$2)+(F39*$F$2)+(G39*$G$2) -> 128549.92 | I39: 122850 | K39: =IF(Q38=0,P38,Q38) -> 0 | L39: =K39-(K39*$L$1) -> 0 | P39: =P38-(P38*$L$1)+(N39*$N$2)+(O39*$O$2) -> 0 | R39: =IF(I39=0,H39+P39,I39+Q39) -> 122850
A40: 43800 | B40: =IF(I39=0,H39,I39) -> 122850 | C40: =B40-(B40*$C$1) -> 120393 | D40: Tawke 59 | E40: 1 | F40: 2 | H40: =H39-(H39*$C$1)+(E40*$E$2)+(F40*$F$2)+(G40*$G$2) -> 129478.92 | I40: 123530 | K40: =IF(Q39=0,P39,Q39) -> 0 | L40: =K40-(K40*$L$1) -> 0 | P40: =P39-(P39*$L$1)+(N40*$N$2)+(O40*$O$2) -> 0 | R40: =IF(I40=0,H40+P40,I40+Q40) -> 123530 | S40: =SUM(R29:R40)/12 -> 123964.54
A41: 43831 | B41: =IF(I40=0,H40,I40) -> 123530 | C41: =B41-(B41*$C$1) -> 121059.4 | D41: Tawke 56 NE, Pesh 12 | E41: 1 | F41: 1 | H41: =H40-(H40*$C$1)+(E41*$E$2)+(F41*$F$2)+(G41*$G$2) -> 129889.34 | I41: 117000 | K41: =IF(Q40=0,P40,Q40) -> 0 | L41: =K41-(K41*$L$1) -> 0 | P41: =P40-(P40*$L$1)+(N41*$N$2)+(O41*$O$2) -> 0 | R41: =IF(I41=0,H41+P41,I41+Q41) -> 117000
...

Sheet Norge-UK
A1: Norge-UK | C1: 0.004 | D1: Felt | E1: Ula | G1: Vilje | I1: Enoch | K1: Brage | M1: Tambar | O1: Ringhorne Øst | Q1: Alve | S1: Marulk | U1: Blane | W1: Oda | Y1: Trym
D2: Eierandel / Decline faktor: | E2: 0.2 | F2: -0.01 | G2: 0.28853 | H2: 0.01 | I2: 0.1386 | J2: 0.01 | K2: 0.142567 | L2: 0.01 | M2: 0.45 | N2: 0.03 | O2: 0.2262 | P2: 0.015 | Q2: 0.32 | R2: 0.04 | S2: 0.17 | T2: 0.01 | U2: 0.444982 | V2: 0.01 | W2: 0.15 | X2: 0.001 | Y2: 0.5 | Z2: 0.01 | AA2: 0
A3: Måned | B3: Forrige måned | C3: Ny inc. decline | D3: Comments | E3: Sm3 totalt | F3: boed | G3: Sm3 totalt | H3: boed | I3: Sm3 totalt | J3: boed | K3: Sm3 totalt | L3: boed | M3: Sm3 totalt | N3: boed | O3: Sm3 totalt | P3: boed | Q3: Sm3 totalt | R3: boed | S3: Sm3 totalt | T3: boed | U3: Sm3 totalt | V3: boed | W3: Sm3 totalt | X3: boed | Y3: Sm3 totalt | Z3: boed | AA3: NCS | AB3: Estimat | AC3: Reell
A5: 42736 | B5: 0 | C5: =B5-(B5*$C$1) -> 0 | X5: 0 | AA5: 0 | AB5: =C5+(X5*$X$2)+(AA5*$AA$2) -> 0
A6: 42767 | B6: =IF(AC5=0,AB5,AC5) -> 0 | C6: =B6-(B6*$C$1) -> 0 | AB6: =C6+(X6*$X$2)+(AA6*$AA$2) -> 0
A7: 42795 | B7: =IF(AC6=0,AB6,AC6) -> 0 | C7: =B7-(B7*$C$1) -> 0 | AB7: =C7+(X7*$X$2)+(AA7*$AA$2) -> 0
A8: 42826 | B8: =IF(AC7=0,AB7,AC7) -> 0 | C8: =B8-(B8*$C$1) -> 0 | AB8: =C8+(X8*$X$2)+(AA8*$AA$2) -> 0
A9: 42856 | B9: =IF(AC8=0,AB8,AC8) -> 0 | C9: =B9-(B9*$C$1) -> 0 | AB9: =C9+(X9*$X$2)+(AA9*$AA$2) -> 0
A10: 42887 | B10: =IF(AC9=0,AB9,AC9) -> 0 | C10: =B10-(B10*$C$1) -> 0 | AB10: =C10+(X10*$X$2)+(AA10*$AA$2) -> 0
A11: 42917 | B11: =IF(AC10=0,AB10,AC10) -> 0 | C11: =B11-(B11*$C$1) -> 0 | AB11: =C11+(X11*$X$2)+(AA11*$AA$2) -> 0
A12: 42948 | B12: =IF(AC11=0,AB11,AC11) -> 0 | C12: =B12-(B12*$C$1) -> 0 | AB12: =C12+(X12*$X$2)+(AA12*$AA$2) -> 0
A13: 42979 | B13: =IF(AC12=0,AB12,AC12) -> 0 | C13: =B13-(B13*$C$1) -> 0 | AB13: =C13+(X13*$X$2)+(AA13*$AA$2) -> 0
A14: 43009 | B14: =IF(AC13=0,AB13,AC13) -> 0 | C14: =B14-(B14*$C$1) -> 0 | AB14: =C14+(X14*$X$2)+(AA14*$AA$2) -> 0
A15: 43040 | B15: =IF(AC14=0,AB14,AC14) -> 0 | C15: =B15-(B15*$C$1) -> 0 | AB15: =C15+(X15*$X$2)+(AA15*$AA$2) -> 0
A16: 43070 | B16: =IF(AC15=0,AB15,AC15) -> 0 | C16: =B16-(B16*$C$1) -> 0 | AB16: =C16+(X16*$X$2)+(AA16*$AA$2) -> 0 | AD16: =SUM(AB5:AB16)/12 -> 0
A17: 43101 | B17: =IF(AC16=0,AB16,AC16) -> 0 | C17: =B17-(B17*$C$1) -> 0 | AB17: =C17+(X17*$X$2)+(AA17*$AA$2) -> 0
A18: 43132 | B18: =IF(AC17=0,AB17,AC17) -> 0 | C18: =B18-(B18*$C$1) -> 0 | AB18: =C18+(X18*$X$2)+(AA18*$AA$2) -> 0
A19: 43160 | B19: =IF(AC18=0,AB18,AC18) -> 0 | C19: =B19-(B19*$C$1) -> 0 | AB19: =C19+(X19*$X$2)+(AA19*$AA$2) -> 0
A20: 43191 | B20: =IF(AC19=0,AB19,AC19) -> 0 | C20: =B20-(B20*$C$1) -> 0 | AB20: =C20+(X20*$X$2)+(AA20*$AA$2) -> 0
A21: 43221 | B21: =IF(AC20=0,AB20,AC20) -> 0 | C21: =B21-(B21*$C$1) -> 0 | AB21: =C21+(X21*$X$2)+(AA21*$AA$2) -> 0
A22: 43252 | B22: =IF(AC21=0,AB21,AC21) -> 0 | C22: =B22-(B22*$C$1) -> 0 | AB22: =C22+(X22*$X$2)+(AA22*$AA$2) -> 0
A23: 43282 | B23: =IF(AC22=0,AB22,AC22) -> 0 | C23: =B23-(B23*$C$1) -> 0 | AB23: =C23+(X23*$X$2)+(AA23*$AA$2) -> 0
A24: 43313 | B24: =IF(AC23=0,AB23,AC23) -> 0 | C24: =B24-(B24*$C$1) -> 0 | AB24: =C24+(X24*$X$2)+(AA24*$AA$2) -> 0
A25: 43344 | B25: =IF(AC24=0,AB24,AC24) -> 0 | C25: =B25-(B25*$C$1) -> 0 | AB25: =C25+(X25*$X$2)+(AA25*$AA$2) -> 0
A26: 43374 | B26: =IF(AC25=0,AB25,AC25) -> 0 | C26: =B26-(B26*$C$1) -> 0 | AB26: =C26+(X26*$X$2)+(AA26*$AA$2) -> 0
A27: 43405 | B27: =IF(AC26=0,AB26,AC26) -> 0 | C27: =B27-(B27*$C$1) -> 0 | AB27: =C27+(X27*$X$2)+(AA27*$AA$2) -> 0
A28: 43435 | B28: =IF(AC27=0,AB27,AC27) -> 0 | C28: =B28-(B28*$C$1) -> 0 | AB28: 18100
A29: 43466 | B29: =IF(AC28=0,AB28,AC28) -> 18100 | C29: =B29-(B29*$C$1) -> 18027.6 | E29: 34585 | F29: =(E29*6.2898)/Oljepris!D28*'Norge-UK'!$E$2 -> 1403.437 | G29: 36132 | H29: =IF(G29>0,G29*6.2898*$G$2/Oljepris!D28,H28-H28*$H$2) -> 2115.2325 | I29: 1059 | J29: =IF(I29>0,I29/0.2*6.2898*I$2/Oljepris!$D28,J28-J28*J$2) -> 148.9033 | K29: 46712 | L29: =IF(K29>0,K29*6.2898*K$2/Oljepris!$D28,L28-L28*L$2) -> 1351.2093 | M29: 19622 | N29: =IF(M29>0,M29*6.2898*M$2/Oljepris!$D28,N28-N28*N$2) -> 1791.5582 | O29: 25905 | P29: =IF(O29>0,O29*6.2898*O$2/Oljepris!$D28,P28-P28*P$2) -> 1188.9165 | Q29: 79555 | R29: =IF(Q29>0,Q29*6.2898*Q$2/Oljepris!$D28,R28-R28*R$2) -> 5165.2649 | S29: 62251 | T29: =IF(S29>0,S29*6.2898*S$2/Oljepris!$D28,T28-T28*T$2) -> 2147.1896 | U29: 1409 | V29: =IF(U29>0,U29/0.18*6.2898*U$2/Oljepris!$D28,V28-V28*V$2) -> 706.73414 | W29: 0 | X29: =IF(W29>0,W29*6.2898*W$2/Oljepris!$D28,X28-X28*X$2) -> 0 | Y29: 19592 | Z29: =IF(Y29>0,Y29*6.2898*Y$2/Oljepris!$D28,Z28-Z28*Z$2) -> 1987.5768 | AA29: =Z29+X29+V29+T29+R29+P29+N29+L29+J29+H29+F29 -> 18006.022 | AB29: =AA29 -> 18006.022 | AC29: =AA29 -> 18006.022
A30: 43497 | B30: =IF(AC29=0,AB29,AC29) -> 18006.022 | C30: =B30-(B30*$C$1) -> 17933.998 | E30: 30319 | F30: =(E30*6.2898)/Oljepris!D29*'Norge-UK'!$E$2 -> 1362.146 | G30: 36861 | H30: =IF(G30>0,G30*6.2898*$G$2/Oljepris!D29,H29-H29*$H$2) -> 2389.1141 | I30: 1150 | J30: =IF(I30>0,I30/0.2*6.2898*I$2/Oljepris!$D29,J29-J29*J$2) -> 179.02343 | K30: 44133 | L30: =IF(K30>0,K30*6.2898*K$2/Oljepris!$D29,L29-L29*L$2) -> 1413.3876 | M30: 10716 | N30: =IF(M30>0,M30*6.2898*M$2/Oljepris!$D29,N29-N29*N$2) -> 1083.2383 | O30: 26362 | P30: =IF(O30>0,O30*6.2898*O$2/Oljepris!$D29,P29-P29*P$2) -> 1339.5217 | Q30: 75450 | R30: =IF(Q30>0,Q30*6.2898*Q$2/Oljepris!$D29,R29-R29*R$2) -> 5423.6047 | S30: 55869 | T30: =IF(S30>0,S30*6.2898*S$2/Oljepris!$D29,T29-T29*T$2) -> 2133.5294 | U30: 1429 | V30: =IF(U30>0,U30/0.18*6.2898*U$2/Oljepris!$D29,V29-V29*V$2) -> 793.5622 | W30: 0 | X30: =IF(W30>0,W30*6.2898*W$2/Oljepris!$D29,X29-X29*X$2) -> 0 | Y30: 24126 | Z30: =IF(Y30>0,Y30*6.2898*Y$2/Oljepris!$D29,Z29-Z29*Z$2) -> 2709.7806 | AA30: =Z30+X30+V30+T30+R30+P30+N30+L30+J30+H30+F30 -> 18826.908 | AB30: =AA30 -> 18826.908 | AC30: =AA30 -> 18826.908
A31: 43525 | B31: =IF(AC30=0,AB30,AC30) -> 18826.908 | C31: =B31-(B31*$C$1) -> 18751.6 | D31: Oda i produksjon | E31: 41744 | F31: =(E31*6.2898)/Oljepris!D30*'Norge-UK'!$E$2 -> 1693.9446 | G31: 43395 | H31: =IF(G31>0,G31*6.2898*$G$2/Oljepris!D30,H30-H30*$H$2) -> 2540.4217 | I31: 1360 | J31: =IF(I31>0,I31/0.2*6.2898*I$2/Oljepris!$D30,J30-J30*J$2) -> 191.22615 | K31: 46566 | L31: =IF(K31>0,K31*6.2898*K$2/Oljepris!$D30,L30-L30*L$2) -> 1346.986 | M31: 20630 | N31: =IF(M31>0,M31*6.2898*M$2/Oljepris!$D30,N30-N30*N$2) -> 1883.5922 | O31: 26663 | P31: =IF(O31>0,O31*6.2898*O$2/Oljepris!$D30,P30-P30*P$2) -> 1223.7051 | Q31: 82653 | R31: =IF(Q31>0,Q31*6.2898*Q$2/Oljepris!$D30,R30-R30*R$2) -> 5366.4087 | S31: 23596 | T31: =IF(S31>0,S31*6.2898*S$2/Oljepris!$D30,T30-T30*T$2) -> 813.88389 | U31: 1050 | V31: =IF(U31>0,U31/0.18*6.2898*U$2/Oljepris!$D30,V30-V30*V$2) -> 526.66491 | W31: 11443 | X31: =IF(W31>0,W31*6.2898*W$2/Oljepris!$D30,X30-X30*X$2) -> 348.26217 | Y31: 24656 | Z31: =IF(Y31>0,Y31*6.2898*Y$2/Oljepris!$D30,Z30-Z30*Z$2) -> 2501.3114 | AA31: =Z31+X31+V31+T31+R31+P31+N31+L31+J31+H31+F31 -> 18436.407 | AB31: =AA31 -> 18436.407 | AC31: =AA31 -> 18436.407
A32: 43556 | B32: =IF(AC31=0,AB31,AC31) -> 18436.407 | C32: =B32-(B32*$C$1) -> 18362.661 | E32: 29332 | F32: =(E32*6.2898)/Oljepris!D31*'Norge-UK'!$E$2 -> 1229.9494 | G32: 36901 | H32: =IF(G32>0,G32*6.2898*$G$2/Oljepris!D31,H31-H31*$H$2) -> 2232.2596 | I32: 0.01 | J32: =IF(I32>0,I32/0.2*6.2898*I$2/Oljepris!$D31,J31-J31*J$2) -> 0.0014529438 | K32: 53730 | L32: =IF(K32>0,K32*6.2898*K$2/Oljepris!$D31,L31-L31*L$2) -> 1606.0218 | M32: 19621 | N32: =IF(M32>0,M32*6.2898*M$2/Oljepris!$D31,N31-N31*N$2) -> 1851.1825 | O32: 27832 | P32: =IF(O32>0,O32*6.2898*O$2/Oljepris!$D31,P31-P31*P$2) -> 1319.9352 | Q32: 78564 | R32: =IF(Q32>0,Q32*6.2898*Q$2/Oljepris!$D31,R31-R31*R$2) -> 5270.953 | S32: 30358 | T32: =IF(S32>0,S32*6.2898*S$2/Oljepris!$D31,T31-T31*T$2) -> 1082.0259 | U32: 1429 | V32: =IF(U32>0,U32/0.18*6.2898*U$2/Oljepris!$D31,V31-V31*V$2) -> 740.65805 | W32: 93840 | X32: =IF(W32>0,W32*6.2898*W$2/Oljepris!$D31,X31-X31*X$2) -> 2951.1742 | Y32: 19281 | Z32: =IF(Y32>0,Y32*6.2898*Y$2/Oljepris!$D31,Z31-Z31*Z$2) -> 2021.2272 | AA32: =Z32+X32+V32+T32+R32+P32+N32+L32+J32+H32+F32 -> 20305.388 | AB32: =AA32 -> 20305.388 | AC32: =AA32 -> 20305.388
A33: 43586 | B33: =IF(AC32=0,AB32,AC32) -> 20305.388 | C33: =B33-(B33*$C$1) -> 20224.167 | E33: 26525 | F33: =(E33*6.2898)/Oljepris!D32*'Norge-UK'!$E$2 -> 1076.3674 | G33: 32146 | H33: =IF(G33>0,G33*6.2898*$G$2/Oljepris!D32,H32-H32*$H$2) -> 1881.8849 | I33: 0 | J33: =IF(I33>0,I33/0.2*6.2898*I$2/Oljepris!$D32,J32-J32*J$2) -> 0.0014384144 | K33: 54173 | L33: =IF(K33>0,K33*6.2898*K$2/Oljepris!$D32,L32-L32*L$2) -> 1567.029 | M33: 14743 | N33: =IF(M33>0,M33*6.2898*M$2/Oljepris!$D32,N32-N32*N$2) -> 1346.0882 | O33: 23735 | P33: =IF(O33>0,O33*6.2898*O$2/Oljepris!$D32,P32-P32*P$2) -> 1089.3238 | Q33: 80328 | R33: =IF(Q33>0,Q33*6.2898*Q$2/Oljepris!$D32,R32-R32*R$2) -> 5215.4535 | S33: 57559 | T33: =IF(S33>0,S33*6.2898*S$2/Oljepris!$D32,T32-T32*T$2) -> 1985.351 | U33: 1414 | V33: =IF(U33>0,U33/0.18*6.2898*U$2/Oljepris!$D32,V32-V32*V$2) -> 709.24207 | W33: 104594 | X33: =IF(W33>0,W33*6.2898*W$2/Oljepris!$D32,X32-X32*X$2) -> 3183.2678 | Y33: 22950 | Z33: =IF(Y33>0,Y33*6.2898*Y$2/Oljepris!$D32,Z32-Z32*Z$2) -> 2328.2405 | AA33: =Z33+X33+V33+T33+R33+P33+N33+L33+J33+H33+F33 -> 20382.25 | AB33: =AA33 -> 20382.25 | AC33: =AA33 -> 20382.25
A34: 43617 | B34: =IF(AC33=0,AB33,AC33) -> 20382.25 | C34: =B34-(B34*$C$1) -> 20300.721 | E34: 0.001 | F34: =IF(E34>0,E34*6.2898*$E$2/Oljepris!D33,F33-F33*$F$2) -> 4.1932e-05 | G34: 4134 | H34: =IF(G34>0,G34*6.2898*$G$2/Oljepris!D33,H33-H33*$H$2) -> 250.07889 | I34: 1513 | J34: =IF(I34>0,I34/0.2*6.2898*I$2/Oljepris!$D33,J33-J33*J$2) -> 219.8304 | K34: 68676 | L34: =IF(K34>0,K34*6.2898*K$2/Oljepris!$D33,L33-L33*L$2) -> 2052.7667 | M34: 0.001 | N34: =IF(M34>0,M34*6.2898*M$2/Oljepris!$D33,N33-N33*N$2) -> 9.4347e-05 | O34: 19151 | P34: =IF(O34>0,O34*6.2898*O$2/Oljepris!$D33,P33-P33*P$2) -> 908.23794 | Q34: 78401 | R34: =IF(Q34>0,Q34*6.2898*Q$2/Oljepris!$D33,R33-R33*R$2) -> 5260.0172 | S34: 52862 | T34: =IF(S34>0,S34*6.2898*S$2/Oljepris!$D33,T33-T33*T$2) -> 1884.118 | U34: 0.001 | V34: =IF(U34>0,U34/0.18*6.2898*U$2/Oljepris!$D33,V33-V33*V$2) -> 0.00051830515 | W34: 0.001 | X34: =IF(W34>0,W34*6.2898*W$2/Oljepris!$D33,X33-X33*X$2) -> 3.1449e-05 | Y34: 21460 | Z34: =IF(Y34>0,Y34*6.2898*Y$2/Oljepris!$D33,Z33-Z33*Z$2) -> 2249.6518 | AA34: =Z34+X34+V34+T34+R34+P34+N34+L34+J34+H34+F34 -> 12824.702 | AB34: =C34 -> 20300.721 | AC34: =AA34 -> 12824.702 | AD34: =SUM(AC32:AC34)/3 -> 17837.446
A35: 43647 | B35: =IF(AC34=0,AB34,AC34) -> 12824.702 | C35: =B35-(B35*$C$1) -> 12773.403 | E35: 29153 | F35: =IF(E35>0,E35*6.2898*$E$2/Oljepris!D34,F34-F34*$F$2) -> 1183.0099 | G35: 0.0001 | H35: =IF(G35>0,G35*6.2898*$G$2/Oljepris!D34,H34-H34*$H$2) -> 5.8541806e-06 | I35: 0.0001 | J35: =IF(I35>0,I35/0.2*6.2898*I$2/Oljepris!$D34,J34-J34*J$2) -> 1.4060746e-05 | K35: 59146 | L35: =IF(K35>0,K35*6.2898*K$2/Oljepris!$D34,L34-L34*L$2) -> 1710.8799 | M35: 17102 | N35: =IF(M35>0,M35*6.2898*M$2/Oljepris!$D34,N34-N34*N$2) -> 1561.4733 | O35: 23623 | P35: =IF(O35>0,O35*6.2898*O$2/Oljepris!$D34,P34-P34*P$2) -> 1084.1835 | Q35: 69680 | R35: =IF(Q35>0,Q35*6.2898*Q$2/Oljepris!$D34,R34-R34*R$2) -> 4524.1111 | S35: 28369 | T35: =IF(S35>0,S35*6.2898*S$2/Oljepris!$D34,T34-T34*T$2) -> 978.51636 | U35: 1307 | V35: =IF(U35>0,U35/0.18*6.2898*U$2/Oljepris!$D34,V34-V34*V$2) -> 655.57241 | W35: 64297 | X35: =IF(W35>0,W35*6.2898*W$2/Oljepris!$D34,X34-X34*X$2) -> 1956.8481 | Y35: 22489 | Z35: =IF(Y35>0,Y35*6.2898*Y$2/Oljepris!$D34,Z34-Z34*Z$2) -> 2281.4728 | AA35: =Z35+X35+V35+T35+R35+P35+N35+L35+J35+H35+F35 -> 15936.067 | AB35: =C35 -> 12773.403 | AC35: =AA35 -> 15936.067
A36: 43678 | B36: =IF(AC35=0,AB35,AC35) -> 15936.067 | C36: =B36-(B36*$C$1) -> 15872.323 | E36: 28217 | F36: =IF(E36>0,E36*6.2898*$E$2/Oljepris!D35,F35-F35*$F$2) -> 1145.0277 | G36: 0 | H36: =IF(G36>0,G36*6.2898*$G$2/Oljepris!D35,H35-H35*$H$2) -> 5.7956388e-06 | I36: 140 | J36: =IF(I36>0,I36/0.2*6.2898*I$2/Oljepris!$D35,J35-J35*J$2) -> 19.685045 | K36: 55839 | L36: =IF(K36>0,K36*6.2898*K$2/Oljepris!$D35,L35-L35*L$2) -> 1615.2204 | M36: 18553 | N36: =IF(M36>0,M36*6.2898*M$2/Oljepris!$D35,N35-N35*N$2) -> 1693.9547 | O36: 7892 | P36: =IF(O36>0,O36*6.2898*O$2/Oljepris!$D35,P35-P35*P$2) -> 362.20532 | Q36: 72842 | R36: =IF(Q36>0,Q36*6.2898*Q$2/Oljepris!$D35,R35-R35*R$2) -> 4729.4102 | S36: 45409 | T36: =IF(S36>0,S36*6.2898*S$2/Oljepris!$D35,T35-T35*T$2) -> 1566.2677 | U36: 1420 | V36: =IF(U36>0,U36/0.18*6.2898*U$2/Oljepris!$D35,V35-V35*V$2) -> 712.25159 | W36: 48054 | X36: =IF(W36>0,W36*6.2898*W$2/Oljepris!$D35,X35-X35*X$2) -> 1462.5002 | Y36: 21336 | Z36: =IF(Y36>0,Y36*6.2898*Y$2/Oljepris!$D35,Z35-Z35*Z$2) -> 2164.5028 | AA36: =Z36+X36+V36+T36+R36+P36+N36+L36+J36+H36+F36 -> 15471.026 | AB36: =C36 -> 15872.323 | AC36: =AA36 -> 15471.026
A37: 43709 | B37: =IF(AC36=0,AB36,AC36) -> 15471.026 | C37: =B37-(B37*$C$1) -> 15409.142 | E37: 32214 | F37: =IF(E37>0,E37*6.2898*$E$2/Oljepris!D36,F36-F36*$F$2) -> 1350.7974 | G37: 0 | H37: =IF(G37>0,G37*6.2898*$G$2/Oljepris!D36,H36-H36*$H$2) -> 5.7376824e-06 | I37: 963 | J37: =IF(I37>0,I37/0.2*6.2898*I$2/Oljepris!$D36,J36-J36*J$2) -> 139.91849 | K37: 51443 | L37: =IF(K37>0,K37*6.2898*K$2/Oljepris!$D36,L36-L36*L$2) -> 1537.662 | M37: 29098 | N37: =IF(M37>0,M37*6.2898*M$2/Oljepris!$D36,N36-N36*N$2) -> 2745.309 | O37: 25115 | P37: =IF(O37>0,O37*6.2898*O$2/Oljepris!$D36,P36-P36*P$2) -> 1191.0812 | Q37: 60259 | R37: =IF(Q37>0,Q37*6.2898*Q$2/Oljepris!$D36,R36-R36*R$2) -> 4042.8486 | S37: 31977 | T37: =IF(S37>0,S37*6.2898*S$2/Oljepris!$D36,T36-T36*T$2) -> 1139.7306 | U37: 1192 | V37: =IF(U37>0,U37/0.18*6.2898*U$2/Oljepris!$D36,V36-V36*V$2) -> 617.81973 | W37: 9883 | X37: =IF(W37>0,W37*6.2898*W$2/Oljepris!$D36,X36-X36*X$2) -> 310.81047 | Y37: 878 | Z37: =IF(Y37>0,Y37*6.2898*Y$2/Oljepris!$D36,Z36-Z36*Z$2) -> 92.04074 | AA37: =Z37+X37+V37+T37+R37+P37+N37+L37+J37+H37+F37 -> 13168.018 | AB37: =C37 -> 15409.142 | AC37: 13220 | AD37: =SUM(AC35:AC37)/3 -> 14875.698
A38: 43739 | B38: =IF(AC37=0,AB37,AC37) -> 13220 | C38: =B38-(B38*$C$1) -> 13167.12 | E38: 28054 | F38: =IF(E38>0,E38*6.2898*$E$2/Oljepris!D37,F37-F37*$F$2) -> 1138.4132 | G38: 36866 | H38: =IF(G38>0,G38*6.2898*$G$2/Oljepris!D37,H37-H37*$H$2) -> 2158.2022 | I38: 458 | J38: =IF(I38>0,I38/0.2*6.2898*I$2/Oljepris!$D37,J37-J37*J$2) -> 64.398219 | K38: 45530 | L38: =IF(K38>0,K38*6.2898*K$2/Oljepris!$D37,L37-L37*L$2) -> 1317.0183 | M38: 19999 | N38: =IF(M38>0,M38*6.2898*M$2/Oljepris!$D37,N37-N37*N$2) -> 1825.9797 | O38: 25944 | P38: =IF(O38>0,O38*6.2898*O$2/Oljepris!$D37,P37-P37*P$2) -> 1190.7064 | Q38: 71896 | R38: =IF(Q38>0,Q38*6.2898*Q$2/Oljepris!$D37,R37-R37*R$2) -> 4667.9893 | S38: 39745 | T38: =IF(S38>0,S38*6.2898*S$2/Oljepris!$D37,T37-T37*T$2) -> 1370.9025 | U38: 1339 | V38: =IF(U38>0,U38/0.18*6.2898*U$2/Oljepris!$D37,V37-V37*V$2) -> 671.62315 | W38: 70954 | X38: =IF(W38>0,W38*6.2898*W$2/Oljepris!$D37,X37-X37*X$2) -> 2159.4507 | Y38: 1e-05 | Z38: =IF(Y38>0,Y38*6.2898*Y$2/Oljepris!$D37,Z37-Z37*Z$2) -> 1.0144839e-06 | AA38: =Z38+X38+V38+T38+R38+P38+N38+L38+J38+H38+F38 -> 16564.684 | AB38: =C38 -> 13167.12 | AC38: 16748
A39: 43770 | B39: =IF(AC38=0,AB38,AC38) -> 16748 | C39: =B39-(B39*$C$1) -> 16681.008 | E39: 23255 | F39: =IF(E39>0,E39*6.2898*$E$2/Oljepris!D38,F38-F38*$F$2) -> 975.12866 | G39: 37020 | H39: =IF(G39>0,G39*6.2898*$G$2/Oljepris!D38,H38-H38*$H$2) -> 2239.4583 | I39: 970 | J39: =IF(I39>0,I39/0.2*6.2898*I$2/Oljepris!$D38,J38-J38*J$2) -> 140.93555 | K39: 50075 | L39: =IF(K39>0,K39*6.2898*K$2/Oljepris!$D38,L38-L38*L$2) -> 1496.7717 | M39: 22584 | N39: =IF(M39>0,M39*6.2898*M$2/Oljepris!$D38,N38-N38*N$2) -> 2130.7326 | O39: 23473 | P39: =IF(O39>0,O39*6.2898*O$2/Oljepris!$D38,P38-P38*P$2) -> 1113.2092 | Q39: 59244 | R39: =IF(Q39>0,Q39*6.2898*Q$2/Oljepris!$D38,R38-R38*R$2) -> 3974.7511 | S39: 41317 | T39: =IF(S39>0,S39*6.2898*S$2/Oljepris!$D38,T38-T38*T$2) -> 1472.6288 | U39: 1412 | V39: =IF(U39>0,U39/0.18*6.2898*U$2/Oljepris!$D38,V38-V38*V$2) -> 731.84686 | W39: 127035 | X39: =IF(W39>0,W39*6.2898*W$2/Oljepris!$D38,X38-X38*X$2) -> 3995.1237 | Y39: 0 | Z39: =IF(Y39>0,Y39*6.2898*Y$2/Oljepris!$D38,Z38-Z38*Z$2) -> 1.004339e-06 | AA39: =Z39+X39+V39+T39+R39+P39+N39+L39+J39+H39+F39 -> 18270.586 | AB39: =C39 -> 16681.008 | AC39: 18530
A40: 43800 | B40: =IF(AC39=0,AB39,AC39) -> 18530 | C40: =B40-(B40*$C$1) -> 18455.88 | E40: 22912 | F40: =IF(E40>0,E40*6.2898*$E$2/Oljepris!D39,F39-F39*$F$2) -> 929.75418 | G40: 38183 | H40: =IF(G40>0,G40*6.2898*$G$2/Oljepris!D39,H39-H39*$H$2) -> 2235.3018 | I40: 1e-07 | J40: =IF(I40>0,I40/0.2*6.2898*I$2/Oljepris!$D39,J39-J39*J$2) -> 1.4060746e-08 | K40: 48528 | L40: =IF(K40>0,K40*6.2898*K$2/Oljepris!$D39,L39-L39*L$2) -> 1403.7396 | M40: 36150 | N40: =IF(M40>0,M40*6.2898*M$2/Oljepris!$D39,N39-N39*N$2) -> 3300.6233 | O40: 24574 | P40: =IF(O40>0,O40*6.2898*O$2/Oljepris!$D39,P39-P39*P$2) -> 1127.8299 | Q40: 77856 | R40: =IF(Q40>0,Q40*6.2898*Q$2/Oljepris!$D39,R39-R39*R$2) -> 5054.954 | S40: 59095 | T40: =IF(S40>0,S40*6.2898*S$2/Oljepris!$D39,T39-T39*T$2) -> 2038.3314 | U40: 1181 | V40: =IF(U40>0,U40/0.18*6.2898*U$2/Oljepris!$D39,V39-V39*V$2) -> 592.37262 | W40: 154126 | X40: =IF(W40>0,W40*6.2898*W$2/Oljepris!$D39,X39-X39*X$2) -> 4690.7502 | Y40: 0 | Z40: =IF(Y40>0,Y40*6.2898*Y$2/Oljepris!$D39,Z39-Z39*Z$2) -> 9.9429564e-07 | AA40: =Z40+X40+V40+T40+R40+P40+N40+L40+J40+H40+F40 -> 21373.657 | AB40: =C40 -> 18455.88 | AC40: 21648 | AD40: =SUM(AC38:AC40)/3 -> 18975.333
A41: 43831 | B41: =IF(AC40=0,AB40,AC40) -> 21648 | C41: =B41-(B41*$C$1) -> 21561.408 | E41: 33660 | F41: =IF(E41>0,E41*6.2898*$E$2/Oljepris!D40,F40-F40*$F$2) -> 1365.9011 | G41: 37432 | H41: =IF(G41>0,G41*6.2898*$G$2/Oljepris!D40,H40-H40*$H$2) -> 2191.3369 | I41: 1109 | J41: =IF(I41>0,I41/0.2*6.2898*I$2/Oljepris!$D40,J40-J40*J$2) -> 155.93368 | K41: 46635 | L41: =IF(K41>0,K41*6.2898*K$2/Oljepris!$D40,L40-L40*L$2) -> 1348.9819 | M41: 33104 | N41: =IF(M41>0,M41*6.2898*M$2/Oljepris!$D40,N40-N40*N$2) -> 3022.5127 | O41: 22462 | P41: =IF(O41>0,O41*6.2898*O$2/Oljepris!$D40,P40-P40*P$2) -> 1030.8991 | Q41: 45505 | R41: =IF(Q41>0,Q41*6.2898*Q$2/Oljepris!$D40,R40-R40*R$2) -> 2954.5017 | S41: 30955 | T41: =IF(S41>0,S41*6.2898*S$2/Oljepris!$D40,T40-T40*T$2) -> 1067.7138 | U41: 1420 | V41: =IF(U41>0,U41/0.18*6.2898*U$2/Oljepris!$D40,V40-V40*V$2) -> 712.25159 | W41: 47999 | X41: =IF(W41>0,W41*6.2898*W$2/Oljepris!$D40,X40-X40*X$2) -> 1460.8263 | Y41: 0 | Z41: =IF(Y41>0,Y41*6.2898*Y$2/Oljepris!$D40,Z40-Z40*Z$2) -> 9.8435269e-07 | AA41: =Z41+X41+V41+T41+R41+P41+N41+L41+J41+H41+F41 -> 15310.859 | AB41: =C41 -> 21561.408 | AC41: 15458
...

Sheet Grafer NorgeUK
A1: Produksjonsgrafer fra forskjellige felt (DNO's andel)

Sheet Kurstrend
A1: Kurstrend for DNO
A3: Sluttkurser
A5: 42737 | B5: 8.79
A6: 42738 | B6: 9.1
A7: 42739 | B7: 8.98
A8: 42740 | B8: 9.005
A9: 42741 | B9: 8.855
A10: 42744 | B10: 9.125
A11: 42745 | B11: 9.345
A12: 42746 | B12: 9.29
A13: 42747 | B13: 9.435
A14: 42748 | B14: 9.44
A15: 42751 | B15: 9.18
A16: 42752 | B16: 9.205
... A1060: 44277 | B1060: 9.84

Sheet Produksjonstrend

Sheet Lisenser Norge-UK
A2: Land | B2: Blokknr. | C2: Lisensnr. | D2: Operatør | E2: Lisensnavn | F2: DNO Andel | G2: Faktaside | H2: Status | I2: Kommentar
A4: Norge
B6: 2/5 | C6: 006 C | D6: DNO North Sea | F6: 0.85 | G6: http://factpages.npd.no/ReportServer?/FactPages/PageView/licence&rs:Command=Render&rc:Toolbar=false&rc:Parameters=f&NpdId=1333089&IpAddress=80.254.154.67&CultureCode=nb-no | H6: Tørr / Shows | I6: Antagelig uinteressant
B7: 2/5 | C7: 006 E | D7: DNO North Sea | F7: 0.85 | G7: http://factpages.npd.no/ReportServer?/FactPages/PageView/licence&rs:Command=Render&rc:Toolbar=false&rc:Parameters=f&NpdId=30977683&IpAddress=80.254.154.67&CultureCode=nb-no | H7: Uboret
B8: 2/5 | C8: 006 F | D8: DNO North Sea | F8: 0.85 | G8: http://factpages.npd.no/ReportServer?/FactPages/PageView/licence&rs:Command=Render&rc:Toolbar=false&rc:Parameters=f&NpdId=34041810&IpAddress=80.254.154.67&CultureCode=nb-no | H8: Uboret
B9: 7/12 | C9: 019 | D9: Aker BP | E9: Ula | F9: 0.2 | G9: http://factpages.npd.no/ReportServer?/FactPages/PageView/licence&rs:Command=Render&rc:Toolbar=false&rc:Parameters=f&NpdId=20916&IpAddress=80.254.154.67&CultureCode=nb-no | H9: Produserer
B10: 7/12 | C10: 019 E | D10: Aker BP | F10: 0.2 | G10: http://factpages.npd.no/ReportServer?/FactPages/PageView/licence&rs:Command=Render&rc:Toolbar=false&rc:Parameters=f&NpdId=30978084&IpAddress=80.254.154.67&CultureCode=nb-no | H10: Uboret
B11: 7/12 | C11: 019 H | D11: Aker BP | F11: 0.2 | G11: http://factpages.npd.no/ReportServer?/FactPages/PageView/licence&rs:Command=Render&rc:Toolbar=false&rc:Parameters=f&NpdId=34041830&IpAddress=80.254.154.67&CultureCode=nb-no | H11: Uboret
B12: 25/4 | C12: 036 D | D12: Aker BP | E12: Vilje | F12: 0.28853 | G12: http://factpages.npd.no/ReportServer?/FactPages/PageView/licence&rs:Command=Render&rc:Toolbar=false&rc:Parameters=f&NpdId=5081703&IpAddress=80.254.154.67&CultureCode=nb-no | H12: Produserer
B13: 25/8 | C13: 169 E | D13: DNO North Sea | E13: Ringhorne Øst | F13: 0.87 | G13: http://factpages.npd.no/ReportServer?/FactPages/PageView/licence&rs:Command=Render&rc:Toolbar=false&rc:Parameters=f&NpdId=21124742&IpAddress=80.254.154.99&CultureCode=en | H13: Produserer
B14: 15/5 | C14: 048 D | D14: Equinor | E14: Enoch | F14: 0.093 | G14: http://factpages.npd.no/ReportServer?/FactPages/PageView/licence&rs:Command=Render&rc:Toolbar=false&rc:Parameters=f&NpdId=3489553&IpAddress=80.254.154.99&CultureCode=nb-no | H14: Produserer | I14: 20% av Enoch på Norsk side
B15: 30/6 | C15: 053 B | D15: Wintershall | E15: Brage | F15: 0.142567 | G15: http://factpages.npd.no/ReportServer?/FactPages/PageView/licence&rs:Command=Render&rc:Toolbar=false&rc:Parameters=f&NpdId=48207&IpAddress=80.254.154.99&CultureCode=en | H15: Produserer
B16: 31/4 | C16: 055 | D16: Wintershall | E16: Brage | F16: 0.142567 | G16: http://factpages.npd.no/ReportServer?/FactPages/PageView/licence&rs:Command=Render&rc:Toolbar=false&rc:Parameters=f&NpdId=21236&IpAddress=80.254.154.67&CultureCode=en | H16: Produserer
B17: 31/4 | C17: 055 B | D17: Wintershall | E17: Brage | F17: 0.142567 | G17: http://factpages.npd.no/ReportServer?/FactPages/PageView/licence&rs:Command=Render&rc:Toolbar=false&rc:Parameters=f&NpdId=102499&IpAddress=80.254.154.67&CultureCode=en | H17: Produserer
B18: 31/4 | C18: 055 D | D18: Wintershall | E18: Brage | F18: 0.142567 | G18: http://factpages.npd.no/ReportServer?/FactPages/PageView/licence&rs:Command=Render&rc:Toolbar=false&rc:Parameters=f&NpdId=22813096&IpAddress=80.254.154.67&CultureCode=en | H18: Produserer
B19: 31/7 | C19: 185 | D19: Wintershall | E19: Brage | F19: 0.142567 | G19: http://factpages.npd.no/ReportServer?/FactPages/PageView/licence&rs:Command=Render&rc:Toolbar=false&rc:Parameters=f&NpdId=22292&IpAddress=80.254.154.99&CultureCode=en | H19: Produserer
B20: 1/3 | C20: 065 | D20: Aker BP | E20: Tambar | F20: 0.45 | G20: http://factpages.npd.no/ReportServer?/FactPages/PageView/licence&rs:Command=Render&rc:Toolbar=false&rc:Parameters=f&NpdId=21316&IpAddress=80.254.154.67&CultureCode=en | H20: Produserer
B21: 1/3 | C21: 065 B | D21: Aker BP | E21: (Tambar) | F21: 0.45 | G21: http://factpages.npd.no/ReportServer?/FactPages/PageView/licence&rs:Command=Render&rc:Toolbar=false&rc:Parameters=f&NpdId=30977515&IpAddress=80.254.154.67&CultureCode=en | H21: Uboret
B22: 1/3 | C22: 274 | D22: DNO North Sea | E22: Oselvar | F22: 0.55 | G22: http://factpages.npd.no/ReportServer?/FactPages/PageView/licence&rs:Command=Render&rc:Toolbar=false&rc:Parameters=f&NpdId=2060266&IpAddress=80.254.154.99&CultureCode=en | H22: Shut Down
B23: 1/2 | C23: 274 CS | D23: DNO North Sea | E23: Oselvar | F23: 0.55 | G23: http://factpages.npd.no/ReportServer?/FactPages/PageView/licence&rs:Command=Render&rc:Toolbar=false&rc:Parameters=f&NpdId=4909658&IpAddress=80.254.154.99&CultureCode=en | H23: Shut Down
B24: 2/1 | C24: 300 | D24: Aker BP | E24: Tambar Øst | F24: 0.45 | G24: http://factpages.npd.no/ReportServer?/FactPages/PageView/licence&rs:Command=Render&rc:Toolbar=false&rc:Parameters=f&NpdId=2490354&IpAddress=80.254.154.99&CultureCode=en | H24: Midl. avstengt pga trykk
B25: 8/10 | C25: 405 | D25: Spirit Energy | E25: Oda | F25: 0.15 | G25: http://factpages.npd.no/ReportServer?/FactPages/PageView/licence&rs:Command=Render&rc:Toolbar=false&rc:Parameters=f&NpdId=4237284&IpAddress=80.254.154.99&CultureCode=en | H25: Produserer
B26: 6506/9-12 | C26: 433 | D26: Spirit Energy | E26: Fogelberg | F26: 0.15 | G26: http://factpages.npd.no/ReportServer?/FactPages/PageView/licence&rs:Command=Render&rc:Toolbar=false&rc:Parameters=f&NpdId=4238654&IpAddress=80.254.154.99&CultureCode=en | H26: Funn
B27: 640x | C27: 1006 | D27: Equinor | F27: 0.3 | G27: http://factpages.npd.no/ReportServer?/FactPages/PageView/licence&rs:Command=Render&rc:Toolbar=false&rc:Parameters=f&NpdId=34040194&IpAddress=80.254.154.67&CultureCode=en | H27: Uboret
B28: 6506/7-8-10 | C28: 1007 | D28: DNO North Sea | F28: 0.4 | G28: http://factpages.npd.no/ReportServer?/FactPages/PageView/licence&rs:Command=Render&rc:Toolbar=false&rc:Parameters=f&NpdId=34040259&IpAddress=80.254.154.67&CultureCode=en | H28: Uboret
B29: 6506/8-10-11 | C29: 644 | D29: Equinor | E29: Hades / Iris | F29: 0.2 | G29: http://factpages.npd.no/ReportServer?/FactPages/PageView/licence&rs:Command=Render&rc:Toolbar=false&rc:Parameters=f&NpdId=21559648&IpAddress=80.254.154.99&CultureCode=en | H29: Funn
