Workbook

Sheet Estimat
A1: Estimat DNO inntekter (USD)
R2: Kurdistan
C3: Produksjon Kurdistan | D3: Produksjon Oman/NCS | E3: Oljepris Tawke | F3: Oljepris Oman/NCS | G3: Reell override betaling | H3: Override betaling Kurdistan | I3: DNO andel Tawke | J3: DNO andel Oman/NCS | K3: Samlet | L3: Kvartalsinntekter estimert | M3: Gjeldsinntekter | N3: Revenue per Q Estimert | O3: Revenue per Q rapportert | P3: Revenue per år. Estimert | Q3: Revenue per år. Rapportert | R3: Estimert eksport per dag (per Q) | S3: Rapportert eksport per dag | T3: Snitt est eksport per år (boed) | U3: Reell eksp. | V3: Gjeldsbetaling | W3: Per Q | X3: Akkumulert
A4: 42736 | C4: =Kurdistan!R5 -> 112537 | D4: =Oman!G5 -> 4756.8 | E4: =Oljepris!B4-12 -> 42.58 | F4: =Oljepris!B4-5 -> 49.58 | H4: =C4*E4*Oljepris!D4*0.05*0.71 -> 5273403.9 | I4: =C4*E4*Oljepris!D4*0.71*0.31-H4 -> 27421700 | J4: =D4*F4*Oljepris!D4*0.5*0.45 -> 1644999 | K4: =I4+J4 -> 29066699
A5: 42767 | C5: =Kurdistan!R6 -> 110641 | D5: =Oman!G6 -> 4713.9888 | E5: =Oljepris!B5-12 -> 42.87 | F5: =Oljepris!B5-5 -> 49.87 | H5: =C5*E5*Oljepris!D5*0.05*0.71 -> 4714720.6 | I5: =C5*E5*Oljepris!D5*0.71*0.31-H5 -> 24516547 | J5: =D5*F5*Oljepris!D5*0.5*0.45 -> 1481045.7 | K5: =I5+J5 -> 25997593
A6: 42795 | C6: =Kurdistan!R7 -> 108513 | D6: =Oman!G7 -> 4671.5629 | E6: =Oljepris!B6-12 -> 39.9 | F6: =Oljepris!B6-5 -> 46.9 | H6: =C6*E6*Oljepris!D6*0.05*0.71 -> 4764800.4 | I6: =C6*E6*Oljepris!D6*0.71*0.31-H6 -> 24776962 | J6: =D6*F6*Oljepris!D6*0.5*0.45 -> 1528196.7 | K6: =I6+J6 -> 26305159 | L6: 77100000
A7: 42826 | C7: =Kurdistan!R8 -> 108519 | D7: =Oman!G8 -> 4629.5188 | E7: =Oljepris!B7-12 -> 40.31 | F7: =Oljepris!B7-5 -> 47.31 | H7: =C7*E7*Oljepris!D7*0.05*0.71 -> 4658736.9 | I7: =C7*E7*Oljepris!D7*0.71*0.31-H7 -> 24225432 | J7: =D7*F7*Oljepris!D7*0.5*0.45 -> 1478402.1 | K7: =I7+J7 -> 25703834
A8: 42856 | C8: =Kurdistan!R9 -> 107554.93 | D8: =Oman!G9 -> 4587.8532 | E8: =Oljepris!B8-12 -> 38.33 | F8: =Oljepris!B8-5 -> 45.33 | G8: 6390000 | H8: =C8*E8*Oljepris!D8*0.05*0.71 -> 4536900 | I8: =C8*E8*Oljepris!D8*0.71*0.31-H8 -> 23591880 | J8: =D8*F8*Oljepris!D8*0.5*0.45 -> 1450572.5 | K8: =I8+J8 -> 25042453
A9: 42887 | C9: =Kurdistan!R10 -> 105660.27 | D9: =Oman!G10 -> 4546.5625 | E9: =Oljepris!B9-12 -> 34.37 | F9: =Oljepris!B9-5 -> 41.37 | G9: 5447315 | H9: =C9*E9*Oljepris!D9*0.05*0.71 -> 3867593.6 | I9: =C9*E9*Oljepris!D9*0.71*0.31-H9 -> 20111487 | J9: =D9*F9*Oljepris!D9*0.5*0.45 -> 1269616.2 | K9: =I9+J9 -> 21381103 | L9: =SUM(I4:I6)+SUM(J7:J9) -> 80913800 | M9: =SUM(H4:H6) -> 14752925 | N9: =L9 -> 80913800 | O9: 81700000
A10: 42917 | C10: =Kurdistan!R11 -> 112521.51 | D10: =Oman!G11 -> 4505.6434 | E10: =Oljepris!B10-12 -> 36.48 | F10: =Oljepris!B10-5 -> 43.48 | G10: 6362416 | H10: =C10*E10*Oljepris!D10*0.05*0.71 -> 4517315.4 | I10: =C10*E10*Oljepris!D10*0.71*0.31-H10 -> 23490040 | J10: =D10*F10*Oljepris!D10*0.5*0.45 -> 1366440 | K10: =I10+J10 -> 24856480
A11: 42948 | C11: =Kurdistan!R12 -> 108881.12 | D11: =Oman!G12 -> 4465.0926 | E11: =Oljepris!B11-12 -> 39.7 | F11: =Oljepris!B11-5 -> 46.7 | G11: 4020000 | H11: =Kurdistan!H12*E11*Oljepris!D11*0.03 -> 3744198 | I11: =(C11*E11*Oljepris!D11*0.71*0.3107-H11)*1.3666 -> 35279872 | J11: =D11*F11*Oljepris!D11*0.5*0.45 -> 1454425.8 | K11: =IF(G11<>0,G11+I11+J11,H11+I11+J11) -> 40754298
A12: 42979 | C12: =Kurdistan!R13 -> 107378.03 | D12: =Oman!G13 -> 4424.9068 | E12: =Oljepris!B12-12 -> 44.15 | F12: =Oljepris!B12-5 -> 51.15 | G12: 4266666 | H12: =Kurdistan!H13*E12*Oljepris!D12*0.03 -> 4048314.8 | I12: =(C12*E12*Oljepris!D12*0.71*0.3375-H12)*1.3666 -> 41041294 | J12: =D12*F12*Oljepris!D12*0.5*0.45 -> 1527754.4 | K12: =IF(G12<>0,G12+I12+J12,H12+I12+J12) -> 46835714 | L12: =SUM(I7:I9)+SUM(J10:J12) -> 72277419 | M12: =SUM(H7:H9) -> 13063231 | N12: =L12 -> 72277419 | O12: 73000000 | R12: =SUM(C10:C12)/3 -> 109593.55 | S12: 109755
A13: 43009 | C13: =Kurdistan!R14 -> 105927.07 | D13: =Oman!G14 -> 4385.0826 | E13: =Oljepris!B13-13.2 -> 44.31 | F13: =Oljepris!B13-5 -> 52.51 | G13: 4370000 | H13: =Kurdistan!H14*E13*Oljepris!D13*0.03 -> 4135054.6 | I13: =(C13*E13*Oljepris!D13*0.71*0.33-H13)*1.3666 -> 40938111 | J13: =D13*F13*Oljepris!D13*0.5*0.45 -> 1606068.3 | K13: =IF(G13<>0,G13+I13+J13,H13+I13+J13) -> 46914179 | N13: =L13+M13 -> 0
A14: 43040 | C14: =Kurdistan!R15 -> 105371.72 | D14: =Oman!G15 -> 4345.6169 | E14: =Oljepris!B14-12 -> 50.71 | F14: =Oljepris!B14-5 -> 57.71 | G14: 4700000 | H14: =Kurdistan!H15*E14*Oljepris!D14*0.03 -> 4624977.9 | I14: =(C14*E14*Oljepris!D14*0.71*0.3078-H14)*1.3666 -> 41554341 | J14: =D14*F14*Oljepris!D14*0.5*0.45 -> 1692802.5 | K14: =IF(G14<>0,G14+I14+J14,H14+I14+J14) -> 47947143 | N14: =L14+M14 -> 0
A15: 43070 | C15: =Kurdistan!R16 -> 110276.98 | D15: =Oman!G16 -> 4306.5063 | E15: =Oljepris!B15-13.2 -> 51.17 | F15: =Oljepris!B15-5 -> 59.37 | G15: 5253000 | H15: =Kurdistan!H16*E15*Oljepris!D15*0.03 -> 5059163.2 | I15: =(C15*E15*Oljepris!D15*0.71*0.32-H15)*1.3666 -> 47400141 | J15: =D15*F15*Oljepris!D15*0.5*0.45 -> 1783349 | K15: =IF(G15<>0,G15+I15+J15,H15+I15+J15) -> 54436490 | L15: =SUM(I10:I12)+SUM(J13:J15) -> 1.0489343e+08 | M15: =SUM(H10:H13) -> 16444883 | N15: =L15+M15-H13 -> 1.1720325e+08 | O15: 116000000 | R15: =SUM(C13:C15)/3 -> 107191.92 | S15: 106200 | T15: =SUM(C4:C15)/12 -> 108648.47 | U15: 109000
A16: 43101 | C16: =Kurdistan!R17 -> 107158.78 | D16: =Oman!G17 -> 4267.7478 | E16: =Oljepris!B16-16.5 -> 52.58 | F16: =Oljepris!B16-5 -> 64.08 | G16: 5240000 | H16: =Kurdistan!H17*E16*Oljepris!D16*0.03 -> 5094598.1 | I16: =(C16*E16*Oljepris!D16*0.71*0.2935-H16)*1.3666 -> 42779111 | J16: =D16*F16*Oljepris!D16*0.5*0.45 -> 1907504 | K16: =IF(G16<>0,G16+I16+J16,H16+I16+J16) -> 49926615 | N16: =L16+M16 -> 0
A17: 43132 | C17: =Kurdistan!R18 -> 102994.33 | D17: =Oman!G18 -> 4229.3381 | E17: =Oljepris!B17-13.15 -> 52.17 | F17: =Oljepris!B17-5 -> 60.32 | G17: 4513500 | H17: =Kurdistan!H18*E17*Oljepris!D17*0.03 -> 4474377.2 | I17: =(C17*E17*Oljepris!D17*0.71*0.2871-H17)*1.3666 -> 35796039 | J17: =D17*F17*Oljepris!D17*0.5*0.45 -> 1607216.1 | K17: =IF(G17<>0,G17+I17+J17,H17+I17+J17) -> 41916755 | N17: =L17+M17 -> 0
A18: 43160 | C18: =Kurdistan!R19 -> 113485.91 | D18: =Oman!G19 -> 4191.274 | E18: =Oljepris!B18-13.15 -> 52.87 | F18: =Oljepris!B18-5 -> 61.02 | G18: 5580000 | H18: =Kurdistan!H19*E18*Oljepris!D18*0.03 -> 4919838.1 | I18: =(C18*E18*Oljepris!D18*0.71*0.2979-H18)*1.3666 -> 47039514 | J18: =D18*F18*Oljepris!D18*0.5*0.45 -> 1783867 | K18: =IF(G18<>0,G18+I18+J18,H18+I18+J18) -> 54403381 | L18: =SUM(I13:I15)+SUM(J16:J18) -> 1.3519118e+08 | M18: =SUM(H14:H15) -> 9684141.1 | N18: =L18+M18 -> 1.4487532e+08 | O18: 142300000 | R18: =SUM(C16:C18)/3 -> 107879.67 | S18: 109400
A19: 43191 | C19: =Kurdistan!R20 -> 101952.36 | D19: =Oman!G20 -> 4153.5525 | E19: =Oljepris!B19-13.15 -> 58.96 | F19: =Oljepris!B19-5 -> 67.11 | G19: 5410000 | H19: =Kurdistan!H20*E19*Oljepris!D19*0.03 -> 5336028.8 | I19: =(C19*E19*Oljepris!D19*0.71*0.31177-H19)*1.3666 -> 47259710 | J19: =D19*F19*Oljepris!D19*0.5*0.45 -> 1881528.2 | K19: =IF(G19<>0,G19+I19+J19,H19+I19+J19) -> 54551238 | N19: =L19+M19 -> 0
A20: 43221 | C20: =Kurdistan!R21 -> 100922.28 | D20: =Oman!G21 -> 4116.1706 | E20: =Oljepris!B20-13.15 -> 63.82 | F20: =Oljepris!B20-5 -> 71.97 | G20: 5990000 | H20: =Kurdistan!H21*E20*Oljepris!D20*0.03 -> 5849032.1 | I20: =(C20*E20*Oljepris!D20*0.71*0.31134-H20)*1.3666 -> 52323785 | J20: =D20*F20*Oljepris!D20*0.5*0.45 -> 2066279.6 | K20: =IF(G20<>0,G20+I20+J20,H20+I20+J20) -> 60380065 | N20: =L20+M20 -> 0
A21: 43252 | C21: =Kurdistan!R22 -> 105016.87 | D21: =Oman!G22 -> 4079.125 | E21: =Oljepris!B21-13.15 -> 61.26 | F21: =Oljepris!B21-5 -> 69.41 | G21: 5790000 | H21: =Kurdistan!H22*E21*Oljepris!D21*0.03 -> 5324634.9 | I21: =(C21*E21*Oljepris!D21*0.71*0.3-H21)*1.3666 -> 48902913 | J21: =D21*F21*Oljepris!D21*0.5*0.45 -> 1911141.5 | K21: =IF(G21<>0,G21+I21+J21,H21+I21+J21) -> 56604055 | L21: =SUM(I16:I18)+SUM(J19:J21) -> 1.3147361e+08 | M21: =SUM(H16:H18) -> 14488813 | N21: =L21+M21 -> 1.4596243e+08 | O21: 147000000 | R21: =SUM(C19:C21)/3 -> 102630.5 | S21: 106000
A22: 43282 | C22: =Kurdistan!R23 -> 109286.73 | D22: =Oman!G23 -> 4042.4129 | E22: =Oljepris!B22-13.15 -> 61.1 | F22: =Oljepris!B22-5 -> 69.25 | G22: 6210000 | H22: =Kurdistan!H23*E22*Oljepris!D22*0.03 -> 5377997.1 | I22: =(C22*E22*Oljepris!D22*0.71*0.3-H22)*1.3666 -> 52905190 | J22: =D22*F22*Oljepris!D22*0.5*0.45 -> 1952561.2 | K22: =IF(G22<>0,G22+I22+J22,H22+I22+J22) -> 61067751 | N22: =L22+M22 -> 0
A23: 43313 | C23: =Kurdistan!R24 -> 113176.66 | D23: =Oman!G24 -> 4006.0312 | E23: =Oljepris!B23-13.15 -> 59.38 | F23: =Oljepris!B23-5 -> 67.53 | G23: 6250000 | H23: =Kurdistan!H24*E23*Oljepris!D23*0.03 -> 5895199 | I23: =(C23*E23*Oljepris!D23*0.71*0.3-H23)*1.3666 -> 52586496 | J23: =D23*F23*Oljepris!D23*0.5*0.45 -> 1886927.8 | K23: =IF(G23<>0,G23+I23+J23,H23+I23+J23) -> 60723424 | N23: =L23+M23 -> 0
A24: 43344 | C24: =Kurdistan!R25 -> 116621.03 | D24: =Oman!G25 -> 3969.9769 | E24: =Oljepris!B24-13.15 -> 65.74 | F24: =Oljepris!B24-5 -> 73.89 | G24: 6900000 | H24: =Kurdistan!H25*E24*Oljepris!D24*0.03 -> 6603919.1 | I24: =(C24*E24*Oljepris!D24*0.71*0.3-H24)*1.3666 -> 57924818 | J24: =D24*F24*Oljepris!D24*0.5*0.45 -> 1980055.8 | K24: =IF(G24<>0,G24+I24+J24,H24+I24+J24) -> 66804874 | L24: =SUM(I19:I21)+SUM(J22:J24) -> 1.5430595e+08 | M24: =SUM(H19:H21) -> 16509696 | N24: =L24+M24 -> 1.7081565e+08 | O24: 171200000 | R24: =SUM(C22:C24)/3 -> 113028.14 | S24: 113100
A25: 43374 | C25: =Kurdistan!R26 -> 126725.85 | D25: =Oman!G26 -> 3934.2471 | E25: =Oljepris!B25-13.15 -> 67.88 | F25: =Oljepris!B25-5 -> 76.03 | G25: 8000000 | H25: =Kurdistan!H26*E25*Oljepris!D25*0.03 -> 7410292.9 | I25: =(C25*E25*Oljepris!D25*0.71*0.3-H25)*1.3666 -> 67495974 | J25: =D25*F25*Oljepris!D25*0.5*0.45 -> 2086367.6 | K25: =IF(G25<>0,G25+I25+J25,H25+I25+J25) -> 77582341 | N25: =L25+M25 -> 0
A26: 43405 | C26: =Kurdistan!R27 -> 127045.65 | D26: =Oman!G27 -> 3898.8389 | E26: =Oljepris!B26-13.15 -> 51.6 | F26: =Oljepris!B26-5 -> 59.75 | G26: 5900000 | H26: =Kurdistan!H27*E26*Oljepris!D26*0.03 -> 5342307.5 | I26: =(C26*E26*Oljepris!D26*0.71*0.3-H26)*1.3666 -> 49946077 | J26: =D26*F26*Oljepris!D26*0.5*0.45 -> 1572450.5 | K26: =IF(G26<>0,G26+I26+J26,H26+I26+J26) -> 57418527 | N26: =L26+M26 -> 0
A27: 43435 | C27: =Kurdistan!R28 -> 127774.17 | D27: =Oman!G28 -> 3863.7494 | E27: =Oljepris!B27-13.15 -> 43.76 | F27: =Oljepris!B27-5 -> 51.91 | G27: 5200000 | H27: =Kurdistan!H28*E27*Oljepris!D27*0.03 -> 4689737.8 | I27: =(C27*E27*Oljepris!D27*0.71*0.3-H27)*1.3666 -> 44045876 | J27: =D27*F27*Oljepris!D27*0.5*0.45 -> 1398956.4 | K27: =IF(G27<>0,G27+I27+J27,H27+I27+J27) -> 50644833 | L27: =SUM(I22:I27)+SUM(J25:J27) -> 3.2996221e+08 | M27: =SUM(H22:H27) -> 35319453 | N27: =L27+M27 -> 3.6528166e+08 | O27: 368800000 | P27: =SUM(N16:N27) -> 8.2693505e+08 | R27: =SUM(C25:C27)/3 -> 127181.89 | S27: 127262 | T27: =SUM(C16:C27)/12 -> 112680.05 | U27: 117607
A28: 43466 | C28: =Kurdistan!R29 -> 128539.48 | D28: ='Norge-UK'!AA29 -> 18006.022 | E28: =Oljepris!B28-13.15 -> 46.26 | F28: =Oljepris!B28-1 -> 58.41 | G28: 5530000 | H28: =Kurdistan!H29*E28*Oljepris!D28*0.03 -> 5159660.9 | I28: =(C28*E28*Oljepris!D28*0.71*0.3-H28)*1.3666 -> 46605623 | J28: =D28*F28*Oljepris!D28*0.73 -> 23800690 | K28: =IF(G28<>0,G28+I28+J28,H28+I28+J28) -> 75936313 | N28: =L28+M28 -> 0 | P28: =SUM(O18:O27) -> 829300000
A29: 43497 | C29: =Kurdistan!R30 -> 126500 | D29: ='Norge-UK'!AA30 -> 18826.908 | E29: =Oljepris!B29-13.15 -> 50.81 | F29: =Oljepris!B29-1 -> 62.96 | H29: =Kurdistan!H30*E29*Oljepris!D29*0.03 -> 5421805.8 | I29: =(C29*E29*Oljepris!D29*0.71*0.3-H29)*1.3666 -> 44976986 | J29: =D29*F29*Oljepris!D29*0.73 -> 24228393 | K29: =IF(G29<>0,G29+I29+J29,H29+I29+J29) -> 74627185 | N29: =L29+M29 -> 0
A30: 43525 | C30: =Kurdistan!R31 -> 125240 | D30: ='Norge-UK'!AA31 -> 18436.407 | E30: =Oljepris!B30-13.15 -> 52.99 | F30: =Oljepris!B30-1 -> 65.14 | H30: =Kurdistan!H31*E30*Oljepris!D30*0.03 -> 6135054.5 | I30: =(C30*E30*Oljepris!D30*0.71*0.3-H30)*1.3666 -> 51501060 | J30: =D30*F30*Oljepris!D30*0.73 -> 27177443 | K30: =IF(G30<>0,G30+I30+J30,H30+I30+J30) -> 84813558 | L30: =SUM(I28:I30)+SUM(J28:J30) -> 2.182902e+08 | M30: =SUM(H28:H30) -> 16716521 | N30: =L30+M30 -> 2.3500672e+08 | O30: 204100000 | R30: =SUM(Kurdistan!H29:H31)/3 -> 123818.68 | S30: 126759
A31: 43556 | C31: =Kurdistan!R32 -> 125000 | D31: ='Norge-UK'!AA32 -> 20305.388 | E31: =Oljepris!B31-13.15 -> 58.08 | F31: =Oljepris!B31-1 -> 70.23 | H31: =Kurdistan!H32*E31*Oljepris!D31*0.03 -> 6377298.5 | I31: =(C31*E31*Oljepris!D31*0.71*0.3-H31)*1.3666 -> 54683271 | J31: =D31*F31*Oljepris!D31*0.73 -> 31230438 | K31: =IF(G31<>0,G31+I31+J31,H31+I31+J31) -> 92291008 | M31: Kurdistan: | N31: =SUM(H31:I33) -> 1.7994564e+08
A32: 43586 | C32: =Kurdistan!R33 -> 127000 | D32: ='Norge-UK'!AA33 -> 20382.25 | E32: =Oljepris!B32-13.15 -> 58.17 | F32: =Oljepris!B32-1 -> 70.32 | H32: =Kurdistan!H33*E32*Oljepris!D32*0.03 -> 6982016.9 | I32: =(C32*E32*Oljepris!D32*0.71*0.3-H32)*1.3666 -> 57121475 | J32: =D32*F32*Oljepris!D32*0.73 -> 32435122 | K32: =IF(G32<>0,G32+I32+J32,H32+I32+J32) -> 96538613 | M32: NCS: | N32: =SUM(J31:J33) -> 81421590
A33: 43617 | C33: =Kurdistan!R34 -> 127615 | D33: ='Norge-UK'!AA34 -> 12824.702 | E33: =Oljepris!B33-13.15 -> 51.07 | F33: =Oljepris!B33-1 -> 63.22 | H33: =Kurdistan!H34*E33*Oljepris!D33*0.03 -> 5813441.8 | I33: =(C33*E33*Oljepris!D33*0.71*0.3-H33)*1.3666 -> 48968138 | J33: =D33*F33*Oljepris!D33*0.73 -> 17756030 | K33: =IF(G33<>0,G33+I33+J33,H33+I33+J33) -> 72537610 | L33: =SUM(I31:I33)+SUM(J31:J33) -> 2.4219447e+08 | M33: =SUM(H31:H33) -> 19172757 | N33: =L33+M33 -> 2.6136723e+08 | O33: 265700000 | R33: =SUM(Kurdistan!H32:H34)/3 -> 125848.41 | S33: 126538
A34: 43647 | C34: =Kurdistan!R35 -> 120800 | D34: ='Norge-UK'!AA35 -> 15936.067 | E34: =Oljepris!B34-13.15 -> 50.77 | F34: =Oljepris!B34-1 -> 62.92 | H34: =Kurdistan!H35*E34*Oljepris!D34*0.03 -> 5852496.3 | I34: =(C34*E34*Oljepris!D34*0.71*0.3-H34)*1.51 -> 52312151 | J34: =D34*F34*Oljepris!D34*0.73 -> 22691041 | K34: =IF(G34<>0,G34+I34+J34,H34+I34+J34) -> 80855688 | M34: Kurdistan: | N34: =SUM(H34:I36) -> 1.6445387e+08 | O34: 164500000
A35: 43678 | C35: =Kurdistan!R36 -> 119700 | D35: ='Norge-UK'!AA36 -> 15471.026 | E35: =Oljepris!B35-13.15 -> 45.89 | F35: =Oljepris!B35-1 -> 58.04 | H35: =Kurdistan!H36*E35*Oljepris!D35*0.03 -> 5184156.7 | I35: =(C35*E35*Oljepris!D35*0.71*0.3-H35)*1.51 -> 46940374 | J35: =D35*F35*Oljepris!D35*0.73 -> 20320344 | K35: =IF(G35<>0,G35+I35+J35,H35+I35+J35) -> 72444875 | M35: NCS: | N35: =SUM(J34:J36) -> 60841896 | O35: 61700000
A36: 43709 | C36: =Kurdistan!R37 -> 118800 | D36: ='Norge-UK'!AA37 -> 13168.018 | E36: =Oljepris!B36-13.15 -> 49.68 | F36: =Oljepris!B36-1 -> 61.83 | H36: =Kurdistan!H37*E36*Oljepris!D36*0.03 -> 5456778.4 | I36: =(C36*E36*Oljepris!D36*0.71*0.3-H36)*1.51 -> 48707918 | J36: =D36*F36*Oljepris!D36*0.73 -> 17830511 | K36: =IF(G36<>0,G36+I36+J36,H36+I36+J36) -> 71995207 | L36: =SUM(I34:I36)+SUM(J34:J36) -> 2.0880234e+08 | M36: =SUM(H34:H36) -> 16493431 | N36: =L36+M36 -> 2.2529577e+08 | O36: 227000000 | R36: =SUM(Kurdistan!H35:H37)/3 -> 122488.79 | S36: 119800
A37: 43739 | C37: =Kurdistan!R38 -> 122000 | D37: ='Norge-UK'!AA38 -> 16564.684 | E37: =Oljepris!B37-13.15 -> 46.56 | F37: =Oljepris!B37-1 -> 58.71 | H37: =Kurdistan!H38*E37*Oljepris!D37*0.03 -> 5525266.9 | I37: =(C37*E37*Oljepris!D37*0.71*0.3-H37)*1.675 -> 53569659 | J37: =D37*F37*Oljepris!D37*0.77 -> 23213875 | K37: =IF(G37<>0,G37+I37+J37,H37+I37+J37) -> 82308801 | M37: Kurdistan: | N37: =SUM(H37:I39) -> 1.9060282e+08 | O37: 191100000
A38: 43770 | C38: =Kurdistan!R39 -> 122850 | D38: ='Norge-UK'!AA39 -> 18270.586 | E38: =Oljepris!B38-13.15 -> 50.06 | F38: =Oljepris!B38-1 -> 62.21 | H38: =Kurdistan!H39*E38*Oljepris!D38*0.03 -> 5791688.1 | I38: =(C38*E38*Oljepris!D38*0.71*0.3-H38)*1.675 -> 56122529 | J38: =D38*F38*Oljepris!D38*0.77 -> 26255764 | K38: =IF(G38<>0,G38+I38+J38,H38+I38+J38) -> 88169982 | M38: NCS: | N38: =SUM(J37:J39) -> 83300285 | O38: 83500000
A39: 43800 | C39: =Kurdistan!R40 -> 123530 | D39: ='Norge-UK'!AA40 -> 21373.657 | E39: =Oljepris!B39-13.15 -> 54.16 | F39: =Oljepris!B39-1 -> 66.31 | H39: =Kurdistan!H40*E39*Oljepris!D39*0.03 -> 6521697.9 | I39: =(C39*E39*Oljepris!D39*0.71*0.3-H39)*1.675 -> 63071979 | J39: =D39*F39*Oljepris!D39*0.77 -> 33830645 | K39: =IF(G39<>0,G39+I39+J39,H39+I39+J39) -> 1.0342432e+08 | L39: =SUM(I37:I39)+SUM(J37:J39) -> 2.5606445e+08 | M39: =SUM(H37:H39) -> 17838653 | N39: =L39+M39 -> 2.7390311e+08 | O39: =SUM(O37:O38) -> 274600000 | P39: =N30+N33+N36+N39 -> 9.9557282e+08 | Q39: =O39+O36+O33+O30 -> 971400000 | R39: =SUM(Kurdistan!H38:H40)/3 -> 128543.6 | S39: 122800 | T39: =SUM(C28:C39)/12 -> 123964.54
A40: 43831 | C40: =Kurdistan!R41 -> 117000 | D40: ='Norge-UK'!AA41 -> 15310.859 | E40: =Oljepris!B40-13.15 -> 50.68 | F40: =Oljepris!B40-1 -> 62.83 | H40: =Kurdistan!H41*E40*Oljepris!D40*0.03 -> 6121996.5 | I40: =(C40*E40*Oljepris!D40*0.71*0.3-H40)*1.714 -> 56614942 | J40: =D40*F40*Oljepris!D40*0.879 -> 26213027 | K40: =IF(G40<>0,G40+I40+J40,H40+I40+J40) -> 88949966 | M40: Kurdistan: | N40: =SUM(H40:I42) -> 1.3394174e+08 | O40: 134600000
A41: 43862 | C41: =Kurdistan!R42 -> 115500 | D41: ='Norge-UK'!AA42 -> 19849.474 | E41: =Oljepris!B41-13.15 -> 42.51 | F41: =Oljepris!B41-1 -> 54.66 | H41: =Kurdistan!H42*E41*Oljepris!D41*0.03 -> 4707712.7 | I41: =(C41*E41*Oljepris!D41*0.71*0.3-H41)*1.714 -> 43914001 | J41: =D41*F41*Oljepris!D41*0.879 -> 27657028 | K41: =IF(G41<>0,G41+I41+J41,H41+I41+J41) -> 76278741 | M41: NCS: | N41: =SUM(J40:J42) -> 71041500 | O41: 71000000
A42: 43891 | C42: =Kurdistan!R43 -> 113120 | D42: ='Norge-UK'!AA43 -> 20321.44 | E42: =Oljepris!B42-13.15 -> 18.86 | F42: =Oljepris!B42-1 -> 31.01 | H42: =Kurdistan!H43*E42*Oljepris!D42*0.03 -> 2188015.1 | I42: =(C42*E42*Oljepris!D42*0.71*0.3-H42)*1.714 -> 20395075 | J42: =D42*F42*Oljepris!D42*0.879 -> 17171444 | K42: =IF(G42<>0,G42+I42+J42,H42+I42+J42) -> 39754535 | L42: =SUM(I40:I42)+SUM(J40:J42) -> 1.9196552e+08 | M42: =SUM(H40:H42) -> 13017724 | N42: =L42+M42 -> 2.0498324e+08 | O42: =SUM(O40:O41) -> 205600000 | R42: =SUM(Kurdistan!H41:H43)/3 -> 127308.87 | S42: 115200
A43: 43922 | C43: =Kurdistan!R44 -> 107000 | D43: ='Norge-UK'!AA44 -> 18015.236 | E43: =Oljepris!B43-13.15 -> 5.23 | F43: =Oljepris!B43-1 -> 17.38 | H43: =Kurdistan!H44*E43*Oljepris!D43*0.03 -> 575434.56 | I43: =(C43*E43*Oljepris!D43*0.71*0.3-H43)*1.714 -> 5142811.3 | J43: =D43*F43*Oljepris!D43*0.879 -> 8256573.5 | K43: =IF(G43<>0,G43+I43+J43,H43+I43+J43) -> 13974819 | M43: Kurdistan: | N43: =SUM(H43:I45) -> 49928676 | O43: 53800000
A44: 43952 | C44: =Kurdistan!R45 -> 102000 | D44: ='Norge-UK'!AA45 -> 16214.751 | E44: =Oljepris!B44-13.15 -> 16.23 | F44: =Oljepris!B44-1 -> 28.38 | H44: =Kurdistan!H45*E44*Oljepris!D44*0.03 -> 1808336.7 | I44: =(C44*E44*Oljepris!D44*0.71*0.3-H44)*1.714 -> 15636249 | J44: =D44*F44*Oljepris!D44*0.879 -> 12539298 | K44: =IF(G44<>0,G44+I44+J44,H44+I44+J44) -> 29983884 | M44: NCS: | N44: =SUM(J43:J45) -> 36563509 | O44: 18300000
A45: 43983 | C45: =Kurdistan!R46 -> 97000 | D45: ='Norge-UK'!AA46 -> 15226.342 | E45: =Oljepris!B45-13.15 -> 27.12 | F45: =Oljepris!B45-1 -> 39.27 | H45: =Kurdistan!H46*E45*Oljepris!D45*0.03 -> 2865735.4 | I45: =(C45*E45*Oljepris!D45*0.71*0.3-H45)*1.714 -> 23900109 | J45: =D45*F45*Oljepris!D45*0.879 -> 15767637 | K45: =IF(G45<>0,G45+I45+J45,H45+I45+J45) -> 42533481 | L45: =SUM(I43:I45)+SUM(J43:J45) -> 81242678 | M45: =SUM(H43:H45) -> 5249506.7 | N45: =L45+M45 -> 86492185 | O45: =SUM(O43:O44) -> 72100000 | R45: =SUM(Kurdistan!H44:H46)/3 -> 119822.09 | S45: 101965
A46: 44013 | C46: =Kurdistan!R47 -> 115000 | D46: ='Norge-UK'!AA47 -> 18246.838 | E46: =Oljepris!B46-13.15 -> 30.09 | F46: =Oljepris!B46-1 -> 42.24 | H46: =Kurdistan!H47*E46*Oljepris!D46*0.03 -> 3219846.1 | I46: =(C46*E46*Oljepris!D46*0.71*0.3-H46)*1.364 -> 26773745 | J46: =D46*F46*Oljepris!D46*0.879 -> 21002070 | K46: =IF(G46<>0,G46+I46+J46,H46+I46+J46) -> 50995660 | M46: Kurdistan: | N46: =SUM(H46:I48) -> 83235479 | O46: 84900000
A47: 44044 | C47: =Kurdistan!R48 -> 113800 | D47: ='Norge-UK'!AA48 -> 16954.393 | E47: =Oljepris!B47-13.15 -> 31.59 | F47: =Oljepris!B47-1 -> 43.74 | H47: =Kurdistan!H48*E47*Oljepris!D47*0.03 -> 3312749.7 | I47: =(C47*E47*Oljepris!D47*0.71*0.3-H47)*1.255 -> 25632939 | J47: =D47*F47*Oljepris!D47*0.879 -> 20207454 | K47: =IF(G47<>0,G47+I47+J47,H47+I47+J47) -> 49153142 | M47: NCS: | N47: =SUM(J46:J48) -> 56695393 | O47: 78100000
A48: 44075 | C48: =Kurdistan!R49 -> 112300 | D48: ='Norge-UK'!AA49 -> 14714.44 | E48: =Oljepris!B48-13.15 -> 27.76 | F48: =Oljepris!B48-1 -> 39.91 | H48: =Kurdistan!H49*E48*Oljepris!D48*0.03 -> 2760858.2 | I48: =(C48*E48*Oljepris!D48*0.71*0.3-H48)*1.255 -> 21535341 | J48: =D48*F48*Oljepris!D48*0.879 -> 15485869 | K48: =IF(G48<>0,G48+I48+J48,H48+I48+J48) -> 39782069 | L48: =SUM(I46:I48)+SUM(J46:J48) -> 1.3063742e+08 | M48: =SUM(H46:H48) -> 9293453.9 | N48: =L48+M48 -> 1.3993087e+08 | O48: 163000000 | R48: =SUM(Kurdistan!H47:H49)/3 -> 112775.6 | S48: 113700
A49: 44105 | C49: =Kurdistan!R50 -> 111250 | D49: ='Norge-UK'!AA50 -> 14983.706 | E49: =Oljepris!B49-13.15 -> 27.04 | F49: =Oljepris!B49-1 -> 39.19 | H49: =Kurdistan!H50*E49*Oljepris!D49*0.03 -> 2723314.7 | I49: =(C49*E49*Oljepris!D49*0.71*0.3-H49)*1.445 -> 24767054 | J49: =D49*F49*Oljepris!D49*0.879 -> 16000925 | K49: =IF(G49<>0,G49+I49+J49,H49+I49+J49) -> 43491293 | M49: Kurdistan: | N49: =SUM(H49:I51) -> 96334823 | O49: 95800000
A50: 44136 | C50: =Kurdistan!R51 -> 110160 | D50: ='Norge-UK'!AA51 -> 12877.986 | E50: =Oljepris!B50-13.15 -> 29.54 | F50: =Oljepris!B50-1 -> 41.69 | H50: =Kurdistan!H51*E50*Oljepris!D50*0.03 -> 2821546.9 | I50: =(C50*E50*Oljepris!D50*0.71*0.3-H50)*1.66 -> 29834052 | J50: =D50*F50*Oljepris!D50*0.879 -> 14157611 | K50: =IF(G50<>0,G50+I50+J50,H50+I50+J50) -> 46813210 | M50: NCS: | N50: =SUM(J49:J51) -> 52428671 | O50: 78400000
A51: 44166 | C51: =Kurdistan!R52 -> 109100 | D51: ='Norge-UK'!AA52 -> 16682.643 | E51: =Oljepris!B51-13.15 -> 36.84 | F51: =Oljepris!B51-1 -> 48.99 | H51: =Kurdistan!H52*E51*Oljepris!D51*0.03 -> 3563386.4 | I51: =(C51*E51*Oljepris!D51*0.71*0.3-H51)*1.42 -> 32625468 | J51: =D51*F51*Oljepris!D51*0.879 -> 22270135 | K51: =IF(G51<>0,G51+I51+J51,H51+I51+J51) -> 58458990 | L51: =SUM(I49:I51)+SUM(J49:J51) -> 1.3965525e+08 | M51: =SUM(H49:H51) -> 9108248.1 | N51: =L51+M51 -> 1.4876349e+08 | O51: =SUM(O49:O50) -> 174200000 | P51: =N42+N45+N48+N51 -> 5.8016979e+08 | Q51: =O51+O48+O45+O42 -> 614900000 | R51: =SUM(Kurdistan!H50:H52)/3 -> 106143.49 | S51: 110170 | T51: =SUM(C40:C51)/12 -> 110269.17
A52: 44197 | C52: =IF(Kurdistan!I53>0,Kurdistan!I53,Kurdistan!C53) -> 111500 | D52: ='Norge-UK'!AA53 -> 16289.55 | E52: =Oljepris!B52-13.15 -> 41.62 | F52: =Oljepris!B52-1 -> 53.77 | G52: 4300000 | H52: =IF(Kurdistan!I53>0,Kurdistan!I53*Estimat!E52*Oljepris!D52*0.03,Kurdistan!C53*Estimat!E52*Oljepris!D52*0.03) -> 4315785.9 | I52: =(C52*E52*Oljepris!D52*0.71*0.3-H52)*1.212 -> 31907468 | J52: =D52*F52*Oljepris!D52*0.879 -> 23867101 | K52: =IF(G52<>0,G52+I52+J52,H52+I52+J52) -> 60074570 | M52: Kurdistan: | N52: =SUM(H52:I54) -> 1.2127175e+08 | V52: =IF(Oljepris!B52>50,(Oljepris!B52-50)*0.5*C52*0.75*Oljepris!D52,0) -> 6182814.4 | X52: =V52 -> 6182814.4
A53: 44228 | C53: =IF(Kurdistan!I54>0,Kurdistan!I54,Kurdistan!C54) -> 112000 | D53: ='Norge-UK'!AA54 -> 14555.02 | E53: =Oljepris!B53-13.15 -> 49.11 | F53: =Oljepris!B53-1 -> 61.26 | G53: 4600000 | H53: =Kurdistan!H54*E53*Oljepris!D53*0.03 -> 4403603.5 | I53: =(C53*E53*Oljepris!D53*0.71*0.3-H53)*1.212 -> 34421170 | J53: =D53*F53*Oljepris!D53*0.879 -> 21945057 | K53: =IF(G53<>0,G53+I53+J53,H53+I53+J53) -> 60966227 | M53: NCS: | N53: =SUM(J52:J54) -> 70904907 | V53: =IF(Oljepris!B53>50,(Oljepris!B53-50)*0.5*C53*0.75*Oljepris!D53,0) -> 14417760 | X53: =X52+V53 -> 20600574
A54: 44256 | C54: =IF(Kurdistan!I55>0,Kurdistan!I55,Kurdistan!C55) -> 113100 | D54: ='Norge-UK'!AA55 -> 14296.981 | E54: =Oljepris!B54-13.15 -> 52.26 | F54: =Oljepris!B54-1 -> 64.41 | H54: =Kurdistan!H55*E54*Oljepris!D54*0.03 -> 5084373.1 | I54: =(C54*E54*Oljepris!D54*0.71*0.3-H54)*1.212 -> 41139350 | J54: =D54*F54*Oljepris!D54*0.879 -> 25092748 | K54: =IF(G54<>0,G54+I54+J54,H54+I54+J54) -> 71316471 | L54: =SUM(I52:I54)+SUM(J52:J54) -> 1.7837289e+08 | M54: =SUM(H52:H54) -> 13803763 | N54: =L54+M54 -> 1.9217666e+08 | V54: =IF(Oljepris!B54>50,(Oljepris!B54-50)*0.5*C54*0.75*Oljepris!D54,0) -> 20260875 | W54: =SUM(V52:V54) -> 40861450 | X54: =X53+V54 -> 40861450
A55: 44287 | C55: =IF(Kurdistan!I56>0,Kurdistan!I56,Kurdistan!C56) -> 115000 | D55: ='Norge-UK'!AA56 -> 14047.525 | E55: =Oljepris!B55-13.15 -> 53.85 | F55: =Oljepris!B55-1 -> 66 | H55: =Kurdistan!H56*E55*Oljepris!D55*0.03 -> 4968660.9 | I55: =(C55*E55*Oljepris!D55*0.71*0.3-H55)*1.212 -> 41938850 | J55: =D55*F55*Oljepris!D55*0.879 -> 24448593 | K55: =IF(G55<>0,G55+I55+J55,H55+I55+J55) -> 71356104 | M55: Kurdistan: | N55: =SUM(H55:I57) -> 1.3928867e+08 | V55: =IF(Oljepris!B55>50,(Oljepris!B55-50)*0.5*C55*0.75*Oljepris!D55,0) -> 21993750 | X55: =X54+V55 -> 62855200
A56: 44317 | C56: =IF(Kurdistan!I57>0,Kurdistan!I57,Kurdistan!C57) -> 112700 | D56: ='Norge-UK'!AA57 -> 13806.346 | E56: =Oljepris!B56-13.15 -> 53.85 | F56: =Oljepris!B56-1 -> 66 | H56: =Kurdistan!H57*E56*Oljepris!D56*0.03 -> 5382160.7 | I56: =(C56*E56*Oljepris!D56*0.71*0.3-H56)*1.212 -> 42045193 | J56: =D56*F56*Oljepris!D56*0.879 -> 24829802 | K56: =IF(G56<>0,G56+I56+J56,H56+I56+J56) -> 72257156 | M56: NCS: | N56: =SUM(J55:J57) -> 72901381 | V56: =IF(Oljepris!B56>50,(Oljepris!B56-50)*0.5*C56*0.75*Oljepris!D56,0) -> 22272338 | X56: =X55+V56 -> 85127537
A57: 44348 | C57: =IF(Kurdistan!I58>0,Kurdistan!I58,Kurdistan!C58) -> 110446 | D57: ='Norge-UK'!AA58 -> 13573.152 | E57: =Oljepris!B57-13.15 -> 53.85 | F57: =Oljepris!B57-1 -> 66 | H57: =Kurdistan!H58*E57*Oljepris!D57*0.03 -> 5225534.3 | I57: =(C57*E57*Oljepris!D57*0.71*0.3-H57)*1.212 -> 39728269 | J57: =D57*F57*Oljepris!D57*0.879 -> 23622985 | K57: =IF(G57<>0,G57+I57+J57,H57+I57+J57) -> 68576788 | L57: =SUM(I55:I57)+SUM(J55:J57) -> 1.9661369e+08 | M57: =SUM(H55:H57) -> 15576356 | N57: =L57+M57 -> 2.1219005e+08 | V57: =IF(Oljepris!B57>50,(Oljepris!B57-50)*0.5*C57*0.75*Oljepris!D57,0) -> 21122798 | W57: =SUM(V55:V57) -> 65388885 | X57: =X56+V57 -> 1.0625033e+08
A58: 44378 | C58: =IF(Kurdistan!I59>0,Kurdistan!I59,Kurdistan!C59) -> 108237.08 | D58: ='Norge-UK'!AA59 -> 13347.66 | E58: =Oljepris!B58-13.15 -> 53.85 | F58: =Oljepris!B58-1 -> 66 | H58: =Kurdistan!H59*E58*Oljepris!D58*0.03 -> 5416925.6 | I58: =(C58*E58*Oljepris!D58*0.71*0.3-H58)*1.212 -> 40079750 | J58: =D58*F58*Oljepris!D58*0.879 -> 24004886 | K58: =IF(G58<>0,G58+I58+J58,H58+I58+J58) -> 69501561 | M58: Kurdistan: | N58: =SUM(H58:I60) -> 1.3234322e+08 | V58: =IF(Oljepris!B58>50,(Oljepris!B58-50)*0.5*C58*0.75*Oljepris!D58,0) -> 21390353 | X58: =X57+V58 -> 1.2764069e+08
A59: 44409 | C59: =IF(Kurdistan!I60>0,Kurdistan!I60,Kurdistan!C60) -> 106072.34 | D59: ='Norge-UK'!AA60 -> 13129.6 | E59: =Oljepris!B59-13.15 -> 53.85 | F59: =Oljepris!B59-1 -> 66 | H59: =Kurdistan!H60*E59*Oljepris!D59*0.03 -> 5308587.1 | I59: =(C59*E59*Oljepris!D59*0.71*0.3-H59)*1.212 -> 39278155 | J59: =D59*F59*Oljepris!D59*0.879 -> 23612719 | K59: =IF(G59<>0,G59+I59+J59,H59+I59+J59) -> 68199461 | M59: NCS: | N59: =SUM(J58:J60) -> 70101586 | V59: =IF(Oljepris!B59>50,(Oljepris!B59-50)*0.5*C59*0.75*Oljepris!D59,0) -> 20962546 | X59: =X58+V59 -> 1.4860323e+08
A60: 44440 | C60: =IF(Kurdistan!I61>0,Kurdistan!I61,Kurdistan!C61) -> 103950.89 | D60: ='Norge-UK'!AA61 -> 12918.71 | E60: =Oljepris!B60-13.15 -> 53.85 | F60: =Oljepris!B60-1 -> 66 | H60: =Kurdistan!H61*E60*Oljepris!D60*0.03 -> 5155758 | I60: =(C60*E60*Oljepris!D60*0.71*0.3-H60)*1.212 -> 37104046 | J60: =D60*F60*Oljepris!D60*0.879 -> 22483981 | K60: =IF(G60<>0,G60+I60+J60,H60+I60+J60) -> 64743786 | L60: =SUM(I58:I60)+SUM(J58:J60) -> 1.8656354e+08 | M60: =SUM(H58:H60) -> 15881271 | N60: =L60+M60 -> 2.0244481e+08 | V60: =IF(Oljepris!B60>50,(Oljepris!B60-50)*0.5*C60*0.75*Oljepris!D60,0) -> 19880608 | W60: =SUM(V58:V60) -> 62233507 | X60: =X59+V60 -> 1.6848384e+08
A61: 44470 | C61: =IF(Kurdistan!I62>0,Kurdistan!I62,Kurdistan!C62) -> 101871.87 | D61: ='Norge-UK'!AA62 -> 12714.74 | E61: =Oljepris!B61-13.15 -> 53.85 | F61: =Oljepris!B61-1 -> 66 | H61: =Kurdistan!H62*E61*Oljepris!D61*0.03 -> 5696829 | I61: =(C61*E61*Oljepris!D61*0.71*0.3-H61)*1.212 -> 36997404 | J61: =D61*F61*Oljepris!D61*0.879 -> 22866621 | K61: =IF(G61<>0,G61+I61+J61,H61+I61+J61) -> 65560854 | M61: Kurdistan: | N61: =SUM(H61:I63) -> 1.2416189e+08 | V61: =IF(Oljepris!B61>50,(Oljepris!B61-50)*0.5*C61*0.75*Oljepris!D61,0) -> 20132429 | X61: =X60+V61 -> 1.8861627e+08
A62: 44501 | C62: =IF(Kurdistan!I63>0,Kurdistan!I63,Kurdistan!C63) -> 99834.436 | D62: ='Norge-UK'!AA63 -> 12517.449 | E62: =Oljepris!B62-13.15 -> 53.85 | F62: =Oljepris!B62-1 -> 66 | H62: =Kurdistan!H63*E62*Oljepris!D62*0.03 -> 5402799.2 | I62: =(C62*E62*Oljepris!D62*0.71*0.3-H62)*1.212 -> 35087861 | J62: =D62*F62*Oljepris!D62*0.879 -> 21785618 | K62: =IF(G62<>0,G62+I62+J62,H62+I62+J62) -> 62276278 | M62: NCS: | N62: =SUM(J61:J63) -> 66820822 | V62: =IF(Oljepris!B62>50,(Oljepris!B62-50)*0.5*C62*0.75*Oljepris!D62,0) -> 19093336 | X62: =X61+V62 -> 2.0770961e+08
A63: 44531 | C63: =IF(Kurdistan!I64>0,Kurdistan!I64,Kurdistan!C64) -> 97837.748 | D63: ='Norge-UK'!AA64 -> 12326.604 | E63: =Oljepris!B63-13.15 -> 53.85 | F63: =Oljepris!B63-1 -> 66 | H63: =Kurdistan!H64*E63*Oljepris!D63*0.03 -> 5596435.9 | I63: =(C63*E63*Oljepris!D63*0.71*0.3-H63)*1.212 -> 35380563 | J63: =D63*F63*Oljepris!D63*0.879 -> 22168583 | K63: =IF(G63<>0,G63+I63+J63,H63+I63+J63) -> 63145582 | L63: =SUM(I61:I63)+SUM(J61:J63) -> 1.7428665e+08 | M63: =SUM(H61:H63) -> 16696064 | N63: =L63+M63 -> 1.9098271e+08 | P63: =N54+N57+N60+N63 -> 7.9779423e+08 | V63: =IF(Oljepris!B63>50,(Oljepris!B63-50)*0.5*C63*0.75*Oljepris!D63,0) -> 19335185 | W63: =SUM(V61:V63) -> 58560950 | X63: =X62+V63 -> 2.2704479e+08
A64: 44562 | C64: =IF(Kurdistan!I65>0,Kurdistan!I65,Kurdistan!C65) -> 95880.993 | D64: ='Norge-UK'!AA65 -> 12141.982 | E64: =Oljepris!B64-13.15 -> 51.85 | F64: =Oljepris!B64-1 -> 64 | H64: =Kurdistan!H65*E64*Oljepris!D64*0.03 -> 5401362.7 | I64: =(C64*E64*Oljepris!D64*0.71*0.3-H64)*1.212 -> 33239083 | J64: =D64*F64*Oljepris!D64*0.879 -> 21174839 | K64: =IF(G64<>0,G64+I64+J64,H64+I64+J64) -> 59815285 | M64: Kurdistan: | N64: =SUM(H64:I66) -> 1.0990563e+08 | V64: =IF(Oljepris!B64>50,(Oljepris!B64-50)*0.5*C64*0.75*Oljepris!D64,0) -> 16719248 | X64: =X63+V64 -> 2.4376404e+08
A65: 44593 | C65: =IF(Kurdistan!I66>0,Kurdistan!I66,Kurdistan!C66) -> 93963.373 | D65: ='Norge-UK'!AA66 -> 11963.368 | E65: =Oljepris!B65-13.15 -> 51.85 | F65: =Oljepris!B65-1 -> 64 | H65: =Kurdistan!H66*E65*Oljepris!D65*0.03 -> 4889962.2 | I65: =(C65*E65*Oljepris!D65*0.71*0.3-H65)*1.212 -> 29289981 | J65: =D65*F65*Oljepris!D65*0.879 -> 18844315 | K65: =IF(G65<>0,G65+I65+J65,H65+I65+J65) -> 53024258 | M65: NCS: | N65: =SUM(J64:J66) -> 60581131 | V65: =IF(Oljepris!B65>50,(Oljepris!B65-50)*0.5*C65*0.75*Oljepris!D65,0) -> 14799231 | X65: =X64+V65 -> 2.5856327e+08
A66: 44621 | C66: =IF(Kurdistan!I67>0,Kurdistan!I67,Kurdistan!C67) -> 92084.105 | D66: ='Norge-UK'!AA67 -> 11790.557 | E66: =Oljepris!B66-13.15 -> 51.85 | F66: =Oljepris!B66-1 -> 64 | H66: =Kurdistan!H67*E66*Oljepris!D66*0.03 -> 5305608.9 | I66: =(C66*E66*Oljepris!D66*0.71*0.3-H66)*1.212 -> 31779630 | J66: =D66*F66*Oljepris!D66*0.879 -> 20561977 | K66: =IF(G66<>0,G66+I66+J66,H66+I66+J66) -> 57647215 | L66: =SUM(I64:I66)+SUM(J64:J66) -> 1.5488982e+08 | M66: =SUM(H64:H66) -> 15596934 | N66: =L66+M66 -> 1.7048676e+08 | V66: =IF(Oljepris!B66>50,(Oljepris!B66-50)*0.5*C66*0.75*Oljepris!D66,0) -> 16057166 | W66: =SUM(V64:V66) -> 47575645 | X66: =X65+V66 -> 2.7462044e+08
A67: 44652 | C67: =IF(Kurdistan!I68>0,Kurdistan!I68,Kurdistan!C68) -> 90242.423 | D67: ='Norge-UK'!AA68 -> 11623.349 | E67: =Oljepris!B67-13.15 -> 51.85 | F67: =Oljepris!B67-1 -> 64 | H67: =Kurdistan!H68*E67*Oljepris!D67*0.03 -> 5031771.1 | I67: =(C67*E67*Oljepris!D67*0.71*0.3-H67)*1.212 -> 30139391 | J67: =D67*F67*Oljepris!D67*0.879 -> 19616493 | K67: =IF(G67<>0,G67+I67+J67,H67+I67+J67) -> 54787655 | M67: Kurdistan: | N67: =SUM(H67:I69) -> 1.0456621e+08 | V67: =IF(Oljepris!B67>50,(Oljepris!B67-50)*0.5*C67*0.75*Oljepris!D67,0) -> 15228409 | X67: =X66+V67 -> 2.8984885e+08
A68: 44682 | C68: =IF(Kurdistan!I69>0,Kurdistan!I69,Kurdistan!C69) -> 88437.575 | D68: ='Norge-UK'!AA69 -> 11461.553 | E68: =Oljepris!B68-13.15 -> 51.85 | F68: =Oljepris!B68-1 -> 64 | H68: =Kurdistan!H69*E68*Oljepris!D68*0.03 -> 5095506.8 | I68: =(C68*E68*Oljepris!D68*0.71*0.3-H68)*1.212 -> 30521156 | J68: =D68*F68*Oljepris!D68*0.879 -> 19988215 | K68: =IF(G68<>0,G68+I68+J68,H68+I68+J68) -> 55604878 | M68: NCS: | N68: =SUM(J67:J69) -> 58683907 | V68: =IF(Oljepris!B68>50,(Oljepris!B68-50)*0.5*C68*0.75*Oljepris!D68,0) -> 15421302 | X68: =X67+V68 -> 3.0527015e+08
A69: 44713 | C69: =IF(Kurdistan!I70>0,Kurdistan!I70,Kurdistan!C70) -> 86668.823 | D69: ='Norge-UK'!AA70 -> 11304.986 | E69: =Oljepris!B69-13.15 -> 51.85 | F69: =Oljepris!B69-1 -> 64 | H69: =Kurdistan!H70*E69*Oljepris!D69*0.03 -> 4832512.9 | I69: =(C69*E69*Oljepris!D69*0.71*0.3-H69)*1.212 -> 28945871 | J69: =D69*F69*Oljepris!D69*0.879 -> 19079198 | K69: =IF(G69<>0,G69+I69+J69,H69+I69+J69) -> 52857582 | L69: =SUM(I67:I69)+SUM(J67:J69) -> 1.4829032e+08 | M69: =SUM(H67:H69) -> 14959791 | N69: =L69+M69 -> 1.6325011e+08 | V69: =IF(Oljepris!B69>50,(Oljepris!B69-50)*0.5*C69*0.75*Oljepris!D69,0) -> 14625364 | W69: =SUM(V67:V69) -> 45275075 | X69: =X68+V69 -> 3.1989551e+08
A70: 44743 | C70: =IF(Kurdistan!I71>0,Kurdistan!I71,Kurdistan!C71) -> 84935.447 | D70: ='Norge-UK'!AA71 -> 11153.47 | E70: =Oljepris!B70-13.15 -> 51.85 | F70: =Oljepris!B70-1 -> 64 | H70: =Kurdistan!H71*E70*Oljepris!D70*0.03 -> 4893724.8 | I70: =(C70*E70*Oljepris!D70*0.71*0.3-H70)*1.212 -> 29312518 | J70: =D70*F70*Oljepris!D70*0.879 -> 19450937 | K70: =IF(G70<>0,G70+I70+J70,H70+I70+J70) -> 53657181 | M70: Kurdistan: | N70: =SUM(H70:I72) -> 99520306 | V70: =IF(Oljepris!B70>50,(Oljepris!B70-50)*0.5*C70*0.75*Oljepris!D70,0) -> 14810619 | X70: =X69+V70 -> 3.3470613e+08
A71: 44774 | C71: =IF(Kurdistan!I72>0,Kurdistan!I72,Kurdistan!C72) -> 83236.738 | D71: ='Norge-UK'!AA72 -> 11006.835 | E71: =Oljepris!B71-13.15 -> 51.85 | F71: =Oljepris!B71-1 -> 64 | H71: =Kurdistan!H72*E71*Oljepris!D71*0.03 -> 4795850.3 | I71: =(C71*E71*Oljepris!D71*0.71*0.3-H71)*1.212 -> 28726268 | J71: =D71*F71*Oljepris!D71*0.879 -> 19195216 | K71: =IF(G71<>0,G71+I71+J71,H71+I71+J71) -> 52717335 | M71: NCS: | N71: =SUM(J70:J72) -> 56982660 | V71: =IF(Oljepris!B71>50,(Oljepris!B71-50)*0.5*C71*0.75*Oljepris!D71,0) -> 14514406 | X71: =X70+V71 -> 3.4922054e+08
A72: 44805 | C72: =IF(Kurdistan!I73>0,Kurdistan!I73,Kurdistan!C73) -> 81572.003 | D72: ='Norge-UK'!AA73 -> 10864.919 | E72: =Oljepris!B72-13.15 -> 51.85 | F72: =Oljepris!B72-1 -> 64 | H72: =Kurdistan!H73*E72*Oljepris!D72*0.03 -> 4548322.5 | I72: =(C72*E72*Oljepris!D72*0.71*0.3-H72)*1.212 -> 27243622 | J72: =D72*F72*Oljepris!D72*0.879 -> 18336506 | K72: =IF(G72<>0,G72+I72+J72,H72+I72+J72) -> 50128450 | L72: =SUM(I70:I72)+SUM(J70:J72) -> 1.4226507e+08 | M72: =SUM(H70:H72) -> 14237898 | N72: =L72+M72 -> 1.5650297e+08 | V72: =IF(Oljepris!B72>50,(Oljepris!B72-50)*0.5*C72*0.75*Oljepris!D72,0) -> 13765276 | W72: =SUM(V70:V72) -> 43090300 | X72: =X71+V72 -> 3.6298581e+08
A73: 44835 | C73: =IF(Kurdistan!I74>0,Kurdistan!I74,Kurdistan!C74) -> 79940.563 | D73: ='Norge-UK'!AA74 -> 10727.562 | E73: =Oljepris!B73-13.15 -> 51.85 | F73: =Oljepris!B73-1 -> 64 | H73: =Kurdistan!H74*E73*Oljepris!D73*0.03 -> 4605934.6 | I73: =(C73*E73*Oljepris!D73*0.71*0.3-H73)*1.212 -> 27588708 | J73: =D73*F73*Oljepris!D73*0.879 -> 18708182 | K73: =IF(G73<>0,G73+I73+J73,H73+I73+J73) -> 50902824 | M73: Kurdistan: | N73: =SUM(H73:I75) -> 93647360 | V73: =IF(Oljepris!B73>50,(Oljepris!B73-50)*0.5*C73*0.75*Oljepris!D73,0) -> 13939636 | X73: =X72+V73 -> 3.7692545e+08
A74: 44866 | C74: =IF(Kurdistan!I75>0,Kurdistan!I75,Kurdistan!C75) -> 78341.752 | D74: ='Norge-UK'!AA75 -> 10594.615 | E74: =Oljepris!B74-13.15 -> 51.85 | F74: =Oljepris!B74-1 -> 64 | H74: =Kurdistan!H75*E74*Oljepris!D74*0.03 -> 4368208.9 | I74: =(C74*E74*Oljepris!D74*0.71*0.3-H74)*1.212 -> 26164775 | J74: =D74*F74*Oljepris!D74*0.879 -> 17880319 | K74: =IF(G74<>0,G74+I74+J74,H74+I74+J74) -> 48413303 | M74: NCS: | N74: =SUM(J73:J75) -> 54840414 | V74: =IF(Oljepris!B74>50,(Oljepris!B74-50)*0.5*C74*0.75*Oljepris!D74,0) -> 13220171 | X74: =X73+V74 -> 3.9014562e+08
A75: 44896 | C75: =IF(Kurdistan!I76>0,Kurdistan!I76,Kurdistan!C76) -> 76774.917 | D75: ='Norge-UK'!AA76 -> 10465.93 | E75: =Oljepris!B75-13.15 -> 51.85 | F75: =Oljepris!B75-1 -> 64 | H75: =Kurdistan!H76*E75*Oljepris!D75*0.03 -> 4423539.6 | I75: =(C75*E75*Oljepris!D75*0.71*0.3-H75)*1.212 -> 26496195 | J75: =D75*F75*Oljepris!D75*0.879 -> 18251912 | K75: =IF(G75<>0,G75+I75+J75,H75+I75+J75) -> 49171647 | L75: =SUM(I73:I75)+SUM(J73:J75) -> 1.3509009e+08 | M75: =SUM(H73:H75) -> 13397683 | N75: =L75+M75 -> 1.4848777e+08 | P75: =N66+N69+N72+N75 -> 6.3872761e+08 | V75: =IF(Oljepris!B75>50,(Oljepris!B75-50)*0.5*C75*0.75*Oljepris!D75,0) -> 13387626 | W75: =SUM(V73:V75) -> 40547432 | X75: =X74+V75 -> 4.0353324e+08
O77: =N52+N55+N58+N61 -> 5.1706553e+08 | V77: =SUM(V52:V76) -> 4.0353324e+08

Sheet Oljepris
A1: Oljepris | D1: Days in month
A2: https://www.eia.gov/dnav/pet/hist/LeafHandler.ashx?n=PET&s=RBRTE&f=M
A4: 42736 | B4: 54.58 | D4: 31 | F4: Estimat 2017 | H4: 60 | J4: Gj. Snitt 2017: | L4: =SUM(B4:B15)/12 -> 54.273333
A5: 42767 | B5: 54.87 | D5: 28 | F5: Estimat 2018 | H5: 55 | J5: Gj. Snitt 2018: | L5: =SUM(B16:B27)/12 -> 71.0225
A6: 42795 | B6: 51.9 | D6: 31 | F6: Estimat 2019 | H6: 64 | J6: Gj. Snitt 2019: | L6: =SUM(B28:B39)/12 -> 64.358333
A7: 42826 | B7: 52.31 | D7: 30 | F7: Estimat 2020 | H7: 54 | J7: Gj. Snitt 2020: | L7: =SUM(B40:B51)/12 -> 41.774167
A8: 42856 | B8: 50.33 | D8: 31 | F8: Estimat 2021 | H8: 67 | J8: Gj. Snitt 2021: | L8: =SUM(B52:B63)/12 -> 65.453333
A9: 42887 | B9: 46.37 | D9: 30 | F9: Estimat 2022 | H9: 65 | J9: Gj. Snitt 2022: | L9: =SUM(B64:B75)/12 -> 65
A10: 42917 | B10: 48.48 | D10: 31
A11: 42948 | B11: 51.7 | D11: 31
A12: 42979 | B12: 56.15 | D12: 30
A13: 43009 | B13: 57.51 | D13: 31
A14: 43040 | B14: 62.71 | D14: 30
A15: 43070 | B15: 64.37 | D15: 31 | H15: =SUM(B4:B15)/12 -> 54.273333
A16: 43101 | B16: 69.08 | D16: 31
A17: 43132 | B17: 65.32 | D17: 28
A18: 43160 | B18: 66.02 | D18: 31 | F18: =SUM(B16:B18)/3 -> 66.806667
A19: 43191 | B19: 72.11 | D19: 30
A20: 43221 | B20: 76.97 | D20: 31
A21: 43252 | B21: 74.41 | D21: 30 | F21: =SUM(B19:B21)/3 -> 74.496667
A22: 43282 | B22: 74.25 | D22: 31
A23: 43313 | B23: 72.53 | D23: 31
A24: 43344 | B24: 78.89 | D24: 30 | F24: =SUM(B22:B24)/3 -> 75.223333
A25: 43374 | B25: 81.03 | D25: 31
A26: 43405 | B26: 64.75 | D26: 30
A27: 43435 | B27: 56.91 | D27: 31 | F27: =SUM(B25:B27)/3 -> 67.563333 | H27: =SUM(B16:B27)/12 -> 71.0225
A28: 43466 | B28: 59.41 | D28: 31
A29: 43497 | B29: 63.96 | D29: 28
A30: 43525 | B30: 66.14 | D30: 31 | F30: =SUM(B28:B30)/3 -> 63.17
A31: 43556 | B31: 71.23 | D31: 30
A32: 43586 | B32: 71.32 | D32: 31
A33: 43617 | B33: 64.22 | D33: 30 | F33: =SUM(B31:B33)/3 -> 68.923333
A34: 43647 | B34: 63.92 | D34: 31
A35: 43678 | B35: 59.04 | D35: 31
A36: 43709 | B36: 62.83 | D36: 30 | F36: =SUM(B34:B36)/3 -> 61.93
A37: 43739 | B37: 59.71 | D37: 31
A38: 43770 | B38: 63.21 | D38: 30
A39: 43800 | B39: 67.31 | D39: 31 | F39: =SUM(B37:B39)/3 -> 63.41 | H39: =SUM(B28:B39)/12 -> 64.358333
A40: 43831 | B40: 63.83 | D40: 31
A41: 43862 | B41: 55.66 | D41: 29
A42: 43891 | B42: 32.01 | D42: 31 | F42: =SUM(B40:B42)/3 -> 50.5
A43: 43922 | B43: 18.38 | D43: 30
A44: 43952 | B44: 29.38 | D44: 31
A45: 43983 | B45: 40.27 | D45: 30 | F45: =SUM(B43:B45)/3 -> 29.343333
A46: 44013 | B46: 43.24 | D46: 31
A47: 44044 | B47: 44.74 | D47: 31
A48: 44075 | B48: 40.91 | D48: 30 | F48: =SUM(B46:B48)/3 -> 42.963333
A49: 44105 | B49: 40.19 | D49: 31
A50: 44136 | B50: 42.69 | D50: 30
A51: 44166 | B51: 49.99 | D51: 31 | F51: =SUM(B49:B51)/3 -> 44.29 | H51: =SUM(B40:B51)/12 -> 41.774167
A52: 44197 | B52: 54.77 | D52: 31
A53: 44228 | B53: 62.26 | D53: 28
A54: 44256 | B54: 65.41 | D54: 31 | F54: =SUM(B52:B54)/3 -> 60.813333
A55: 44287 | B55: =$H$8 -> 67 | D55: 30
A56: 44317 | B56: =$H$8 -> 67 | D56: 31
A57: 44348 | B57: =$H$8 -> 67 | D57: 30
A58: 44378 | B58: =$H$8 -> 67 | D58: 31
A59: 44409 | B59: =$H$8 -> 67 | D59: 31
A60: 44440 | B60: =$H$8 -> 67 | D60: 30
A61: 44470 | B61: =$H$8 -> 67 | D61: 31
A62: 44501 | B62: =$H$8 -> 67 | D62: 30
A63: 44531 | B63: =$H$8 -> 67 | D63: 31
A64: 44562 | B64: =$H$9 -> 65 | D64: 31
A65: 44593 | B65: =$H$9 -> 65 | D65: 28
A66: 44621 | B66: =$H$9 -> 65 | D66: 31
A67: 44652 | B67: =$H$9 -> 65 | D67: 30
A68: 44682 | B68: =$H$9 -> 65 | D68: 31
A69: 44713 | B69: =$H$9 -> 65 | D69: 30
A70: 44743 | B70: =$H$9 -> 65 | D70: 31
A71: 44774 | B71: =$H$9 -> 65 | D71: 31
A72: 44805 | B72: =$H$9 -> 65 | D72: 30
A73: 44835 | B73: =$H$9 -> 65 | D73: 31
A74: 44866 | B74: =$H$9 -> 65 | D74: 30
A75: 44896 | B75: =$H$9 -> 65 | D75: 31

Sheet Kurdistan
A1: Tawke | B1: Decline faktor: | C1: 0.02 | D1: Info | E1: Tawke cret | F1: Jeribe | G1: Peshkabir | J1: Erbil | K1: Decline faktor: | L1: 0.01 | M1: Info | N1: Reservoir 1 | O1: Reservoir 2
E2: 2500 | F2: 500 | G2: 7000 | N2: 3000 | O2: 3000
A3: Måned | B3: Forrige måned | C3: Ny inc. decline | D3: Ny produksjon | H3: Estimat | I3: Reell | K3: Forrige måned | L3: Decline | M3: Ny produksjon | P3: Estimat | Q3: Reell | R3: Sum
A5: 42736 | B5: 109546 | C5: =B5-(B5*$C$1) -> 107355.08 | D5: Ingen | E5: 0 | F5: 0 | G5: 0 | H5: =C5+(E5*$E$2)+(F5*$F$2) -> 107355.08 | I5: 112537 | K5: 0 | L5: =K5-(K5*$L$1) -> 0 | P5: =L5+(N5*$N$2)+(O5*$O$2) -> 0 | Q5: 0 | R5: =IF(I5=0,H5+P5,I5+Q5) -> 112537
A6: 42767 | B6: =IF(I5=0,H5,I5) -> 112537 | C6: =B6-(B6*$C$1) -> 110286.26 | D6: Ingen | E6: 0 | F6: 0 | G6: 0 | H6: =H5-(H5*$C$1)+(E6*$E$2)+(F6*$F$2) -> 105207.98 | I6: 110641 | K6: =IF(Q5=0,P5,Q5) -> 0 | L6: =K6-(K6*$L$1) -> 0 | P6: =L6+(N6*$N$2)+(O6*$O$2) -> 0 | R6: =IF(I6=0,H6+P6,I6+Q6) -> 110641
A7: 42795 | B7: =IF(I6=0,H6,I6) -> 110641 | C7: =B7-(B7*$C$1) -> 108428.18 | D7: Ingen | E7: 0 | F7: 0 | G7: 0 | H7: =H6-(H6*$C$1)+(E7*$E$2)+(F7*$F$2) -> 103103.82 | I7: 108513 | K7: =IF(Q6=0,P6,Q6) -> 0 | L7: =K7-(K7*$L$1) -> 0 | P7: =L7+(N7*$N$2)+(O7*$O$2) -> 0 | R7: =IF(I7=0,H7+P7,I7+Q7) -> 108513
A8: 42826 | B8: =IF(I7=0,H7,I7) -> 108513 | C8: =B8-(B8*$C$1) -> 106342.74 | D8: Ingen | E8: 0 | F8: 0 | G8: 0 | H8: =H7-(H7*$C$1)+(E8*$E$2)+(F8*$F$2) -> 101041.74 | I8: 108519 | K8: =IF(Q7=0,P7,Q7) -> 0 | L8: =K8-(K8*$L$1) -> 0 | P8: =L8+(N8*$N$2)+(O8*$O$2) -> 0 | R8: =IF(I8=0,H8+P8,I8+Q8) -> 108519
A9: 42856 | B9: =IF(I8=0,H8,I8) -> 108519 | C9: =B9-(B9*$C$1) -> 106348.62 | D9: Tawke 35 | E9: 1 | F9: 0 | G9: 0 | H9: =H8-(H8*$C$1)+(E9*$E$2)+(F9*$F$2) -> 101520.91 | I9: =IF(Estimat!G8=0,0,Estimat!G8/0.05/Oljepris!D8/(Oljepris!B8-12)) -> 107554.93 | K9: =IF(Q8=0,P8,Q8) -> 0 | L9: =K9-(K9*$L$1) -> 0 | P9: =L9+(N9*$N$2)+(O9*$O$2) -> 0 | R9: =IF(I9=0,H9+P9,I9+Q9) -> 107554.93
A10: 42887 | B10: =IF(I9=0,H9,I9) -> 107554.93 | C10: =B10-(B10*$C$1) -> 105403.84 | D10: Tawke 38, Tawke 39 | E10: 0 | F10: 2 | G10: 0 | H10: =H9-(H9*$C$1)+(E10*$E$2)+(F10*$F$2) -> 100490.49 | I10: =IF(Estimat!G9=0,0,Estimat!G9/0.05/Oljepris!D9/(Oljepris!B9-12)) -> 105660.27 | K10: =IF(Q9=0,P9,Q9) -> 0 | L10: =K10-(K10*$L$1) -> 0 | P10: =L10+(N10*$N$2)+(O10*$O$2) -> 0 | R10: =IF(I10=0,H10+P10,I10+Q10) -> 105660.27
A11: 42917 | B11: =IF(I10=0,H10,I10) -> 105660.27 | C11: =B11-(B11*$C$1) -> 103547.06 | D11: Tawke 42 | E11: 2 | F11: 0 | G11: 0 | H11: =H10-(H10*$C$1)+(E11*$E$2)+(F11*$F$2) -> 103480.68 | I11: =IF(Estimat!G10=0,0,Estimat!G10/0.05/Oljepris!D10/(Oljepris!B10-12)) -> 112521.51 | K11: =IF(Q10=0,P10,Q10) -> 0 | L11: =K11-(K11*$L$1) -> 0 | P11: =L11+(N11*$N$2)+(O11*$O$2) -> 0 | R11: =IF(I11=0,H11+P11,I11+Q11) -> 112521.51
A12: 42948 | B12: =IF(I11=0,H11,I11) -> 112521.51 | C12: =B12-(B12*$C$1) -> 110271.08 | D12: Tawke 41 | E12: 0 | F12: 0 | G12: 0 | H12: =H11-(H11*$C$1)+(E12*$E$2)+(F12*$F$2)+(G12*$G$2) -> 101411.07 | I12: =IF(Estimat!G11=0,0,Estimat!G11/0.03/Oljepris!D11/(Oljepris!B11-12)) -> 108881.12 | K12: =IF(Q11=0,P11,Q11) -> 0 | L12: =K12-(K12*$L$1) -> 0 | P12: =L12+(N12*$N$2)+(O12*$O$2) -> 0 | R12: =IF(I12=0,H12+P12,I12+Q12) -> 108881.12
A13: 42979 | B13: =IF(I12=0,H12,I12) -> 108881.12 | C13: =B13-(B13*$C$1) -> 106703.5 | D13: Tawke 43 | E13: 1 | F13: 0 | G13: 0 | H13: =H12-(H12*$C$1)+(E13*$E$2)+(F13*$F$2)+(G13*$G$2) -> 101882.84 | I13: =IF(Estimat!G12=0,0,Estimat!G12/0.03/Oljepris!D12/(Oljepris!B12-12)) -> 107378.03 | K13: =IF(Q12=0,P12,Q12) -> 0 | L13: =K13-(K13*$L$1) -> 0 | P13: =L13+(N13*$N$2)+(O13*$O$2) -> 0 | R13: =IF(I13=0,H13+P13,I13+Q13) -> 107378.03
A14: 43009 | B14: =IF(I13=0,H13,I13) -> 107378.03 | C14: =B14-(B14*$C$1) -> 105230.47 | D14: Tawke 45 | E14: 0 | F14: 1 | G14: 0 | H14: =H13-(H13*$C$1)+(E14*$E$2)+(F14*$F$2)+(G14*$G$2) -> 100345.19 | I14: =IF(Estimat!G13=0,0,Estimat!G13/0.03/Oljepris!D13/(Oljepris!B13-13.15)) -> 105927.07 | K14: =IF(Q13=0,P13,Q13) -> 0 | L14: =K14-(K14*$L$1) -> 0 | P14: =L14+(N14*$N$2)+(O14*$O$2) -> 0 | R14: =IF(I14=0,H14+P14,I14+Q14) -> 105927.07
A15: 43040 | B15: =IF(I14=0,H14,I14) -> 105927.07 | C15: =B15-(B15*$C$1) -> 103808.53 | D15: Tawke 46, 44 | E15: 1 | F15: 1 | G15: 0 | H15: =H14-(H14*$C$1)+(E15*$E$2)+(F15*$F$2)+(G15*$G$2) -> 101338.28 | I15: =IF(Estimat!G14=0,0,Estimat!G14/0.03/Oljepris!D14/(Oljepris!B14-13.15)) -> 105371.72 | K15: =IF(Q14=0,P14,Q14) -> 0 | L15: =K15-(K15*$L$1) -> 0 | P15: =L15+(N15*$N$2)+(O15*$O$2) -> 0 | R15: =IF(I15=0,H15+P15,I15+Q15) -> 105371.72
A16: 43070 | B16: =IF(I15=0,H15,I15) -> 105371.72 | C16: =B16-(B16*$C$1) -> 103264.28 | D16: Pesh 3 | E16: 0 | F16: 0 | G16: 1 | H16: =H15-(H15*$C$1)+(E16*$E$2)+(F16*$F$2)+(G16*$G$2) -> 106311.52 | I16: =IF(Estimat!G15=0,0,Estimat!G15/0.03/Oljepris!D15/(Oljepris!B15-13.15)) -> 110276.98 | K16: =IF(Q15=0,P15,Q15) -> 0 | L16: =K16-(K16*$L$1) -> 0 | P16: =L16+(N16*$N$2)+(O16*$O$2) -> 0 | R16: =IF(I16=0,H16+P16,I16+Q16) -> 110276.98
A17: 43101 | B17: =IF(I16=0,H16,I16) -> 110276.98 | C17: =B17-(B17*$C$1) -> 108071.44 | D17: Ingen | E17: 0 | F17: 0 | G17: 0 | H17: =H16-(H16*$C$1)+(E17*$E$2)+(F17*$F$2)+(G17*$G$2) -> 104185.29 | I17: =IF(Estimat!G16=0,0,Estimat!G16/0.03/Oljepris!D16/(Oljepris!B16-16.5)) -> 107158.78 | K17: =IF(Q16=0,P16,Q16) -> 0 | L17: =K17-(K17*$L$1) -> 0 | P17: =L17+(N17*$N$2)+(O17*$O$2) -> 0 | R17: =IF(I17=0,H17+P17,I17+Q17) -> 107158.78
A18: 43132 | B18: =IF(I17=0,H17,I17) -> 107158.78 | C18: =B18-(B18*$C$1) -> 105015.6 | D18: Ingen | E18: 0 | F18: 0 | G18: 0 | H18: =H17-(H17*$C$1)+(E18*$E$2)+(F18*$F$2)+(G18*$G$2) -> 102101.58 | I18: =IF(Estimat!G17=0,0,Estimat!G17/0.03/Oljepris!D17/(Oljepris!B17-13.15)) -> 102994.33 | K18: =IF(Q17=0,P17,Q17) -> 0 | L18: =K18-(K18*$L$1) -> 0 | P18: =L18+(N18*$N$2)+(O18*$O$2) -> 0 | R18: =IF(I18=0,H18+P18,I18+Q18) -> 102994.33
A19: 43160 | B19: =IF(I18=0,H18,I18) -> 102994.33 | C19: =B19-(B19*$C$1) -> 100934.45 | D19: Ingen | E19: 0 | H19: =H18-(H18*$C$1)+(E19*$E$2)+(F19*$F$2)+(G19*$G$2) -> 100059.55 | I19: =IF(Estimat!G18=0,0,Estimat!G18/0.03/Oljepris!D18/(Oljepris!B18-13.15)) -> 113485.91 | K19: =IF(Q18=0,P18,Q18) -> 0 | L19: =K19-(K19*$L$1) -> 0 | P19: =P18-(P18*$L$1)+(N19*$N$2)+(O19*$O$2) -> 0 | R19: =IF(I19=0,H19+P19,I19+Q19) -> 113485.91
A20: 43191 | B20: =IF(I19=0,H19,I19) -> 113485.91 | C20: =B20-(B20*$C$1) -> 111216.19 | D20: Tawke 48 | E20: 1 | F20: 0 | G20: 0 | H20: =H19-(H19*$C$1)+(E20*$E$2)+(F20*$F$2)+(G20*$G$2) -> 100558.36 | I20: =IF(Estimat!G19=0,0,Estimat!G19/0.03/Oljepris!D19/(Oljepris!B19-13.15)) -> 101952.36 | K20: =IF(Q19=0,P19,Q19) -> 0 | L20: =K20-(K20*$L$1) -> 0 | M20: Hawler 1A | N20: 0 | P20: =P19-(P19*$L$1)+(N20*$N$2)+(O20*$O$2) -> 0 | R20: =IF(I20=0,H20+P20,I20+Q20) -> 101952.36
A21: 43221 | B21: =IF(I20=0,H20,I20) -> 101952.36 | C21: =B21-(B21*$C$1) -> 99913.312 | D21: Ingen | E21: 0 | G21: 0 | H21: =H20-(H20*$C$1)+(E21*$E$2)+(F21*$F$2)+(G21*$G$2) -> 98547.192 | I21: =IF(Estimat!G20=0,0,Estimat!G20/0.03/Oljepris!D20/(Oljepris!B20-13.15)) -> 100922.28 | K21: =IF(Q20=0,P20,Q20) -> 0 | L21: =K21-(K21*$L$1) -> 0 | P21: =P20-(P20*$L$1)+(N21*$N$2)+(O21*$O$2) -> 0 | R21: =IF(I21=0,H21+P21,I21+Q21) -> 100922.28
A22: 43252 | B22: =IF(I21=0,H21,I21) -> 100922.28 | C22: =B22-(B22*$C$1) -> 98903.839 | D22: Ingen | E22: 0 | G22: 0 | H22: =H21-(H21*$C$1)+(E22*$E$2)+(F22*$F$2)+(G22*$G$2) -> 96576.249 | I22: =IF(Estimat!G21=0,0,Estimat!G21/0.03/Oljepris!D21/(Oljepris!B21-13.15)) -> 105016.87 | K22: =IF(Q21=0,P21,Q21) -> 0 | L22: =K22-(K22*$L$1) -> 0 | P22: =P21-(P21*$L$1)+(N22*$N$2)+(O22*$O$2) -> 0 | R22: =IF(I22=0,H22+P22,I22+Q22) -> 105016.87
A23: 43282 | B23: =IF(I22=0,H22,I22) -> 105016.87 | C23: =B23-(B23*$C$1) -> 102916.53 | D23: Ingen | E23: 0 | G23: 0 | H23: =H22-(H22*$C$1)+(E23*$E$2)+(F23*$F$2)+(G23*$G$2) -> 94644.724 | I23: =IF(Estimat!G22=0,0,Estimat!G22/0.03/Oljepris!D22/(Oljepris!B22-13.15)) -> 109286.73 | K23: =IF(Q22=0,P22,Q22) -> 0 | L23: =K23-(K23*$L$1) -> 0 | P23: =P22-(P22*$L$1)+(N23*$N$2)+(O23*$O$2) -> 0 | R23: =IF(I23=0,H23+P23,I23+Q23) -> 109286.73
A24: 43313 | B24: =IF(I23=0,H23,I23) -> 109286.73 | C24: =B24-(B24*$C$1) -> 107101 | D24: Pesh 4, 5 | F24: 0 | G24: 2 | H24: =H23-(H23*$C$1)+(E24*$E$2)+(F24*$F$2)+(G24*$G$2) -> 106751.83 | I24: =IF(Estimat!G23=0,0,Estimat!G23/0.03/Oljepris!D23/(Oljepris!B23-13.15)) -> 113176.66 | K24: =IF(Q23=0,P23,Q23) -> 0 | L24: =K24-(K24*$L$1) -> 0 | P24: =P23-(P23*$L$1)+(N24*$N$2)+(O24*$O$2) -> 0 | R24: =IF(I24=0,H24+P24,I24+Q24) -> 113176.66
A25: 43344 | B25: =IF(I24=0,H24,I24) -> 113176.66 | C25: =B25-(B25*$C$1) -> 110913.13 | D25: Pesh 7 | E25: 0 | G25: 1 | H25: =H24-(H24*$C$1)+(E25*$E$2)+(F25*$F$2)+(G25*$G$2) -> 111616.79 | I25: =IF(Estimat!G24=0,0,Estimat!G24/0.03/Oljepris!D24/(Oljepris!B24-13.15)) -> 116621.03 | K25: =IF(Q24=0,P24,Q24) -> 0 | L25: =K25-(K25*$L$1) -> 0 | P25: =P24-(P24*$L$1)+(N25*$N$2)+(O25*$O$2) -> 0 | R25: =IF(I25=0,H25+P25,I25+Q25) -> 116621.03
A26: 43374 | B26: =IF(I25=0,H25,I25) -> 116621.03 | C26: =B26-(B26*$C$1) -> 114288.61 | D26: Pesh 6, T-50, T-51 | E26: 0 | F26: 2 | G26: 1 | H26: =H25-(H25*$C$1)+(E26*$E$2)+(F26*$F$2)+(G26*$G$2) -> 117384.46 | I26: =IF(Estimat!G25=0,0,Estimat!G25/0.03/Oljepris!D25/(Oljepris!B25-13.15)) -> 126725.85 | K26: =IF(Q25=0,P25,Q25) -> 0 | L26: =K26-(K26*$L$1) -> 0 | P26: =P25-(P25*$L$1)+(N26*$N$2)+(O26*$O$2) -> 0 | R26: =IF(I26=0,H26+P26,I26+Q26) -> 126725.85
A27: 43405 | B27: =IF(I26=0,H26,I26) -> 126725.85 | C27: =B27-(B27*$C$1) -> 124191.33 | F27: 0 | G27: 0 | H27: =H26-(H26*$C$1)+(E27*$E$2)+(F27*$F$2)+(G27*$G$2) -> 115036.77 | I27: =IF(Estimat!G26=0,0,Estimat!G26/0.03/Oljepris!D26/(Oljepris!B26-13.15)) -> 127045.65 | K27: =IF(Q26=0,P26,Q26) -> 0 | L27: =K27-(K27*$L$1) -> 0 | P27: =P26-(P26*$L$1)+(N27*$N$2)+(O27*$O$2) -> 0 | R27: =IF(I27=0,H27+P27,I27+Q27) -> 127045.65
A28: 43435 | B28: =IF(I27=0,H27,I27) -> 127045.65 | C28: =B28-(B28*$C$1) -> 124504.74 | D28: Tawke 49 | E28: 1 | F28: 0 | H28: =H27-(H27*$C$1)+(E28*$E$2)+(F28*$F$2)+(G28*$G$2) -> 115236.03 | I28: =IF(Estimat!G27=0,0,Estimat!G27/0.03/Oljepris!D27/(Oljepris!B27-13.15)) -> 127774.17 | K28: =SUM(H26:H28)/3 -> 115885.75 | L28: =K28-(K28*$L$1) -> 114726.89 | M28: Hawler XX | N28: 0 | P28: =P27-(P27*$L$1)+(N28*$N$2)+(O28*$O$2) -> 0 | R28: =IF(I28=0,H28+P28,I28+Q28) -> 127774.17 | S28: =SUM(R17:R28)/12 -> 112680.05
A29: 43466 | B29: =IF(I28=0,H28,I28) -> 127774.17 | C29: =B29-(B29*$C$1) -> 125218.69 | D29: Pesh 8 | F29: 0 | G29: 1 | H29: =H28-(H28*$C$1)+(E29*$E$2)+(F29*$F$2)+(G29*$G$2) -> 119931.31 | I29: =IF(Estimat!G28=0,0,Estimat!G28/0.03/Oljepris!D28/(Oljepris!B28-13.15)) -> 128539.48 | K29: =IF(Q28=0,P28,Q28) -> 0 | L29: =K29-(K29*$L$1) -> 0 | P29: =P28-(P28*$L$1)+(N29*$N$2)+(O29*$O$2) -> 0 | R29: =IF(I29=0,H29+P29,I29+Q29) -> 128539.48
A30: 43497 | B30: =IF(I29=0,H29,I29) -> 128539.48 | C30: =B30-(B30*$C$1) -> 125968.69 | D30: Tawke 52, Pesh 9 | E30: 1 | G30: 1 | H30: =H29-(H29*$C$1)+(E30*$E$2)+(F30*$F$2)+(G30*$G$2) -> 127032.69 | I30: 126500 | K30: =IF(Q29=0,P29,Q29) -> 0 | L30: =K30-(K30*$L$1) -> 0 | P30: =P29-(P29*$L$1)+(N30*$N$2)+(O30*$O$2) -> 0 | R30: =IF(I30=0,H30+P30,I30+Q30) -> 126500
A31: 43525 | B31: =IF(I30=0,H30,I30) -> 126500 | C31: =B31-(B31*$C$1) -> 123970 | D31: Ingen | H31: =H30-(H30*$C$1)+(E31*$E$2)+(F31*$F$2)+(G31*$G$2) -> 124492.03 | I31: 125240 | K31: =IF(Q30=0,P30,Q30) -> 0 | L31: =K31-(K31*$L$1) -> 0 | P31: =P30-(P30*$L$1)+(N31*$N$2)+(O31*$O$2) -> 0 | R31: =IF(I31=0,H31+P31,I31+Q31) -> 125240 | T31: =SUM(R29:R31)/3 -> 126759.83
A32: 43556 | B32: =IF(I31=0,H31,I31) -> 125240 | C32: =B32-(B32*$C$1) -> 122735.2 | D32: Ingen | G32: 0 | H32: =H31-(H31*$C$1)+(E32*$E$2)+(F32*$F$2)+(G32*$G$2) -> 122002.19 | I32: 125000 | K32: =IF(Q31=0,P31,Q31) -> 0 | L32: =K32-(K32*$L$1) -> 0 | P32: =P31-(P31*$L$1)+(N32*$N$2)+(O32*$O$2) -> 0 | R32: =IF(I32=0,H32+P32,I32+Q32) -> 125000
A33: 43586 | B33: =IF(I32=0,H32,I32) -> 125000 | C33: =B33-(B33*$C$1) -> 122500 | D33: Tawke xx, Pesh 10 | E33: 1 | G33: 1 | H33: =H32-(H32*$C$1)+(E33*$E$2)+(F33*$F$2)+(G33*$G$2) -> 129062.15 | I33: 127000 | K33: =IF(Q32=0,P32,Q32) -> 0 | L33: =K33-(K33*$L$1) -> 0 | P33: =P32-(P32*$L$1)+(N33*$N$2)+(O33*$O$2) -> 0 | R33: =IF(I33=0,H33+P33,I33+Q33) -> 127000
A34: 43617 | B34: =IF(I33=0,H33,I33) -> 127000 | C34: =B34-(B34*$C$1) -> 124460 | D34: Ingen | H34: =H33-(H33*$C$1)+(E34*$E$2)+(F34*$F$2)+(G34*$G$2) -> 126480.9 | I34: 127615 | K34: =IF(Q33=0,P33,Q33) -> 0 | L34: =K34-(K34*$L$1) -> 0 | P34: =P33-(P33*$L$1)+(N34*$N$2)+(O34*$O$2) -> 0 | R34: =IF(I34=0,H34+P34,I34+Q34) -> 127615 | T34: =SUM(R32:R34)/3 -> 126538.33
A35: 43647 | B35: =IF(I34=0,H34,I34) -> 127615 | C35: =B35-(B35*$C$1) -> 125062.7 | D35: Ingen | H35: =H34-(H34*$C$1)+(E35*$E$2)+(F35*$F$2)+(G35*$G$2) -> 123951.29 | I35: 120800 | K35: =IF(Q34=0,P34,Q34) -> 0 | L35: =K35-(K35*$L$1) -> 0 | P35: =P34-(P34*$L$1)+(N35*$N$2)+(O35*$O$2) -> 0 | R35: =IF(I35=0,H35+P35,I35+Q35) -> 120800
A36: 43678 | B36: =IF(I35=0,H35,I35) -> 120800 | C36: =B36-(B36*$C$1) -> 118384 | D36: Ingen | H36: =H35-(H35*$C$1)+(E36*$E$2)+(F36*$F$2)+(G36*$G$2) -> 121472.26 | I36: 119700 | K36: =IF(Q35=0,P35,Q35) -> 0 | L36: =K36-(K36*$L$1) -> 0 | P36: =P35-(P35*$L$1)+(N36*$N$2)+(O36*$O$2) -> 0 | R36: =IF(I36=0,H36+P36,I36+Q36) -> 119700
A37: 43709 | B37: =IF(I36=0,H36,I36) -> 119700 | C37: =B37-(B37*$C$1) -> 117306 | D37: Tawke 56 NE, Pesh 12 | E37: 1 | F37: 1 | H37: =H36-(H36*$C$1)+(E37*$E$2)+(F37*$F$2)+(G37*$G$2) -> 122042.82 | I37: 118800 | K37: =IF(Q36=0,P36,Q36) -> 0 | L37: =K37-(K37*$L$1) -> 0 | P37: =P36-(P36*$L$1)+(N37*$N$2)+(O37*$O$2) -> 0 | R37: =IF(I37=0,H37+P37,I37+Q37) -> 118800
A38: 43739 | B38: =IF(I37=0,H37,I37) -> 118800 | C38: =B38-(B38*$C$1) -> 116424 | D38: Pesh 11 | F38: 2 | G38: 1 | H38: =H37-(H37*$C$1)+(E38*$E$2)+(F38*$F$2)+(G38*$G$2) -> 127601.96 | I38: 122000 | K38: =IF(Q37=0,P37,Q37) -> 0 | L38: =K38-(K38*$L$1) -> 0 | M38: Hawler XX | N38: 0 | P38: =P37-(P37*$L$1)+(N38*$N$2)+(O38*$O$2) -> 0 | R38: =IF(I38=0,H38+P38,I38+Q38) -> 122000
A39: 43770 | B39: =IF(I38=0,H38,I38) -> 122000 | C39: =B39-(B39*$C$1) -> 119560 | D39: Tawke 58 | E39: 1 | F39: 2 | H39: =H38-(H38*$C$1)+(E39*$E$2)+(F39*$F$2)+(G39*$G$2) -> 128549.92 | I39: 122850 | K39: =IF(Q38=0,P38,Q38) -> 0 | L39: =K39-(K39*$L$1) -> 0 | P39: =P38-(P38*$L$1)+(N39*$N$2)+(O39*$O$2) -> 0 | R39: =IF(I39=0,H39+P39,I39+Q39) -> 122850
A40: 43800 | B40: =IF(I39=0,H39,I39) -> 122850 | C40: =B40-(B40*$C$1) -> 120393 | D40: Tawke 59 | E40: 1 | F40: 2 | H40: =H39-(H39*$C$1)+(E40*$E$2)+(F40*$F$2)+(G40*$G$2) -> 129478.92 | I40: 123530 | K40: =IF(Q39=0,P39,Q39) -> 0 | L40: =K40-(K40*$L$1) -> 0 | P40: =P39-(P39*$L$1)+(N40*$N$2)+(O40*$O$2) -> 0 | R40: =IF(I40=0,H40+P40,I40+Q40) -> 123530 | S40: =SUM(R29:R40)/12 -> 123964.54
A41: 43831 | B41: =IF(I40=0,H40,I40) -> 123530 | C41: =B41-(B41*$C$1) -> 121059.4 | D41: Tawke 56 NE, Pesh 12 | E41: 1 | F41: 1 | H41: =H40-(H40*$C$1)+(E41*$E$2)+(F41*$F$2)+(G41*$G$2) -> 129889.34 | I41: 117000 | K41: =IF(Q40=0,P40,Q40) -> 0 | L41: =K41-(K41*$L$1) -> 0 | P41: =P40-(P40*$L$1)+(N41*$N$2)+(O41*$O$2) -> 0 | R41: =IF(I41=0,H41+P41,I41+Q41) -> 117000
A42: 43862 | B42: =IF(I41=0,H41,I41) -> 117000 | C42: =B42-(B42*$C$1) -> 114660 | D42: Tawke 23SE | E42: 0 | H42: =H41-(H41*$C$1)+(E42*$E$2)+(F42*$F$2)+(G42*$G$2) -> 127291.56 | I42: 115500 | K42: =IF(Q41=0,P41,Q41) -> 0 | L42: =K42-(K42*$L$1) -> 0 | P42: =P41-(P41*$L$1)+(N42*$N$2)+(O42*$O$2) -> 0 | R42: =IF(I42=0,H42+P42,I42+Q42) -> 115500
A43: 43891 | B43: =IF(I42=0,H42,I42) -> 115500 | C43: =B43-(B43*$C$1) -> 113190 | H43: =H42-(H42*$C$1)+(E43*$E$2)+(F43*$F$2)+(G43*$G$2) -> 124745.72 | I43: 113120 | K43: =IF(Q42=0,P42,Q42) -> 0 | L43: =K43-(K43*$L$1) -> 0 | P43: =P42-(P42*$L$1)+(N43*$N$2)+(O43*$O$2) -> 0 | R43: =IF(I43=0,H43+P43,I43+Q43) -> 113120
A44: 43922 | B44: =IF(I43=0,H43,I43) -> 113120 | C44: =B44-(B44*$C$1) -> 110857.6 | E44: 0 | G44: 0 | H44: =H43-(H43*$C$1)+(E44*$E$2)+(F44*$F$2)+(G44*$G$2) -> 122250.81 | I44: 107000 | K44: =IF(Q43=0,P43,Q43) -> 0 | L44: =K44-(K44*$L$1) -> 0 | P44: =P43-(P43*$L$1)+(N44*$N$2)+(O44*$O$2) -> 0 | R44: =IF(I44=0,H44+P44,I44+Q44) -> 107000
A45: 43952 | B45: =IF(I44=0,H44,I44) -> 107000 | C45: =B45-(B45*$C$1) -> 104860 | H45: =H44-(H44*$C$1)+(E45*$E$2)+(F45*$F$2)+(G45*$G$2) -> 119805.79 | I45: 102000 | K45: =IF(Q44=0,P44,Q44) -> 0 | L45: =K45-(K45*$L$1) -> 0 | P45: =P44-(P44*$L$1)+(N45*$N$2)+(O45*$O$2) -> 0 | R45: =IF(I45=0,H45+P45,I45+Q45) -> 102000
A46: 43983 | B46: =IF(I45=0,H45,I45) -> 102000 | C46: =B46-(B46*$C$1) -> 99960 | F46: 0 | H46: =H45-(H45*$C$1)+(E46*$E$2)+(F46*$F$2)+(G46*$G$2) -> 117409.68 | I46: 97000 | K46: =IF(Q45=0,P45,Q45) -> 0 | L46: =K46-(K46*$L$1) -> 0 | P46: =P45-(P45*$L$1)+(N46*$N$2)+(O46*$O$2) -> 0 | R46: =IF(I46=0,H46+P46,I46+Q46) -> 97000
A47: 44013 | B47: =IF(I46=0,H46,I46) -> 97000 | C47: =B47-(B47*$C$1) -> 95060 | G47: 0 | H47: =H46-(H46*$C$1)+(E47*$E$2)+(F47*$F$2)+(G47*$G$2) -> 115061.48 | I47: 115000 | K47: =IF(Q46=0,P46,Q46) -> 0 | L47: =K47-(K47*$L$1) -> 0 | P47: =P46-(P46*$L$1)+(N47*$N$2)+(O47*$O$2) -> 0 | R47: =IF(I47=0,H47+P47,I47+Q47) -> 115000
A48: 44044 | B48: =IF(I47=0,H47,I47) -> 115000 | C48: =B48-(B48*$C$1) -> 112700 | E48: 0 | H48: =H47-(H47*$C$1)+(E48*$E$2)+(F48*$F$2)+(G48*$G$2) -> 112760.26 | I48: 113800 | K48: =IF(Q47=0,P47,Q47) -> 0 | L48: =K48-(K48*$L$1) -> 0 | M48: Hawler XX | N48: 0 | P48: =P47-(P47*$L$1)+(N48*$N$2)+(O48*$O$2) -> 0 | R48: =IF(I48=0,C48+P48,I48+Q48) -> 113800
A49: 44075 | B49: =IF(I48=0,C48,I48) -> 113800 | C49: =B49-(B49*$C$1) -> 111524 | H49: =H48-(H48*$C$1)+(E49*$E$2)+(F49*$F$2)+(G49*$G$2) -> 110505.05 | I49: 112300 | K49: =IF(Q48=0,P48,Q48) -> 0 | L49: =K49-(K49*$L$1) -> 0 | P49: =P48-(P48*$L$1)+(N49*$N$2)+(O49*$O$2) -> 0 | R49: =IF(I49=0,C49+P49,I49+Q49) -> 112300
A50: 44105 | B50: =IF(I49=0,C49,I49) -> 112300 | C50: =B50-(B50*$C$1) -> 110054 | F50: 0 | H50: =H49-(H49*$C$1)+(E50*$E$2)+(F50*$F$2)+(G50*$G$2) -> 108294.95 | I50: 111250 | K50: =IF(Q49=0,P49,Q49) -> 0 | L50: =K50-(K50*$L$1) -> 0 | P50: =P49-(P49*$L$1)+(N50*$N$2)+(O50*$O$2) -> 0 | R50: =IF(I50=0,C50+P50,I50+Q50) -> 111250
A51: 44136 | B51: =IF(I50=0,C50,I50) -> 111250 | C51: =B51-(B51*$C$1) -> 109025 | G51: 0 | H51: =H50-(H50*$C$1)+(E51*$E$2)+(F51*$F$2)+(G51*$G$2) -> 106129.05 | I51: 110160 | K51: =IF(Q50=0,P50,Q50) -> 0 | L51: =K51-(K51*$L$1) -> 0 | P51: =P50-(P50*$L$1)+(N51*$N$2)+(O51*$O$2) -> 0 | R51: =IF(I51=0,C51+P51,I51+Q51) -> 110160
A52: 44166 | B52: =IF(I51=0,C51,I51) -> 110160 | C52: =B52-(B52*$C$1) -> 107956.8 | E52: 0 | H52: =H51-(H51*$C$1)+(E52*$E$2)+(F52*$F$2)+(G52*$G$2) -> 104006.47 | I52: 109100 | K52: =IF(Q51=0,P51,Q51) -> 0 | L52: =K52-(K52*$L$1) -> 0 | P52: =P51-(P51*$L$1)+(N52*$N$2)+(O52*$O$2) -> 0 | R52: =IF(I52=0,C52+P52,I52+Q52) -> 109100 | S52: =SUM(R41:R52)/12 -> 110269.17
A53: 44197 | B53: =IF(I52=0,C52,I52) -> 109100 | C53: =B53-(B53*$C$1) -> 106918 | D53: Peshkabir 14 | G53: 1 | H53: =H52-(H52*$C$1)+(E53*$E$2)+(F53*$F$2)+(G53*$G$2) -> 108926.34 | I53: 111500
A54: 44228 | B54: =IF(I53=0,C53,I53) -> 111500 | C54: =B54-(B54*$C$1) -> 109270 | H54: =H53-(H53*$C$1)+(E54*$E$2)+(F54*$F$2)+(G54*$G$2) -> 106747.81 | I54: 112000
A55: 44256 | B55: =IF(I54=0,C54,I54) -> 112000 | C55: =B55-(B55*$C$1) -> 109760 | H55: =H54-(H54*$C$1)+(E55*$E$2)+(F55*$F$2)+(G55*$G$2) -> 104612.86 | I55: 113100
A56: 44287 | B56: =IF(I55=0,C55,I55) -> 113100 | C56: =B56-(B56*$C$1) -> 110838 | H56: =H55-(H55*$C$1)+(E56*$E$2)+(F56*$F$2)+(G56*$G$2) -> 102520.6 | I56: 115000
A57: 44317 | B57: =IF(I56=0,C56,I56) -> 115000 | C57: =B57-(B57*$C$1) -> 112700 | D57: Peshkabir 15 | G57: 1 | H57: =H56-(H56*$C$1)+(E57*$E$2)+(F57*$F$2)+(G57*$G$2) -> 107470.19
A58: 44348 | B58: =IF(I57=0,C57,I57) -> 112700 | C58: =B58-(B58*$C$1) -> 110446 | D58: Tawke sidetrack | E58: 1 | H58: =H57-(H57*$C$1)+(E58*$E$2)+(F58*$F$2)+(G58*$G$2) -> 107820.78
A59: 44378 | B59: =IF(I58=0,C58,I58) -> 110446 | C59: =B59-(B59*$C$1) -> 108237.08 | D59: Tawke sidetrack | E59: 1 | H59: =H58-(H58*$C$1)+(E59*$E$2)+(F59*$F$2)+(G59*$G$2) -> 108164.37
A60: 44409 | B60: =IF(I59=0,C59,I59) -> 108237.08 | C60: =B60-(B60*$C$1) -> 106072.34 | H60: =H59-(H59*$C$1)+(E60*$E$2)+(F60*$F$2)+(G60*$G$2) -> 106001.08
A61: 44440 | B61: =IF(I60=0,C60,I60) -> 106072.34 | C61: =B61-(B61*$C$1) -> 103950.89 | D61: Tawke sidetrack | E61: 1 | H61: =H60-(H60*$C$1)+(E61*$E$2)+(F61*$F$2)+(G61*$G$2) -> 106381.06
A62: 44470 | B62: =IF(I61=0,C61,I61) -> 103950.89 | C62: =B62-(B62*$C$1) -> 101871.87 | D62: Peshkabir 17, Tawke 70 | E62: 1 | G62: 1 | H62: =H61-(H61*$C$1)+(E62*$E$2)+(F62*$F$2)+(G62*$G$2) -> 113753.44
A63: 44501 | B63: =IF(I62=0,C62,I62) -> 101871.87 | C63: =B63-(B63*$C$1) -> 99834.436 | H63: =H62-(H62*$C$1)+(E63*$E$2)+(F63*$F$2)+(G63*$G$2) -> 111478.37
A64: 44531 | B64: =IF(I63=0,C63,I63) -> 99834.436 | C64: =B64-(B64*$C$1) -> 97837.748 | D64: Tawke 71 | E64: 1 | H64: =H63-(H63*$C$1)+(E64*$E$2)+(F64*$F$2)+(G64*$G$2) -> 111748.8
A65: 44562 | B65: =IF(I64=0,C64,I64) -> 97837.748 | C65: =B65-(B65*$C$1) -> 95880.993 | D65: Tawke 72 | E65: 1 | H65: =H64-(H64*$C$1)+(E65*$E$2)+(F65*$F$2)+(G65*$G$2) -> 112013.83
A66: 44593 | B66: =IF(I65=0,C65,I65) -> 95880.993 | C66: =B66-(B66*$C$1) -> 93963.373 | D66: Tawke 73 | E66: 1 | H66: =H65-(H65*$C$1)+(E66*$E$2)+(F66*$F$2)+(G66*$G$2) -> 112273.55
A67: 44621 | B67: =IF(I66=0,C66,I66) -> 93963.373 | C67: =B67-(B67*$C$1) -> 92084.105 | H67: =H66-(H66*$C$1)+(E67*$E$2)+(F67*$F$2)+(G67*$G$2) -> 110028.08
A68: 44652 | B68: =IF(I67=0,C67,I67) -> 92084.105 | C68: =B68-(B68*$C$1) -> 90242.423 | H68: =H67-(H67*$C$1)+(E68*$E$2)+(F68*$F$2)+(G68*$G$2) -> 107827.52
A69: 44682 | B69: =IF(I68=0,C68,I68) -> 90242.423 | C69: =B69-(B69*$C$1) -> 88437.575 | H69: =H68-(H68*$C$1)+(E69*$E$2)+(F69*$F$2)+(G69*$G$2) -> 105670.97
A70: 44713 | B70: =IF(I69=0,C69,I69) -> 88437.575 | C70: =B70-(B70*$C$1) -> 86668.823 | H70: =H69-(H69*$C$1)+(E70*$E$2)+(F70*$F$2)+(G70*$G$2) -> 103557.55
A71: 44743 | B71: =IF(I70=0,C70,I70) -> 86668.823 | C71: =B71-(B71*$C$1) -> 84935.447 | H71: =H70-(H70*$C$1)+(E71*$E$2)+(F71*$F$2)+(G71*$G$2) -> 101486.4
A72: 44774 | B72: =IF(I71=0,C71,I71) -> 84935.447 | C72: =B72-(B72*$C$1) -> 83236.738 | H72: =H71-(H71*$C$1)+(E72*$E$2)+(F72*$F$2)+(G72*$G$2) -> 99456.668
A73: 44805 | B73: =IF(I72=0,C72,I72) -> 83236.738 | C73: =B73-(B73*$C$1) -> 81572.003 | H73: =H72-(H72*$C$1)+(E73*$E$2)+(F73*$F$2)+(G73*$G$2) -> 97467.535
A74: 44835 | B74: =IF(I73=0,C73,I73) -> 81572.003 | C74: =B74-(B74*$C$1) -> 79940.563 | H74: =H73-(H73*$C$1)+(E74*$E$2)+(F74*$F$2)+(G74*$G$2) -> 95518.184
A75: 44866 | B75: =IF(I74=0,C74,I74) -> 79940.563 | C75: =B75-(B75*$C$1) -> 78341.752 | H75: =H74-(H74*$C$1)+(E75*$E$2)+(F75*$F$2)+(G75*$G$2) -> 93607.82
A76: 44896 | B76: =IF(I75=0,C75,I75) -> 78341.752 | C76: =B76-(B76*$C$1) -> 76774.917 | H76: =H75-(H75*$C$1)+(E76*$E$2)+(F76*$F$2)+(G76*$G$2) -> 91735.664
A77: 44927 | B77: =IF(I76=0,C76,I76) -> 76774.917 | C77: =B77-(B77*$C$1) -> 75239.418 | H77: =H76-(H76*$C$1)+(E77*$E$2)+(F77*$F$2)+(G77*$G$2) -> 89900.951
A78: 44958 | B78: =IF(I77=0,C77,I77) -> 75239.418 | C78: =B78-(B78*$C$1) -> 73734.63 | H78: =H77-(H77*$C$1)+(E78*$E$2)+(F78*$F$2)+(G78*$G$2) -> 88102.932
... A81: 45047 | B81: =IF(I80=0,C80,I80) -> 70814.739 | C81: =B81-(B81*$C$1) -> 69398.444 | H81: =H80-(H80*$C$1)+(E81*$E$2)+(F81*$F$2)+(G81*$G$2) -> 82921.774

Sheet Norge-UK
A1: Norge-UK | C1: 0.004 | D1: Felt | E1: Ula | G1: Vilje | I1: Enoch | K1: Brage | M1: Tambar | O1: Ringhorne Øst | Q1: Alve | S1: Marulk | U1: Blane | W1: Oda | Y1: Trym
D2: Eierandel / Decline faktor: | E2: 0.2 | F2: -0.01 | G2: 0.28853 | H2: 0.01 | I2: 0.1386 | J2: 0.01 | K2: 0.142567 | L2: 0.01 | M2: 0.45 | N2: 0.03 | O2: 0.2262 | P2: 0.015 | Q2: 0.32 | R2: 0.04 | S2: 0.17 | T2: 0.01 | U2: 0.444982 | V2: 0.01 | W2: 0.15 | X2: 0.001 | Y2: 0.5 | Z2: 0.01 | AA2: 0
A3: Måned | B3: Forrige måned | C3: Ny inc. decline | D3: Comments | E3: Sm3 totalt | F3: boed | G3: Sm3 totalt | H3: boed | I3: Sm3 totalt | J3: boed | K3: Sm3 totalt | L3: boed | M3: Sm3 totalt | N3: boed | O3: Sm3 totalt | P3: boed | Q3: Sm3 totalt | R3: boed | S3: Sm3 totalt | T3: boed | U3: Sm3 totalt | V3: boed | W3: Sm3 totalt | X3: boed | Y3: Sm3 totalt | Z3: boed | AA3: NCS | AB3: Estimat | AC3: Reell
A5: 42736 | B5: 0 | C5: =B5-(B5*$C$1) -> 0 | X5: 0 | AA5: 0 | AB5: =C5+(X5*$X$2)+(AA5*$AA$2) -> 0
A6: 42767 | B6: =IF(AC5=0,AB5,AC5) -> 0 | C6: =B6-(B6*$C$1) -> 0 | AB6: =C6+(X6*$X$2)+(AA6*$AA$2) -> 0
A7: 42795 | B7: =IF(AC6=0,AB6,AC6) -> 0 | C7: =B7-(B7*$C$1) -> 0 | AB7: =C7+(X7*$X$2)+(AA7*$AA$2) -> 0
A8: 42826 | B8: =IF(AC7=0,AB7,AC7) -> 0 | C8: =B8-(B8*$C$1) -> 0 | AB8: =C8+(X8*$X$2)+(AA8*$AA$2) -> 0
A9: 42856 | B9: =IF(AC8=0,AB8,AC8) -> 0 | C9: =B9-(B9*$C$1) -> 0 | AB9: =C9+(X9*$X$2)+(AA9*$AA$2) -> 0
A10: 42887 | B10: =IF(AC9=0,AB9,AC9) -> 0 | C10: =B10-(B10*$C$1) -> 0 | AB10: =C10+(X10*$X$2)+(AA10*$AA$2) -> 0
A11: 42917 | B11: =IF(AC10=0,AB10,AC10) -> 0 | C11: =B11-(B11*$C$1) -> 0 | AB11: =C11+(X11*$X$2)+(AA11*$AA$2) -> 0
A12: 42948 | B12: =IF(AC11=0,AB11,AC11) -> 0 | C12: =B12-(B12*$C$1) -> 0 | AB12: =C12+(X12*$X$2)+(AA12*$AA$2) -> 0
A13: 42979 | B13: =IF(AC12=0,AB12,AC12) -> 0 | C13: =B13-(B13*$C$1) -> 0 | AB13: =C13+(X13*$X$2)+(AA13*$AA$2) -> 0
A14: 43009 | B14: =IF(AC13=0,AB13,AC13) -> 0 | C14: =B14-(B14*$C$1) -> 0 | AB14: =C14+(X14*$X$2)+(AA14*$AA$2) -> 0
A15: 43040 | B15: =IF(AC14=0,AB14,AC14) -> 0 | C15: =B15-(B15*$C$1) -> 0 | AB15: =C15+(X15*$X$2)+(AA15*$AA$2) -> 0
A16: 43070 | B16: =IF(AC15=0,AB15,AC15) -> 0 | C16: =B16-(B16*$C$1) -> 0 | AB16: =C16+(X16*$X$2)+(AA16*$AA$2) -> 0 | AD16: =SUM(AB5:AB16)/12 -> 0
A17: 43101 | B17: =IF(AC16=0,AB16,AC16) -> 0 | C17: =B17-(B17*$C$1) -> 0 | AB17: =C17+(X17*$X$2)+(AA17*$AA$2) -> 0
A18: 43132 | B18: =IF(AC17=0,AB17,AC17) -> 0 | C18: =B18-(B18*$C$1) -> 0 | AB18: =C18+(X18*$X$2)+(AA18*$AA$2) -> 0
A19: 43160 | B19: =IF(AC18=0,AB18,AC18) -> 0 | C19: =B19-(B19*$C$1) -> 0 | AB19: =C19+(X19*$X$2)+(AA19*$AA$2) -> 0
A20: 43191 | B20: =IF(AC19=0,AB19,AC19) -> 0 | C20: =B20-(B20*$C$1) -> 0 | AB20: =C20+(X20*$X$2)+(AA20*$AA$2) -> 0
A21: 43221 | B21: =IF(AC20=0,AB20,AC20) -> 0 | C21: =B21-(B21*$C$1) -> 0 | AB21: =C21+(X21*$X$2)+(AA21*$AA$2) -> 0
A22: 43252 | B22: =IF(AC21=0,AB21,AC21) -> 0 | C22: =B22-(B22*$C$1) -> 0 | AB22: =C22+(X22*$X$2)+(AA22*$AA$2) -> 0
A23: 43282 | B23: =IF(AC22=0,AB22,AC22) -> 0 | C23: =B23-(B23*$C$1) -> 0 | AB23: =C23+(X23*$X$2)+(AA23*$AA$2) -> 0
A24: 43313 | B24: =IF(AC23=0,AB23,AC23) -> 0 | C24: =B24-(B24*$C$1) -> 0 | AB24: =C24+(X24*$X$2)+(AA24*$AA$2) -> 0
A25: 43344 | B25: =IF(AC24=0,AB24,AC24) -> 0 | C25: =B25-(B25*$C$1) -> 0 | AB25: =C25+(X25*$X$2)+(AA25*$AA$2) -> 0
A26: 43374 | B26: =IF(AC25=0,AB25,AC25) -> 0 | C26: =B26-(B26*$C$1) -> 0 | AB26: =C26+(X26*$X$2)+(AA26*$AA$2) -> 0
A27: 43405 | B27: =IF(AC26=0,AB26,AC26) -> 0 | C27: =B27-(B27*$C$1) -> 0 | AB27: =C27+(X27*$X$2)+(AA27*$AA$2) -> 0
A28: 43435 | B28: =IF(AC27=0,AB27,AC27) -> 0 | C28: =B28-(B28*$C$1) -> 0 | AB28: 18100
A29: 43466 | B29: =IF(AC28=0,AB28,AC28) -> 18100 | C29: =B29-(B29*$C$1) -> 18027.6 | E29: 34585 | F29: =(E29*6.2898)/Oljepris!D28*'Norge-UK'!$E$2 -> 1403.437 | G29: 36132 | H29: =IF(G29>0,G29*6.2898*$G$2/Oljepris!D28,H28-H28*$H$2) -> 2115.2325 | I29: 1059 | J29: =IF(I29>0,I29/0.2*6.2898*I$2/Oljepris!$D28,J28-J28*J$2) -> 148.9033 | K29: 46712 | L29: =IF(K29>0,K29*6.2898*K$2/Oljepris!$D28,L28-L28*L$2) -> 1351.2093 | M29: 19622 | N29: =IF(M29>0,M29*6.2898*M$2/Oljepris!$D28,N28-N28*N$2) -> 1791.5582 | O29: 25905 | P29: =IF(O29>0,O29*6.2898*O$2/Oljepris!$D28,P28-P28*P$2) -> 1188.9165 | Q29: 79555 | R29: =IF(Q29>0,Q29*6.2898*Q$2/Oljepris!$D28,R28-R28*R$2) -> 5165.2649 | S29: 62251 | T29: =IF(S29>0,S29*6.2898*S$2/Oljepris!$D28,T28-T28*T$2) -> 2147.1896 | U29: 1409 | V29: =IF(U29>0,U29/0.18*6.2898*U$2/Oljepris!$D28,V28-V28*V$2) -> 706.73414 | W29: 0 | X29: =IF(W29>0,W29*6.2898*W$2/Oljepris!$D28,X28-X28*X$2) -> 0 | Y29: 19592 | Z29: =IF(Y29>0,Y29*6.2898*Y$2/Oljepris!$D28,Z28-Z28*Z$2) -> 1987.5768 | AA29: =Z29+X29+V29+T29+R29+P29+N29+L29+J29+H29+F29 -> 18006.022 | AB29: =AA29 -> 18006.022 | AC29: =AA29 -> 18006.022
A30: 43497 | B30: =IF(AC29=0,AB29,AC29) -> 18006.022 | C30: =B30-(B30*$C$1) -> 17933.998 | E30: 30319 | F30: =(E30*6.2898)/Oljepris!D29*'Norge-UK'!$E$2 -> 1362.146 | G30: 36861 | H30: =IF(G30>0,G30*6.2898*$G$2/Oljepris!D29,H29-H29*$H$2) -> 2389.1141 | I30: 1150 | J30: =IF(I30>0,I30/0.2*6.2898*I$2/Oljepris!$D29,J29-J29*J$2) -> 179.02343 | K30: 44133 | L30: =IF(K30>0,K30*6.2898*K$2/Oljepris!$D29,L29-L29*L$2) -> 1413.3876 | M30: 10716 | N30: =IF(M30>0,M30*6.2898*M$2/Oljepris!$D29,N29-N29*N$2) -> 1083.2383 | O30: 26362 | P30: =IF(O30>0,O30*6.2898*O$2/Oljepris!$D29,P29-P29*P$2) -> 1339.5217 | Q30: 75450 | R30: =IF(Q30>0,Q30*6.2898*Q$2/Oljepris!$D29,R29-R29*R$2) -> 5423.6047 | S30: 55869 | T30: =IF(S30>0,S30*6.2898*S$2/Oljepris!$D29,T29-T29*T$2) -> 2133.5294 | U30: 1429 | V30: =IF(U30>0,U30/0.18*6.2898*U$2/Oljepris!$D29,V29-V29*V$2) -> 793.5622 | W30: 0 | X30: =IF(W30>0,W30*6.2898*W$2/Oljepris!$D29,X29-X29*X$2) -> 0 | Y30: 24126 | Z30: =IF(Y30>0,Y30*6.2898*Y$2/Oljepris!$D29,Z29-Z29*Z$2) -> 2709.7806 | AA30: =Z30+X30+V30+T30+R30+P30+N30+L30+J30+H30+F30 -> 18826.908 | AB30: =AA30 -> 18826.908 | AC30: =AA30 -> 18826.908
A31: 43525 | B31: =IF(AC30=0,AB30,AC30) -> 18826.908 | C31: =B31-(B31*$C$1) -> 18751.6 | D31: Oda i produksjon | E31: 41744 | F31: =(E31*6.2898)/Oljepris!D30*'Norge-UK'!$E$2 -> 1693.9446 | G31: 43395 | H31: =IF(G31>0,G31*6.2898*$G$2/Oljepris!D30,H30-H30*$H$2) -> 2540.4217 | I31: 1360 | J31: =IF(I31>0,I31/0.2*6.2898*I$2/Oljepris!$D30,J30-J30*J$2) -> 191.22615 | K31: 46566 | L31: =IF(K31>0,K31*6.2898*K$2/Oljepris!$D30,L30-L30*L$2) -> 1346.986 | M31: 20630 | N31: =IF(M31>0,M31*6.2898*M$2/Oljepris!$D30,N30-N30*N$2) -> 1883.5922 | O31: 26663 | P31: =IF(O31>0,O31*6.2898*O$2/Oljepris!$D30,P30-P30*P$2) -> 1223.7051 | Q31: 82653 | R31: =IF(Q31>0,Q31*6.2898*Q$2/Oljepris!$D30,R30-R30*R$2) -> 5366.4087 | S31: 23596 | T31: =IF(S31>0,S31*6.2898*S$2/Oljepris!$D30,T30-T30*T$2) -> 813.88389 | U31: 1050 | V31: =IF(U31>0,U31/0.18*6.2898*U$2/Oljepris!$D30,V30-V30*V$2) -> 526.66491 | W31: 11443 | X31: =IF(W31>0,W31*6.2898*W$2/Oljepris!$D30,X30-X30*X$2) -> 348.26217 | Y31: 24656 | Z31: =IF(Y31>0,Y31*6.2898*Y$2/Oljepris!$D30,Z30-Z30*Z$2) -> 2501.3114 | AA31: =Z31+X31+V31+T31+R31+P31+N31+L31+J31+H31+F31 -> 18436.407 | AB31: =AA31 -> 18436.407 | AC31: =AA31 -> 18436.407
A32: 43556 | B32: =IF(AC31=0,AB31,AC31) -> 18436.407 | C32: =B32-(B32*$C$1) -> 18362.661 | E32: 29332 | F32: =(E32*6.2898)/Oljepris!D31*'Norge-UK'!$E$2 -> 1229.9494 | G32: 36901 | H32: =IF(G32>0,G32*6.2898*$G$2/Oljepris!D31,H31-H31*$H$2) -> 2232.2596 | I32: 0.01 | J32: =IF(I32>0,I32/0.2*6.2898*I$2/Oljepris!$D31,J31-J31*J$2) -> 0.0014529438 | K32: 53730 | L32: =IF(K32>0,K32*6.2898*K$2/Oljepris!$D31,L31-L31*L$2) -> 1606.0218 | M32: 19621 | N32: =IF(M32>0,M32*6.2898*M$2/Oljepris!$D31,N31-N31*N$2) -> 1851.1825 | O32: 27832 | P32: =IF(O32>0,O32*6.2898*O$2/Oljepris!$D31,P31-P31*P$2) -> 1319.9352 | Q32: 78564 | R32: =IF(Q32>0,Q32*6.2898*Q$2/Oljepris!$D31,R31-R31*R$2) -> 5270.953 | S32: 30358 | T32: =IF(S32>0,S32*6.2898*S$2/Oljepris!$D31,T31-T31*T$2) -> 1082.0259 | U32: 1429 | V32: =IF(U32>0,U32/0.18*6.2898*U$2/Oljepris!$D31,V31-V31*V$2) -> 740.65805 | W32: 93840 | X32: =IF(W32>0,W32*6.2898*W$2/Oljepris!$D31,X31-X31*X$2) -> 2951.1742 | Y32: 19281 | Z32: =IF(Y32>0,Y32*6.2898*Y$2/Oljepris!$D31,Z31-Z31*Z$2) -> 2021.2272 | AA32: =Z32+X32+V32+T32+R32+P32+N32+L32+J32+H32+F32 -> 20305.388 | AB32: =AA32 -> 20305.388 | AC32: =AA32 -> 20305.388
A33: 43586 | B33: =IF(AC32=0,AB32,AC32) -> 20305.388 | C33: =B33-(B33*$C$1) -> 20224.167 | E33: 26525 | F33: =(E33*6.2898)/Oljepris!D32*'Norge-UK'!$E$2 -> 1076.3674 | G33: 32146 | H33: =IF(G33>0,G33*6.2898*$G$2/Oljepris!D32,H32-H32*$H$2) -> 1881.8849 | I33: 0 | J33: =IF(I33>0,I33/0.2*6.2898*I$2/Oljepris!$D32,J32-J32*J$2) -> 0.0014384144 | K33: 54173 | L33: =IF(K33>0,K33*6.2898*K$2/Oljepris!$D32,L32-L32*L$2) -> 1567.029 | M33: 14743 | N33: =IF(M33>0,M33*6.2898*M$2/Oljepris!$D32,N32-N32*N$2) -> 1346.0882 | O33: 23735 | P33: =IF(O33>0,O33*6.2898*O$2/Oljepris!$D32,P32-P32*P$2) -> 1089.3238 | Q33: 80328 | R33: =IF(Q33>0,Q33*6.2898*Q$2/Oljepris!$D32,R32-R32*R$2) -> 5215.4535 | S33: 57559 | T33: =IF(S33>0,S33*6.2898*S$2/Oljepris!$D32,T32-T32*T$2) -> 1985.351 | U33: 1414 | V33: =IF(U33>0,U33/0.18*6.2898*U$2/Oljepris!$D32,V32-V32*V$2) -> 709.24207 | W33: 104594 | X33: =IF(W33>0,W33*6.2898*W$2/Oljepris!$D32,X32-X32*X$2) -> 3183.2678 | Y33: 22950 | Z33: =IF(Y33>0,Y33*6.2898*Y$2/Oljepris!$D32,Z32-Z32*Z$2) -> 2328.2405 | AA33: =Z33+X33+V33+T33+R33+P33+N33+L33+J33+H33+F33 -> 20382.25 | AB33: =AA33 -> 20382.25 | AC33: =AA33 -> 20382.25
A34: 43617 | B34: =IF(AC33=0,AB33,AC33) -> 20382.25 | C34: =B34-(B34*$C$1) -> 20300.721 | E34: 0.001 | F34: =IF(E34>0,E34*6.2898*$E$2/Oljepris!D33,F33-F33*$F$2) -> 4.1932e-05 | G34: 4134 | H34: =IF(G34>0,G34*6.2898*$G$2/Oljepris!D33,H33-H33*$H$2) -> 250.07889 | I34: 1513 | J34: =IF(I34>0,I34/0.2*6.2898*I$2/Oljepris!$D33,J33-J33*J$2) -> 219.8304 | K34: 68676 | L34: =IF(K34>0,K34*6.2898*K$2/Oljepris!$D33,L33-L33*L$2) -> 2052.7667 | M34: 0.001 | N34: =IF(M34>0,M34*6.2898*M$2/Oljepris!$D33,N33-N33*N$2) -> 9.4347e-05 | O34: 19151 | P34: =IF(O34>0,O34*6.2898*O$2/Oljepris!$D33,P33-P33*P$2) -> 908.23794 | Q34: 78401 | R34: =IF(Q34>0,Q34*6.2898*Q$2/Oljepris!$D33,R33-R33*R$2) -> 5260.0172 | S34: 52862 | T34: =IF(S34>0,S34*6.2898*S$2/Oljepris!$D33,T33-T33*T$2) -> 1884.118 | U34: 0.001 | V34: =IF(U34>0,U34/0.18*6.2898*U$2/Oljepris!$D33,V33-V33*V$2) -> 0.00051830515 | W34: 0.001 | X34: =IF(W34>0,W34*6.2898*W$2/Oljepris!$D33,X33-X33*X$2) -> 3.1449e-05 | Y34: 21460 | Z34: =IF(Y34>0,Y34*6.2898*Y$2/Oljepris!$D33,Z33-Z33*Z$2) -> 2249.6518 | AA34: =Z34+X34+V34+T34+R34+P34+N34+L34+J34+H34+F34 -> 12824.702 | AB34: =C34 -> 20300.721 | AC34: =AA34 -> 12824.702 | AD34: =SUM(AC32:AC34)/3 -> 17837.446
A35: 43647 | B35: =IF(AC34=0,AB34,AC34) -> 12824.702 | C35: =B35-(B35*$C$1) -> 12773.403 | E35: 29153 | F35: =IF(E35>0,E35*6.2898*$E$2/Oljepris!D34,F34-F34*$F$2) -> 1183.0099 | G35: 0.0001 | H35: =IF(G35>0,G35*6.2898*$G$2/Oljepris!D34,H34-H34*$H$2) -> 5.8541806e-06 | I35: 0.0001 | J35: =IF(I35>0,I35/0.2*6.2898*I$2/Oljepris!$D34,J34-J34*J$2) -> 1.4060746e-05 | K35: 59146 | L35: =IF(K35>0,K35*6.2898*K$2/Oljepris!$D34,L34-L34*L$2) -> 1710.8799 | M35: 17102 | N35: =IF(M35>0,M35*6.2898*M$2/Oljepris!$D34,N34-N34*N$2) -> 1561.4733 | O35: 23623 | P35: =IF(O35>0,O35*6.2898*O$2/Oljepris!$D34,P34-P34*P$2) -> 1084.1835 | Q35: 69680 | R35: =IF(Q35>0,Q35*6.2898*Q$2/Oljepris!$D34,R34-R34*R$2) -> 4524.1111 | S35: 28369 | T35: =IF(S35>0,S35*6.2898*S$2/Oljepris!$D34,T34-T34*T$2) -> 978.51636 | U35: 1307 | V35: =IF(U35>0,U35/0.18*6.2898*U$2/Oljepris!$D34,V34-V34*V$2) -> 655.57241 | W35: 64297 | X35: =IF(W35>0,W35*6.2898*W$2/Oljepris!$D34,X34-X34*X$2) -> 1956.8481 | Y35: 22489 | Z35: =IF(Y35>0,Y35*6.2898*Y$2/Oljepris!$D34,Z34-Z34*Z$2) -> 2281.4728 | AA35: =Z35+X35+V35+T35+R35+P35+N35+L35+J35+H35+F35 -> 15936.067 | AB35: =C35 -> 12773.403 | AC35: =AA35 -> 15936.067
A36: 43678 | B36: =IF(AC35=0,AB35,AC35) -> 15936.067 | C36: =B36-(B36*$C$1) -> 15872.323 | E36: 28217 | F36: =IF(E36>0,E36*6.2898*$E$2/Oljepris!D35,F35-F35*$F$2) -> 1145.0277 | G36: 0 | H36: =IF(G36>0,G36*6.2898*$G$2/Oljepris!D35,H35-H35*$H$2) -> 5.7956388e-06 | I36: 140 | J36: =IF(I36>0,I36/0.2*6.2898*I$2/Oljepris!$D35,J35-J35*J$2) -> 19.685045 | K36: 55839 | L36: =IF(K36>0,K36*6.2898*K$2/Oljepris!$D35,L35-L35*L$2) -> 1615.2204 | M36: 18553 | N36: =IF(M36>0,M36*6.2898*M$2/Oljepris!$D35,N35-N35*N$2) -> 1693.9547 | O36: 7892 | P36: =IF(O36>0,O36*6.2898*O$2/Oljepris!$D35,P35-P35*P$2) -> 362.20532 | Q36: 72842 | R36: =IF(Q36>0,Q36*6.2898*Q$2/Oljepris!$D35,R35-R35*R$2) -> 4729.4102 | S36: 45409 | T36: =IF(S36>0,S36*6.2898*S$2/Oljepris!$D35,T35-T35*T$2) -> 1566.2677 | U36: 1420 | V36: =IF(U36>0,U36/0.18*6.2898*U$2/Oljepris!$D35,V35-V35*V$2) -> 712.25159 | W36: 48054 | X36: =IF(W36>0,W36*6.2898*W$2/Oljepris!$D35,X35-X35*X$2) -> 1462.5002 | Y36: 21336 | Z36: =IF(Y36>0,Y36*6.2898*Y$2/Oljepris!$D35,Z35-Z35*Z$2) -> 2164.5028 | AA36: =Z36+X36+V36+T36+R36+P36+N36+L36+J36+H36+F36 -> 15471.026 | AB36: =C36 -> 15872.323 | AC36: =AA36 -> 15471.026
A37: 43709 | B37: =IF(AC36=0,AB36,AC36) -> 15471.026 | C37: =B37-(B37*$C$1) -> 15409.142 | E37: 32214 | F37: =IF(E37>0,E37*6.2898*$E$2/Oljepris!D36,F36-F36*$F$2) -> 1350.7974 | G37: 0 | H37: =IF(G37>0,G37*6.2898*$G$2/Oljepris!D36,H36-H36*$H$2) -> 5.7376824e-06 | I37: 963 | J37: =IF(I37>0,I37/0.2*6.2898*I$2/Oljepris!$D36,J36-J36*J$2) -> 139.91849 | K37: 51443 | L37: =IF(K37>0,K37*6.2898*K$2/Oljepris!$D36,L36-L36*L$2) -> 1537.662 | M37: 29098 | N37: =IF(M37>0,M37*6.2898*M$2/Oljepris!$D36,N36-N36*N$2) -> 2745.309 | O37: 25115 | P37: =IF(O37>0,O37*6.2898*O$2/Oljepris!$D36,P36-P36*P$2) -> 1191.0812 | Q37: 60259 | R37: =IF(Q37>0,Q37*6.2898*Q$2/Oljepris!$D36,R36-R36*R$2) -> 4042.8486 | S37: 31977 | T37: =IF(S37>0,S37*6.2898*S$2/Oljepris!$D36,T36-T36*T$2) -> 1139.7306 | U37: 1192 | V37: =IF(U37>0,U37/0.18*6.2898*U$2/Oljepris!$D36,V36-V36*V$2) -> 617.81973 | W37: 9883 | X37: =IF(W37>0,W37*6.2898*W$2/Oljepris!$D36,X36-X36*X$2) -> 310.81047 | Y37: 878 | Z37: =IF(Y37>0,Y37*6.2898*Y$2/Oljepris!$D36,Z36-Z36*Z$2) -> 92.04074 | AA37: =Z37+X37+V37+T37+R37+P37+N37+L37+J37+H37+F37 -> 13168.018 | AB37: =C37 -> 15409.142 | AC37: 13220 | AD37: =SUM(AC35:AC37)/3 -> 14875.698
A38: 43739 | B38: =IF(AC37=0,AB37,AC37) -> 13220 | C38: =B38-(B38*$C$1) -> 13167.12 | E38: 28054 | F38: =IF(E38>0,E38*6.2898*$E$2/Oljepris!D37,F37-F37*$F$2) -> 1138.4132 | G38: 36866 | H38: =IF(G38>0,G38*6.2898*$G$2/Oljepris!D37,H37-H37*$H$2) -> 2158.2022 | I38: 458 | J38: =IF(I38>0,I38/0.2*6.2898*I$2/Oljepris!$D37,J37-J37*J$2) -> 64.398219 | K38: 45530 | L38: =IF(K38>0,K38*6.2898*K$2/Oljepris!$D37,L37-L37*L$2) -> 1317.0183 | M38: 19999 | N38: =IF(M38>0,M38*6.2898*M$2/Oljepris!$D37,N37-N37*N$2) -> 1825.9797 | O38: 25944 | P38: =IF(O38>0,O38*6.2898*O$2/Oljepris!$D37,P37-P37*P$2) -> 1190.7064 | Q38: 71896 | R38: =IF(Q38>0,Q38*6.2898*Q$2/Oljepris!$D37,R37-R37*R$2) -> 4667.9893 | S38: 39745 | T38: =IF(S38>0,S38*6.2898*S$2/Oljepris!$D37,T37-T37*T$2) -> 1370.9025 | U38: 1339 | V38: =IF(U38>0,U38/0.18*6.2898*U$2/Oljepris!$D37,V37-V37*V$2) -> 671.62315 | W38: 70954 | X38: =IF(W38>0,W38*6.2898*W$2/Oljepris!$D37,X37-X37*X$2) -> 2159.4507 | Y38: 1e-05 | Z38: =IF(Y38>0,Y38*6.2898*Y$2/Oljepris!$D37,Z37-Z37*Z$2) -> 1.0144839e-06 | AA38: =Z38+X38+V38+T38+R38+P38+N38+L38+J38+H38+F38 -> 16564.684 | AB38: =C38 -> 13167.12 | AC38: 16748
A39: 43770 | B39: =IF(AC38=0,AB38,AC38) -> 16748 | C39: =B39-(B39*$C$1) -> 16681.008 | E39: 23255 | F39: =IF(E39>0,E39*6.2898*$E$2/Oljepris!D38,F38-F38*$F$2) -> 975.12866 | G39: 37020 | H39: =IF(G39>0,G39*6.2898*$G$2/Oljepris!D38,H38-H38*$H$2) -> 2239.4583 | I39: 970 | J39: =IF(I39>0,I39/0.2*6.2898*I$2/Oljepris!$D38,J38-J38*J$2) -> 140.93555 | K39: 50075 | L39: =IF(K39>0,K39*6.2898*K$2/Oljepris!$D38,L38-L38*L$2) -> 1496.7717 | M39: 22584 | N39: =IF(M39>0,M39*6.2898*M$2/Oljepris!$D38,N38-N38*N$2) -> 2130.7326 | O39: 23473 | P39: =IF(O39>0,O39*6.2898*O$2/Oljepris!$D38,P38-P38*P$2) -> 1113.2092 | Q39: 59244 | R39: =IF(Q39>0,Q39*6.2898*Q$2/Oljepris!$D38,R38-R38*R$2) -> 3974.7511 | S39: 41317 | T39: =IF(S39>0,S39*6.2898*S$2/Oljepris!$D38,T38-T38*T$2) -> 1472.6288 | U39: 1412 | V39: =IF(U39>0,U39/0.18*6.2898*U$2/Oljepris!$D38,V38-V38*V$2) -> 731.84686 | W39: 127035 | X39: =IF(W39>0,W39*6.2898*W$2/Oljepris!$D38,X38-X38*X$2) -> 3995.1237 | Y39: 0 | Z39: =IF(Y39>0,Y39*6.2898*Y$2/Oljepris!$D38,Z38-Z38*Z$2) -> 1.004339e-06 | AA39: =Z39+X39+V39+T39+R39+P39+N39+L39+J39+H39+F39 -> 18270.586 | AB39: =C39 -> 16681.008 | AC39: 18530
A40: 43800 | B40: =IF(AC39=0,AB39,AC39) -> 18530 | C40: =B40-(B40*$C$1) -> 18455.88 | E40: 22912 | F40: =IF(E40>0,E40*6.2898*$E$2/Oljepris!D39,F39-F39*$F$2) -> 929.75418 | G40: 38183 | H40: =IF(G40>0,G40*6.2898*$G$2/Oljepris!D39,H39-H39*$H$2) -> 2235.3018 | I40: 1e-07 | J40: =IF(I40>0,I40/0.2*6.2898*I$2/Oljepris!$D39,J39-J39*J$2) -> 1.4060746e-08 | K40: 48528 | L40: =IF(K40>0,K40*6.2898*K$2/Oljepris!$D39,L39-L39*L$2) -> 1403.7396 | M40: 36150 | N40: =IF(M40>0,M40*6.2898*M$2/Oljepris!$D39,N39-N39*N$2) -> 3300.6233 | O40: 24574 | P40: =IF(O40>0,O40*6.2898*O$2/Oljepris!$D39,P39-P39*P$2) -> 1127.8299 | Q40: 77856 | R40: =IF(Q40>0,Q40*6.2898*Q$2/Oljepris!$D39,R39-R39*R$2) -> 5054.954 | S40: 59095 | T40: =IF(S40>0,S40*6.2898*S$2/Oljepris!$D39,T39-T39*T$2) -> 2038.3314 | U40: 1181 | V40: =IF(U40>0,U40/0.18*6.2898*U$2/Oljepris!$D39,V39-V39*V$2) -> 592.37262 | W40: 154126 | X40: =IF(W40>0,W40*6.2898*W$2/Oljepris!$D39,X39-X39*X$2) -> 4690.7502 | Y40: 0 | Z40: =IF(Y40>0,Y40*6.2898*Y$2/Oljepris!$D39,Z39-Z39*Z$2) -> 9.9429564e-07 | AA40: =Z40+X40+V40+T40+R40+P40+N40+L40+J40+H40+F40 -> 21373.657 | AB40: =C40 -> 18455.88 | AC40: 21648 | AD40: =SUM(AC38:AC40)/3 -> 18975.333
A41: 43831 | B41: =IF(AC40=0,AB40,AC40) -> 21648 | C41: =B41-(B41*$C$1) -> 21561.408 | E41: 33660 | F41: =IF(E41>0,E41*6.2898*$E$2/Oljepris!D40,F40-F40*$F$2) -> 1365.9011 | G41: 37432 | H41: =IF(G41>0,G41*6.2898*$G$2/Oljepris!D40,H40-H40*$H$2) -> 2191.3369 | I41: 1109 | J41: =IF(I41>0,I41/0.2*6.2898*I$2/Oljepris!$D40,J40-J40*J$2) -> 155.93368 | K41: 46635 | L41: =IF(K41>0,K41*6.2898*K$2/Oljepris!$D40,L40-L40*L$2) -> 1348.9819 | M41: 33104 | N41: =IF(M41>0,M41*6.2898*M$2/Oljepris!$D40,N40-N40*N$2) -> 3022.5127 | O41: 22462 | P41: =IF(O41>0,O41*6.2898*O$2/Oljepris!$D40,P40-P40*P$2) -> 1030.8991 | Q41: 45505 | R41: =IF(Q41>0,Q41*6.2898*Q$2/Oljepris!$D40,R40-R40*R$2) -> 2954.5017 | S41: 30955 | T41: =IF(S41>0,S41*6.2898*S$2/Oljepris!$D40,T40-T40*T$2) -> 1067.7138 | U41: 1420 | V41: =IF(U41>0,U41/0.18*6.2898*U$2/Oljepris!$D40,V40-V40*V$2) -> 712.25159 | W41: 47999 | X41: =IF(W41>0,W41*6.2898*W$2/Oljepris!$D40,X40-X40*X$2) -> 1460.8263 | Y41: 0 | Z41: =IF(Y41>0,Y41*6.2898*Y$2/Oljepris!$D40,Z40-Z40*Z$2) -> 9.8435269e-07 | AA41: =Z41+X41+V41+T41+R41+P41+N41+L41+J41+H41+F41 -> 15310.859 | AB41: =C41 -> 21561.408 | AC41: 15458
A42: 43862 | B42: =IF(AC41=0,AB41,AC41) -> 15458 | C42: =B42-(B42*$C$1) -> 15396.168 | E42: 26915 | F42: =IF(E42>0,E42*6.2898*$E$2/Oljepris!D41,F41-F41*$F$2) -> 1167.517 | G42: 33381 | H42: =IF(G42>0,G42*6.2898*$G$2/Oljepris!D41,H41-H41*$H$2) -> 2088.9553 | I42: 1020 | J42: =IF(I42>0,I42/0.2*6.2898*I$2/Oljepris!$D41,J41-J41*J$2) -> 153.31062 | K42: 59904 | L42: =IF(K42>0,K42*6.2898*K$2/Oljepris!$D41,L41-L41*L$2) -> 1852.31 | M42: 30950 | N42: =IF(M42>0,M42*6.2898*M$2/Oljepris!$D41,N41-N41*N$2) -> 3020.7307 | O42: 16181 | P42: =IF(O42>0,O42*6.2898*O$2/Oljepris!$D41,P41-P41*P$2) -> 793.84698 | Q42: 55503 | R42: =IF(Q42>0,Q42*6.2898*Q$2/Oljepris!$D41,R41-R41*R$2) -> 3852.1685 | S42: 52421 | T42: =IF(S42>0,S42*6.2898*S$2/Oljepris!$D41,T41-T41*T$2) -> 1932.8273 | U42: 1109 | V42: =IF(U42>0,U42/0.18*6.2898*U$2/Oljepris!$D41,V41-V41*V$2) -> 594.62111 | W42: 135036 | X42: =IF(W42>0,W42*6.2898*W$2/Oljepris!$D41,X41-X41*X$2) -> 4393.1867 | Y42: 0 | Z42: =IF(Y42>0,Y42*6.2898*Y$2/Oljepris!$D41,Z41-Z41*Z$2) -> 9.7450916e-07 | AA42: =Z42+X42+V42+T42+R42+P42+N42+L42+J42+H42+F42 -> 19849.474 | AB42: =C42 -> 15396.168 | AC42: 19990
A43: 43891 | B43: =IF(AC42=0,AB42,AC42) -> 19990 | C43: =B43-(B43*$C$1) -> 19910.04 | E43: 28229 | F43: =IF(E43>0,E43*6.2898*$E$2/Oljepris!D42,F42-F42*$F$2) -> 1145.5146 | G43: 26629 | H43: =IF(G43>0,G43*6.2898*$G$2/Oljepris!D42,H42-H42*$H$2) -> 1558.9098 | I43: 878 | J43: =IF(I43>0,I43/0.2*6.2898*I$2/Oljepris!$D42,J42-J42*J$2) -> 123.45335 | K43: 63866 | L43: =IF(K43>0,K43*6.2898*K$2/Oljepris!$D42,L42-L42*L$2) -> 1847.4125 | M43: 29480 | N43: =IF(M43>0,M43*6.2898*M$2/Oljepris!$D42,N42-N42*N$2) -> 2691.6286 | O43: 18909 | P43: =IF(O43>0,O43*6.2898*O$2/Oljepris!$D42,P42-P42*P$2) -> 867.83329 | Q43: 57352 | R43: =IF(Q43>0,Q43*6.2898*Q$2/Oljepris!$D42,R42-R42*R$2) -> 3723.6915 | S43: 79676 | T43: =IF(S43>0,S43*6.2898*S$2/Oljepris!$D42,T42-T42*T$2) -> 2748.2206 | U43: 1479 | V43: =IF(U43>0,U43/0.18*6.2898*U$2/Oljepris!$D42,V42-V42*V$2) -> 741.84514 | W43: 160112 | X43: =IF(W43>0,W43*6.2898*W$2/Oljepris!$D42,X42-X42*X$2) -> 4872.9312 | Y43: 0 | Z43: =IF(Y43>0,Y43*6.2898*Y$2/Oljepris!$D42,Z42-Z42*Z$2) -> 9.6476407e-07 | AA43: =Z43+X43+V43+T43+R43+P43+N43+L43+J43+H43+F43 -> 20321.44 | AB43: =C43 -> 19910.04 | AC43: 20460 | AD43: =SUM(AC41:AC43)/3 -> 18636
A44: 43922 | B44: =IF(AC43=0,AA43,AC43) -> 20460 | C44: =B44-(B44*$C$1) -> 20378.16 | E44: 24365 | F44: =IF(E44>0,E44*6.2898*$E$2/Oljepris!D43,F43-F43*$F$2) -> 1021.6732 | G44: 25057 | H44: =IF(G44>0,G44*6.2898*$G$2/Oljepris!D43,H43-H43*$H$2) -> 1515.7781 | I44: 28 | J44: =IF(I44>0,I44/0.2*6.2898*I$2/Oljepris!$D43,J43-J43*J$2) -> 4.0682426 | K44: 59800 | L44: =IF(K44>0,K44*6.2898*K$2/Oljepris!$D43,L43-L43*L$2) -> 1787.4577 | M44: 35123 | N44: =IF(M44>0,M44*6.2898*M$2/Oljepris!$D43,N43-N43*N$2) -> 3313.7497 | O44: 18580 | P44: =IF(O44>0,O44*6.2898*O$2/Oljepris!$D43,P43-P43*P$2) -> 881.15821 | Q44: 45315 | R44: =IF(Q44>0,Q44*6.2898*Q$2/Oljepris!$D43,R43-R43*R$2) -> 3040.2377 | S44: 75060 | T44: =IF(S44>0,S44*6.2898*S$2/Oljepris!$D43,T43-T43*T$2) -> 2675.3035 | U44: 1259 | V44: =IF(U44>0,U44/0.18*6.2898*U$2/Oljepris!$D43,V43-V43*V$2) -> 652.54618 | W44: 99312 | X44: =IF(W44>0,W44*6.2898*W$2/Oljepris!$D43,X43-X43*X$2) -> 3123.2631 | Y44: 0 | Z44: =IF(Y44>0,Y44*6.2898*Y$2/Oljepris!$D43,Z43-Z43*Z$2) -> 9.5511643e-07 | AA44: =Z44+X44+V44+T44+R44+P44+N44+L44+J44+H44+F44 -> 18015.236 | AB44: =C44 -> 20378.16 | AC44: 19300
A45: 43952 | B45: =IF(AC44=0,AA44,AC44) -> 19300 | C45: =B45-(B45*$C$1) -> 19222.8 | E45: 22723 | F45: =IF(E45>0,E45*6.2898*$E$2/Oljepris!D44,F44-F44*$F$2) -> 922.08468 | G45: 24515 | H45: =IF(G45>0,G45*6.2898*$G$2/Oljepris!D44,H44-H44*$H$2) -> 1435.1524 | I45: 896 | J45: =IF(I45>0,I45/0.2*6.2898*I$2/Oljepris!$D44,J44-J44*J$2) -> 125.98429 | K45: 43400 | L45: =IF(K45>0,K45*6.2898*K$2/Oljepris!$D44,L44-L44*L$2) -> 1255.4051 | M45: 29551 | N45: =IF(M45>0,M45*6.2898*M$2/Oljepris!$D44,N44-N44*N$2) -> 2698.1112 | O45: 21652 | P45: =IF(O45>0,O45*6.2898*O$2/Oljepris!$D44,P44-P44*P$2) -> 993.72396 | Q45: 45339 | R45: =IF(Q45>0,Q45*6.2898*Q$2/Oljepris!$D44,R44-R44*R$2) -> 2943.7238 | S45: 71953 | T45: =IF(S45>0,S45*6.2898*S$2/Oljepris!$D44,T44-T44*T$2) -> 2481.8354 | U45: 1317 | V45: =IF(U45>0,U45/0.18*6.2898*U$2/Oljepris!$D44,V44-V44*V$2) -> 660.58827 | W45: 88654 | X45: =IF(W45>0,W45*6.2898*W$2/Oljepris!$D44,X44-X44*X$2) -> 2698.1416 | Y45: 0 | Z45: =IF(Y45>0,Y45*6.2898*Y$2/Oljepris!$D44,Z44-Z44*Z$2) -> 9.4556526e-07 | AA45: =Z45+X45+V45+T45+R45+P45+N45+L45+J45+H45+F45 -> 16214.751 | AB45: =C45 -> 19222.8 | AC45: 17600
A46: 43983 | B46: =IF(AC45=0,AA45,AC45) -> 17600 | C46: =B46-(B46*$C$1) -> 17529.6 | E46: 25688 | F46: =IF(E46>0,E46*6.2898*$E$2/Oljepris!D45,F45-F45*$F$2) -> 1077.1492 | G46: 24076 | H46: =IF(G46>0,G46*6.2898*$G$2/Oljepris!D45,H45-H45*$H$2) -> 1456.4343 | I46: 1249 | J46: =IF(I46>0,I46/0.2*6.2898*I$2/Oljepris!$D45,J45-J45*J$2) -> 181.47268 | K46: 54376 | L46: =IF(K46>0,K46*6.2898*K$2/Oljepris!$D45,L45-L45*L$2) -> 1625.3311 | M46: 11119 | N46: =IF(M46>0,M46*6.2898*M$2/Oljepris!$D45,N45-N45*N$2) -> 1049.0443 | O46: 17270 | P46: =IF(O46>0,O46*6.2898*O$2/Oljepris!$D45,P45-P45*P$2) -> 819.03134 | Q46: 47079 | R46: =IF(Q46>0,Q46*6.2898*Q$2/Oljepris!$D45,R45-R45*R$2) -> 3158.5866 | S46: 41330 | T46: =IF(S46>0,S46*6.2898*S$2/Oljepris!$D45,T45-T45*T$2) -> 1473.0921 | U46: 1263 | V46: =IF(U46>0,U46/0.18*6.2898*U$2/Oljepris!$D45,V45-V45*V$2) -> 654.6194 | W46: 118655 | X46: =IF(W46>0,W46*6.2898*W$2/Oljepris!$D45,X45-X45*X$2) -> 3731.5811 | Y46: 0 | Z46: =IF(Y46>0,Y46*6.2898*Y$2/Oljepris!$D45,Z45-Z45*Z$2) -> 9.3610961e-07 | AA46: =Z46+X46+V46+T46+R46+P46+N46+L46+J46+H46+F46 -> 15226.342 | AB46: =C46 -> 17529.6 | AC46: 16500 | AD46: =SUM(AC44:AC46)/3 -> 17800
A47: 44013 | B47: =IF(AC46=0,AA46,AC46) -> 16500 | C47: =B47-(B47*$C$1) -> 16434 | E47: 26594 | F47: =IF(E47>0,E47*6.2898*$E$2/Oljepris!D46,F46-F46*$F$2) -> 1079.1674 | G47: 23980 | H47: =IF(G47>0,G47*6.2898*$G$2/Oljepris!D46,H46-H46*$H$2) -> 1403.8325 | I47: 1077 | J47: =IF(I47>0,I47/0.2*6.2898*I$2/Oljepris!$D46,J46-J46*J$2) -> 151.43424 | K47: 56883 | L47: =IF(K47>0,K47*6.2898*K$2/Oljepris!$D46,L46-L46*L$2) -> 1645.4195 | M47: 17456 | N47: =IF(M47>0,M47*6.2898*M$2/Oljepris!$D46,N46-N46*N$2) -> 1593.7947 | O47: 13420 | P47: =IF(O47>0,O47*6.2898*O$2/Oljepris!$D46,P46-P46*P$2) -> 615.91426 | Q47: 61520 | R47: =IF(Q47>0,Q47*6.2898*Q$2/Oljepris!$D46,R46-R46*R$2) -> 3994.3071 | S47: 69769 | T47: =IF(S47>0,S47*6.2898*S$2/Oljepris!$D46,T46-T46*T$2) -> 2406.5039 | U47: 1347 | V47: =IF(U47>0,U47/0.18*6.2898*U$2/Oljepris!$D46,V46-V46*V$2) -> 675.63584 | W47: 153800 | X47: =IF(W47>0,W47*6.2898*W$2/Oljepris!$D46,X46-X46*X$2) -> 4680.8286 | Y47: 0 | Z47: =IF(Y47>0,Y47*6.2898*Y$2/Oljepris!$D46,Z46-Z46*Z$2) -> 9.2674851e-07 | AA47: =Z47+X47+V47+T47+R47+P47+N47+L47+J47+H47+F47 -> 18246.838 | AB47: =C47 -> 16434 | AC47: 19300
A48: 44044 | B48: =IF(AC47=0,AA47,AC47) -> 19300 | C48: =B48-(B48*$C$1) -> 19222.8 | E48: 20278 | F48: =IF(E48>0,E48*6.2898*$E$2/Oljepris!D47,F47-F47*$F$2) -> 822.86816 | G48: 20633 | H48: =IF(G48>0,G48*6.2898*$G$2/Oljepris!D47,H47-H47*$H$2) -> 1207.8931 | I48: 219 | J48: =IF(I48>0,I48/0.2*6.2898*I$2/Oljepris!$D47,J47-J47*J$2) -> 30.793035 | K48: 58565 | L48: =IF(K48>0,K48*6.2898*K$2/Oljepris!$D47,L47-L47*L$2) -> 1694.0737 | M48: 26053 | N48: =IF(M48>0,M48*6.2898*M$2/Oljepris!$D47,N47-N47*N$2) -> 2378.7313 | O48: 13944 | P48: =IF(O48>0,O48*6.2898*O$2/Oljepris!$D47,P47-P47*P$2) -> 639.96337 | Q48: 56036 | R48: =IF(Q48>0,Q48*6.2898*Q$2/Oljepris!$D47,R47-R47*R$2) -> 3638.2476 | S48: 77767 | T48: =IF(S48>0,S48*6.2898*S$2/Oljepris!$D47,T47-T47*T$2) -> 2682.3745 | U48: 1378 | V48: =IF(U48>0,U48/0.18*6.2898*U$2/Oljepris!$D47,V47-V47*V$2) -> 691.18499 | W48: 104101 | X48: =IF(W48>0,W48*6.2898*W$2/Oljepris!$D47,X47-X47*X$2) -> 3168.2636 | Y48: 0 | Z48: =IF(Y48>0,Y48*6.2898*Y$2/Oljepris!$D47,Z47-Z47*Z$2) -> 9.1748103e-07 | AA48: =Z48+X48+V48+T48+R48+P48+N48+L48+J48+H48+F48 -> 16954.393 | AB48: =C48 -> 19222.8 | AC48: 18000
A49: 44075 | B49: =IF(AC48=0,AA48,AC48) -> 18000 | C49: =B49-(B49*$C$1) -> 17928 | E49: 24313 | F49: =IF(E49>0,E49*6.2898*$E$2/Oljepris!D48,F48-F48*$F$2) -> 1019.4927 | G49: 20605 | H49: =IF(G49>0,G49*6.2898*$G$2/Oljepris!D48,H48-H48*$H$2) -> 1246.4624 | I49: 0.001 | J49: =IF(I49>0,I49/0.2*6.2898*I$2/Oljepris!$D48,J48-J48*J$2) -> 0.00014529438 | K49: 50607 | L49: =IF(K49>0,K49*6.2898*K$2/Oljepris!$D48,L48-L48*L$2) -> 1512.6735 | M49: 20634 | N49: =IF(M49>0,M49*6.2898*M$2/Oljepris!$D48,N48-N48*N$2) -> 1946.756 | O49: 4842 | P49: =IF(O49>0,O49*6.2898*O$2/Oljepris!$D48,P48-P48*P$2) -> 229.6323 | Q49: 36016 | R49: =IF(Q49>0,Q49*6.2898*Q$2/Oljepris!$D48,R48-R48*R$2) -> 2416.3567 | S49: 61279 | T49: =IF(S49>0,S49*6.2898*S$2/Oljepris!$D48,T48-T48*T$2) -> 2184.1184 | U49: 1319 | V49: =IF(U49>0,U49/0.18*6.2898*U$2/Oljepris!$D48,V48-V48*V$2) -> 683.64449 | W49: 110506 | X49: =IF(W49>0,W49*6.2898*W$2/Oljepris!$D48,X48-X48*X$2) -> 3475.3032 | Y49: 0 | Z49: =IF(Y49>0,Y49*6.2898*Y$2/Oljepris!$D48,Z48-Z48*Z$2) -> 9.0830622e-07 | AA49: =Z49+X49+V49+T49+R49+P49+N49+L49+J49+H49+F49 -> 14714.44 | AB49: =C49 -> 17928 | AC49: 15800 | AD49: =SUM(AC47:AC49)/3 -> 17700
A50: 44105 | B50: =IF(AC49=0,AA49,AC49) -> 15800 | C50: =B50-(B50*$C$1) -> 15736.8 | E50: 41993 | F50: =IF(E50>0,E50*6.2898*$E$2/Oljepris!D49,F49-F49*$F$2) -> 1704.0488 | G50: 22769 | H50: =IF(G50>0,G50*6.2898*$G$2/Oljepris!D49,H49-H49*$H$2) -> 1332.9384 | I50: 121 | J50: =IF(I50>0,I50/0.2*6.2898*I$2/Oljepris!$D49,J49-J49*J$2) -> 17.013503 | K50: 50777 | L50: =IF(K50>0,K50*6.2898*K$2/Oljepris!$D49,L49-L49*L$2) -> 1468.795 | M50: 8738 | N50: =IF(M50>0,M50*6.2898*M$2/Oljepris!$D49,N49-N49*N$2) -> 797.81041 | O50: 13674 | P50: =IF(O50>0,O50*6.2898*O$2/Oljepris!$D49,P49-P49*P$2) -> 627.57165 | Q50: 46051 | R50: =IF(Q50>0,Q50*6.2898*Q$2/Oljepris!$D49,R49-R49*R$2) -> 2989.9518 | S50: 68743 | T50: =IF(S50>0,S50*6.2898*S$2/Oljepris!$D49,T49-T49*T$2) -> 2371.1146 | U50: 1049 | V50: =IF(U50>0,U50/0.18*6.2898*U$2/Oljepris!$D49,V49-V49*V$2) -> 526.16332 | W50: 103445 | X50: =IF(W50>0,W50*6.2898*W$2/Oljepris!$D49,X49-X49*X$2) -> 3148.2985 | Y50: 0 | Z50: =IF(Y50>0,Y50*6.2898*Y$2/Oljepris!$D49,Z49-Z49*Z$2) -> 8.9922316e-07 | AA50: =Z50+X50+V50+T50+R50+P50+N50+L50+J50+H50+F50 -> 14983.706 | AB50: =C50 -> 15736.8 | AC50: 15480
A51: 44136 | B51: =IF(AC50=0,AA50,AC50) -> 15480 | C51: =B51-(B51*$C$1) -> 15418.08 | E51: 38223 | F51: =IF(E51>0,E51*6.2898*$E$2/Oljepris!D50,F50-F50*$F$2) -> 1602.7668 | G51: 20257 | H51: =IF(G51>0,G51*6.2898*$G$2/Oljepris!D50,H50-H50*$H$2) -> 1225.4107 | I51: 1114 | J51: =IF(I51>0,I51/0.2*6.2898*I$2/Oljepris!$D50,J50-J50*J$2) -> 161.85794 | K51: 54279 | L51: =IF(K51>0,K51*6.2898*K$2/Oljepris!$D50,L50-L50*L$2) -> 1622.4317 | M51: 4753 | N51: =IF(M51>0,M51*6.2898*M$2/Oljepris!$D50,N50-N50*N$2) -> 448.43129 | O51: 13177 | P51: =IF(O51>0,O51*6.2898*O$2/Oljepris!$D50,P50-P50*P$2) -> 624.92044 | Q51: 31846 | R51: =IF(Q51>0,Q51*6.2898*Q$2/Oljepris!$D50,R50-R50*R$2) -> 2136.5864 | S51: 38457 | T51: =IF(S51>0,S51*6.2898*S$2/Oljepris!$D50,T50-T50*T$2) -> 1370.6921 | U51: 1184 | V51: =IF(U51>0,U51/0.18*6.2898*U$2/Oljepris!$D50,V50-V50*V$2) -> 613.67329 | W51: 97657 | X51: =IF(W51>0,W51*6.2898*W$2/Oljepris!$D50,X50-X50*X$2) -> 3071.215 | Y51: 0 | Z51: =IF(Y51>0,Y51*6.2898*Y$2/Oljepris!$D50,Z50-Z50*Z$2) -> 8.9023092e-07 | AA51: =Z51+X51+V51+T51+R51+P51+N51+L51+J51+H51+F51 -> 12877.986 | AB51: =C51 -> 15418.08 | AC51: 13310
A52: 44166 | B52: =IF(AC51=0,AA51,AC51) -> 13310 | C52: =B52-(B52*$C$1) -> 13256.76 | E52: 32881 | F52: =IF(E52>0,E52*6.2898*$E$2/Oljepris!D51,F51-F51*$F$2) -> 1334.2898 | G52: 21356 | H52: =IF(G52>0,G52*6.2898*$G$2/Oljepris!D51,H51-H51*$H$2) -> 1250.2188 | I52: 912 | J52: =IF(I52>0,I52/0.2*6.2898*I$2/Oljepris!$D51,J51-J51*J$2) -> 128.23401 | K52: 52087 | L52: =IF(K52>0,K52*6.2898*K$2/Oljepris!$D51,L51-L51*L$2) -> 1506.6886 | M52: 15241 | N52: =IF(M52>0,M52*6.2898*M$2/Oljepris!$D51,N51-N51*N$2) -> 1391.5574 | O52: 12682 | P52: =IF(O52>0,O52*6.2898*O$2/Oljepris!$D51,P51-P51*P$2) -> 582.04356 | Q52: 76833 | R52: =IF(Q52>0,Q52*6.2898*Q$2/Oljepris!$D51,R51-R51*R$2) -> 4988.5337 | S52: 75243 | T52: =IF(S52>0,S52*6.2898*S$2/Oljepris!$D51,T51-T51*T$2) -> 2595.3155 | U52: 946 | V52: =IF(U52>0,U52/0.18*6.2898*U$2/Oljepris!$D51,V51-V51*V$2) -> 474.5 | W52: 79885 | X52: =IF(W52>0,W52*6.2898*W$2/Oljepris!$D51,X51-X51*X$2) -> 2431.2613 | Y52: 0 | Z52: =IF(Y52>0,Y52*6.2898*Y$2/Oljepris!$D51,Z51-Z51*Z$2) -> 8.8132862e-07 | AA52: =Z52+X52+V52+T52+R52+P52+N52+L52+J52+H52+F52 -> 16682.643 | AB52: =C52 -> 13256.76 | AC52: 17110 | AD52: =SUM(AC50:AC52)/3 -> 15300
A53: 44197 | B53: =IF(AC52=0,AA52,AC52) -> 17110 | C53: =B53-(B53*$C$1) -> 17041.56 | E53: 34895 | F53: =IF(E53>0,E53*6.2898*$E$2/Oljepris!D52,F52-F52*$F$2) -> 1416.0166 | G53: 20145 | H53: =IF(G53>0,G53*6.2898*$G$2/Oljepris!D52,H52-H52*$H$2) -> 1179.3247 | I53: 1009 | J53: =IF(I53>0,I53/0.2*6.2898*I$2/Oljepris!$D52,J52-J52*J$2) -> 141.87293 | K53: 48567 | L53: =IF(K53>0,K53*6.2898*K$2/Oljepris!$D52,L52-L52*L$2) -> 1404.8677 | M53: 15106 | N53: =IF(M53>0,M53*6.2898*M$2/Oljepris!$D52,N52-N52*N$2) -> 1379.2314 | O53: 11792 | P53: =IF(O53>0,O53*6.2898*O$2/Oljepris!$D52,P52-P52*P$2) -> 541.19679 | Q53: 74075 | R53: =IF(Q53>0,Q53*6.2898*Q$2/Oljepris!$D52,R52-R52*R$2) -> 4809.4651 | S53: 69787 | T53: =IF(S53>0,S53*6.2898*S$2/Oljepris!$D52,T52-T52*T$2) -> 2407.1247 | U53: 1322 | V53: =IF(U53>0,U53/0.18*6.2898*U$2/Oljepris!$D52,V52-V52*V$2) -> 663.0962 | W53: 77128 | X53: =IF(W53>0,W53*6.2898*W$2/Oljepris!$D52,X52-X52*X$2) -> 2347.3534 | Y53: 0 | Z53: =IF(Y53>0,Y53*6.2898*Y$2/Oljepris!$D52,Z52-Z52*Z$2) -> 8.7251533e-07 | AA53: =Z53+X53+V53+T53+R53+P53+N53+L53+J53+H53+F53 -> 16289.55 | AB53: =F53+H53+J53+L53+N53+P53+R53+T53+V53+X53+Z53 -> 16289.55
A54: 44228 | B54: =IF(AC53=0,AA53,AC53) -> 16289.55 | C54: =B54-(B54*$C$1) -> 16224.391 | E54: 27532 | F54: =IF(E54>0,E54*6.2898*$E$2/Oljepris!D53,F53-F53*$F$2) -> 1236.9341 | G54: 17429 | H54: =IF(G54>0,G54*6.2898*$G$2/Oljepris!D53,H53-H53*$H$2) -> 1129.6457 | I54: 1108 | J54: =IF(I54>0,I54/0.2*6.2898*I$2/Oljepris!$D53,J53-J53*J$2) -> 172.48519 | K54: 37844 | L54: =IF(K54>0,K54*6.2898*K$2/Oljepris!$D53,L53-L53*L$2) -> 1211.9783 | M54: 13663 | N54: =IF(M54>0,M54*6.2898*M$2/Oljepris!$D53,N53-N53*N$2) -> 1381.139 | O54: 10786 | P54: =IF(O54>0,O54*6.2898*O$2/Oljepris!$D53,P53-P53*P$2) -> 548.06469 | Q54: 56812 | R54: =IF(Q54>0,Q54*6.2898*Q$2/Oljepris!$D53,R53-R53*R$2) -> 4083.8413 | S54: 62774 | T54: =IF(S54>0,S54*6.2898*S$2/Oljepris!$D53,T53-T53*T$2) -> 2397.218 | U54: 1179 | V54: =IF(U54>0,U54/0.18*6.2898*U$2/Oljepris!$D53,V53-V53*V$2) -> 654.73046 | W54: 51609 | X54: =IF(W54>0,W54*6.2898*W$2/Oljepris!$D53,X53-X53*X$2) -> 1738.9837 | Y54: 0 | Z54: =IF(Y54>0,Y54*6.2898*Y$2/Oljepris!$D53,Z53-Z53*Z$2) -> 8.6379018e-07 | AA54: =Z54+X54+V54+T54+R54+P54+N54+L54+J54+H54+F54 -> 14555.02 | AB54: =F54+H54+J54+L54+N54+P54+R54+T54+V54+X54+Z54 -> 14555.02
A55: 44256 | B55: =IF(AC54=0,AA54,AC54) -> 14555.02 | C55: =B55-(B55*$C$1) -> 14496.8 | F55: =IF(E55>0,E55*6.2898*$E$2/Oljepris!D54,F54-F54*$F$2) -> 1249.3034 | H55: =IF(G55>0,G55*6.2898*$G$2/Oljepris!D54,H54-H54*$H$2) -> 1118.3492 | J55: =IF(I55>0,I55/0.2*6.2898*I$2/Oljepris!$D54,J54-J54*J$2) -> 170.76033 | L55: =IF(K55>0,K55*6.2898*K$2/Oljepris!$D54,L54-L54*L$2) -> 1199.8585 | N55: =IF(M55>0,M55*6.2898*M$2/Oljepris!$D54,N54-N54*N$2) -> 1339.7048 | P55: =IF(O55>0,O55*6.2898*O$2/Oljepris!$D54,P54-P54*P$2) -> 539.84372 | R55: =IF(Q55>0,Q55*6.2898*Q$2/Oljepris!$D54,R54-R54*R$2) -> 3920.4877 | T55: =IF(S55>0,S55*6.2898*S$2/Oljepris!$D54,T54-T54*T$2) -> 2373.2458 | V55: =IF(U55>0,U55/0.18*6.2898*U$2/Oljepris!$D54,V54-V54*V$2) -> 648.18316 | X55: =IF(W55>0,W55*6.2898*W$2/Oljepris!$D54,X54-X54*X$2) -> 1737.2447 | Z55: =IF(Y55>0,Y55*6.2898*Y$2/Oljepris!$D54,Z54-Z54*Z$2) -> 8.5515227e-07 | AA55: =Z55+X55+V55+T55+R55+P55+N55+L55+J55+H55+F55 -> 14296.981 | AB55: =F55+H55+J55+L55+N55+P55+R55+T55+V55+X55+Z55 -> 14296.981
A56: 44287 | B56: =IF(AC55=0,AA55,AC55) -> 14296.981 | C56: =B56-(B56*$C$1) -> 14239.794 | F56: =IF(E56>0,E56*6.2898*$E$2/Oljepris!D55,F55-F55*$F$2) -> 1261.7965 | H56: =IF(G56>0,G56*6.2898*$G$2/Oljepris!D55,H55-H55*$H$2) -> 1107.1657 | J56: =IF(I56>0,I56/0.2*6.2898*I$2/Oljepris!$D55,J55-J55*J$2) -> 169.05273 | L56: =IF(K56>0,K56*6.2898*K$2/Oljepris!$D55,L55-L55*L$2) -> 1187.8599 | N56: =IF(M56>0,M56*6.2898*M$2/Oljepris!$D55,N55-N55*N$2) -> 1299.5137 | P56: =IF(O56>0,O56*6.2898*O$2/Oljepris!$D55,P55-P55*P$2) -> 531.74606 | R56: =IF(Q56>0,Q56*6.2898*Q$2/Oljepris!$D55,R55-R55*R$2) -> 3763.6682 | T56: =IF(S56>0,S56*6.2898*S$2/Oljepris!$D55,T55-T55*T$2) -> 2349.5134 | V56: =IF(U56>0,U56/0.18*6.2898*U$2/Oljepris!$D55,V55-V55*V$2) -> 641.70133 | X56: =IF(W56>0,W56*6.2898*W$2/Oljepris!$D55,X55-X55*X$2) -> 1735.5075 | Z56: =IF(Y56>0,Y56*6.2898*Y$2/Oljepris!$D55,Z55-Z55*Z$2) -> 8.4660075e-07 | AA56: =Z56+X56+V56+T56+R56+P56+N56+L56+J56+H56+F56 -> 14047.525 | AB56: =F56+H56+J56+L56+N56+P56+R56+T56+V56+X56+Z56 -> 14047.525
A57: 44317 | B57: =IF(AC56=0,AA56,AC56) -> 14047.525 | C57: =B57-(B57*$C$1) -> 13991.335 | F57: =IF(E57>0,E57*6.2898*$E$2/Oljepris!D56,F56-F56*$F$2) -> 1274.4144 | H57: =IF(G57>0,G57*6.2898*$G$2/Oljepris!D56,H56-H56*$H$2) -> 1096.0941 | J57: =IF(I57>0,I57/0.2*6.2898*I$2/Oljepris!$D56,J56-J56*J$2) -> 167.3622 | L57: =IF(K57>0,K57*6.2898*K$2/Oljepris!$D56,L56-L56*L$2) -> 1175.9813 | N57: =IF(M57>0,M57*6.2898*M$2/Oljepris!$D56,N56-N56*N$2) -> 1260.5283 | P57: =IF(O57>0,O57*6.2898*O$2/Oljepris!$D56,P56-P56*P$2) -> 523.76987 | R57: =IF(Q57>0,Q57*6.2898*Q$2/Oljepris!$D56,R56-R56*R$2) -> 3613.1215 | T57: =IF(S57>0,S57*6.2898*S$2/Oljepris!$D56,T56-T56*T$2) -> 2326.0182 | V57: =IF(U57>0,U57/0.18*6.2898*U$2/Oljepris!$D56,V56-V56*V$2) -> 635.28431 | X57: =IF(W57>0,W57*6.2898*W$2/Oljepris!$D56,X56-X56*X$2) -> 1733.772 | Z57: =IF(Y57>0,Y57*6.2898*Y$2/Oljepris!$D56,Z56-Z56*Z$2) -> 8.3813474e-07 | AA57: =Z57+X57+V57+T57+R57+P57+N57+L57+J57+H57+F57 -> 13806.346 | AB57: =F57+H57+J57+L57+N57+P57+R57+T57+V57+X57+Z57 -> 13806.346
A58: 44348 | B58: =IF(AC57=0,AA57,AC57) -> 13806.346 | C58: =B58-(B58*$C$1) -> 13751.121 | F58: =IF(E58>0,E58*6.2898*$E$2/Oljepris!D57,F57-F57*$F$2) -> 1287.1586 | H58: =IF(G58>0,G58*6.2898*$G$2/Oljepris!D57,H57-H57*$H$2) -> 1085.1331 | J58: =IF(I58>0,I58/0.2*6.2898*I$2/Oljepris!$D57,J57-J57*J$2) -> 165.68858 | L58: =IF(K58>0,K58*6.2898*K$2/Oljepris!$D57,L57-L57*L$2) -> 1164.2215 | N58: =IF(M58>0,M58*6.2898*M$2/Oljepris!$D57,N57-N57*N$2) -> 1222.7124 | P58: =IF(O58>0,O58*6.2898*O$2/Oljepris!$D57,P57-P57*P$2) -> 515.91332 | R58: =IF(Q58>0,Q58*6.2898*Q$2/Oljepris!$D57,R57-R57*R$2) -> 3468.5966 | T58: =IF(S58>0,S58*6.2898*S$2/Oljepris!$D57,T57-T57*T$2) -> 2302.758 | V58: =IF(U58>0,U58/0.18*6.2898*U$2/Oljepris!$D57,V57-V57*V$2) -> 628.93147 | X58: =IF(W58>0,W58*6.2898*W$2/Oljepris!$D57,X57-X57*X$2) -> 1732.0382 | Z58: =IF(Y58>0,Y58*6.2898*Y$2/Oljepris!$D57,Z57-Z57*Z$2) -> 8.297534e-07 | AA58: =Z58+X58+V58+T58+R58+P58+N58+L58+J58+H58+F58 -> 13573.152 | AB58: =F58+H58+J58+L58+N58+P58+R58+T58+V58+X58+Z58 -> 13573.152
A59: 44378 | B59: =IF(AC58=0,AA58,AC58) -> 13573.152 | C59: =B59-(B59*$C$1) -> 13518.859 | F59: =IF(E59>0,E59*6.2898*$E$2/Oljepris!D58,F58-F58*$F$2) -> 1300.0302 | H59: =IF(G59>0,G59*6.2898*$G$2/Oljepris!D58,H58-H58*$H$2) -> 1074.2818 | J59: =IF(I59>0,I59/0.2*6.2898*I$2/Oljepris!$D58,J58-J58*J$2) -> 164.0317 | L59: =IF(K59>0,K59*6.2898*K$2/Oljepris!$D58,L58-L58*L$2) -> 1152.5793 | N59: =IF(M59>0,M59*6.2898*M$2/Oljepris!$D58,N58-N58*N$2) -> 1186.031 | P59: =IF(O59>0,O59*6.2898*O$2/Oljepris!$D58,P58-P58*P$2) -> 508.17462 | R59: =IF(Q59>0,Q59*6.2898*Q$2/Oljepris!$D58,R58-R58*R$2) -> 3329.8527 | T59: =IF(S59>0,S59*6.2898*S$2/Oljepris!$D58,T58-T58*T$2) -> 2279.7305 | V59: =IF(U59>0,U59/0.18*6.2898*U$2/Oljepris!$D58,V58-V58*V$2) -> 622.64216 | X59: =IF(W59>0,W59*6.2898*W$2/Oljepris!$D58,X58-X58*X$2) -> 1730.3061 | Z59: =IF(Y59>0,Y59*6.2898*Y$2/Oljepris!$D58,Z58-Z58*Z$2) -> 8.2145586e-07 | AA59: =Z59+X59+V59+T59+R59+P59+N59+L59+J59+H59+F59 -> 13347.66 | AB59: =F59+H59+J59+L59+N59+P59+R59+T59+V59+X59+Z59 -> 13347.66
A60: 44409 | B60: =IF(AC59=0,AA59,AC59) -> 13347.66 | C60: =B60-(B60*$C$1) -> 13294.27 | F60: =IF(E60>0,E60*6.2898*$E$2/Oljepris!D59,F59-F59*$F$2) -> 1313.0305 | H60: =IF(G60>0,G60*6.2898*$G$2/Oljepris!D59,H59-H59*$H$2) -> 1063.539 | J60: =IF(I60>0,I60/0.2*6.2898*I$2/Oljepris!$D59,J59-J59*J$2) -> 162.39138 | L60: =IF(K60>0,K60*6.2898*K$2/Oljepris!$D59,L59-L59*L$2) -> 1141.0535 | N60: =IF(M60>0,M60*6.2898*M$2/Oljepris!$D59,N59-N59*N$2) -> 1150.4501 | P60: =IF(O60>0,O60*6.2898*O$2/Oljepris!$D59,P59-P59*P$2) -> 500.552 | R60: =IF(Q60>0,Q60*6.2898*Q$2/Oljepris!$D59,R59-R59*R$2) -> 3196.6586 | T60: =IF(S60>0,S60*6.2898*S$2/Oljepris!$D59,T59-T59*T$2) -> 2256.9332 | V60: =IF(U60>0,U60/0.18*6.2898*U$2/Oljepris!$D59,V59-V59*V$2) -> 616.41573 | X60: =IF(W60>0,W60*6.2898*W$2/Oljepris!$D59,X59-X59*X$2) -> 1728.5758 | Z60: =IF(Y60>0,Y60*6.2898*Y$2/Oljepris!$D59,Z59-Z59*Z$2) -> 8.132413e-07 | AA60: =Z60+X60+V60+T60+R60+P60+N60+L60+J60+H60+F60 -> 13129.6 | AB60: =F60+H60+J60+L60+N60+P60+R60+T60+V60+X60+Z60 -> 13129.6
A61: 44440 | B61: =IF(AC60=0,AA60,AC60) -> 13129.6 | C61: =B61-(B61*$C$1) -> 13077.081 | F61: =IF(E61>0,E61*6.2898*$E$2/Oljepris!D60,F60-F60*$F$2) -> 1326.1608 | H61: =IF(G61>0,G61*6.2898*$G$2/Oljepris!D60,H60-H60*$H$2) -> 1052.9036 | J61: =IF(I61>0,I61/0.2*6.2898*I$2/Oljepris!$D60,J60-J60*J$2) -> 160.76746 | L61: =IF(K61>0,K61*6.2898*K$2/Oljepris!$D60,L60-L60*L$2) -> 1129.643 | N61: =IF(M61>0,M61*6.2898*M$2/Oljepris!$D60,N60-N60*N$2) -> 1115.9366 | P61: =IF(O61>0,O61*6.2898*O$2/Oljepris!$D60,P60-P60*P$2) -> 493.04372 | R61: =IF(Q61>0,Q61*6.2898*Q$2/Oljepris!$D60,R60-R60*R$2) -> 3068.7923 | T61: =IF(S61>0,S61*6.2898*S$2/Oljepris!$D60,T60-T60*T$2) -> 2234.3638 | V61: =IF(U61>0,U61/0.18*6.2898*U$2/Oljepris!$D60,V60-V60*V$2) -> 610.25158 | X61: =IF(W61>0,W61*6.2898*W$2/Oljepris!$D60,X60-X60*X$2) -> 1726.8473 | Z61: =IF(Y61>0,Y61*6.2898*Y$2/Oljepris!$D60,Z60-Z60*Z$2) -> 8.0510889e-07 | AA61: =Z61+X61+V61+T61+R61+P61+N61+L61+J61+H61+F61 -> 12918.71 | AB61: =F61+H61+J61+L61+N61+P61+R61+T61+V61+X61+Z61 -> 12918.71
A62: 44470 | B62: =IF(AC61=0,AA61,AC61) -> 12918.71 | C62: =B62-(B62*$C$1) -> 12867.035 | F62: =IF(E62>0,E62*6.2898*$E$2/Oljepris!D61,F61-F61*$F$2) -> 1339.4224 | H62: =IF(G62>0,G62*6.2898*$G$2/Oljepris!D61,H61-H61*$H$2) -> 1042.3746 | J62: =IF(I62>0,I62/0.2*6.2898*I$2/Oljepris!$D61,J61-J61*J$2) -> 159.15979 | L62: =IF(K62>0,K62*6.2898*K$2/Oljepris!$D61,L61-L61*L$2) -> 1118.3466 | N62: =IF(M62>0,M62*6.2898*M$2/Oljepris!$D61,N61-N61*N$2) -> 1082.4585 | P62: =IF(O62>0,O62*6.2898*O$2/Oljepris!$D61,P61-P61*P$2) -> 485.64807 | R62: =IF(Q62>0,Q62*6.2898*Q$2/Oljepris!$D61,R61-R61*R$2) -> 2946.0406 | T62: =IF(S62>0,S62*6.2898*S$2/Oljepris!$D61,T61-T61*T$2) -> 2212.0202 | V62: =IF(U62>0,U62/0.18*6.2898*U$2/Oljepris!$D61,V61-V61*V$2) -> 604.14906 | X62: =IF(W62>0,W62*6.2898*W$2/Oljepris!$D61,X61-X61*X$2) -> 1725.1204 | Z62: =IF(Y62>0,Y62*6.2898*Y$2/Oljepris!$D61,Z61-Z61*Z$2) -> 7.970578e-07 | AA62: =Z62+X62+V62+T62+R62+P62+N62+L62+J62+H62+F62 -> 12714.74 | AB62: =F62+H62+J62+L62+N62+P62+R62+T62+V62+X62+Z62 -> 12714.74
A63: 44501 | B63: =IF(AC62=0,AA62,AC62) -> 12714.74 | C63: =B63-(B63*$C$1) -> 12663.881 | F63: =IF(E63>0,E63*6.2898*$E$2/Oljepris!D62,F62-F62*$F$2) -> 1352.8166 | H63: =IF(G63>0,G63*6.2898*$G$2/Oljepris!D62,H62-H62*$H$2) -> 1031.9508 | J63: =IF(I63>0,I63/0.2*6.2898*I$2/Oljepris!$D62,J62-J62*J$2) -> 157.56819 | L63: =IF(K63>0,K63*6.2898*K$2/Oljepris!$D62,L62-L62*L$2) -> 1107.1631 | N63: =IF(M63>0,M63*6.2898*M$2/Oljepris!$D62,N62-N62*N$2) -> 1049.9848 | P63: =IF(O63>0,O63*6.2898*O$2/Oljepris!$D62,P62-P62*P$2) -> 478.36335 | R63: =IF(Q63>0,Q63*6.2898*Q$2/Oljepris!$D62,R62-R62*R$2) -> 2828.199 | T63: =IF(S63>0,S63*6.2898*S$2/Oljepris!$D62,T62-T62*T$2) -> 2189.9 | V63: =IF(U63>0,U63/0.18*6.2898*U$2/Oljepris!$D62,V62-V62*V$2) -> 598.10757 | X63: =IF(W63>0,W63*6.2898*W$2/Oljepris!$D62,X62-X62*X$2) -> 1723.3953 | Z63: =IF(Y63>0,Y63*6.2898*Y$2/Oljepris!$D62,Z62-Z62*Z$2) -> 7.8908722e-07 | AA63: =Z63+X63+V63+T63+R63+P63+N63+L63+J63+H63+F63 -> 12517.449 | AB63: =F63+H63+J63+L63+N63+P63+R63+T63+V63+X63+Z63 -> 12517.449
A64: 44531 | B64: =IF(AC63=0,AA63,AC63) -> 12517.449 | C64: =B64-(B64*$C$1) -> 12467.379 | F64: =IF(E64>0,E64*6.2898*$E$2/Oljepris!D63,F63-F63*$F$2) -> 1366.3448 | H64: =IF(G64>0,G64*6.2898*$G$2/Oljepris!D63,H63-H63*$H$2) -> 1021.6313 | J64: =IF(I64>0,I64/0.2*6.2898*I$2/Oljepris!$D63,J63-J63*J$2) -> 155.99251 | L64: =IF(K64>0,K64*6.2898*K$2/Oljepris!$D63,L63-L63*L$2) -> 1096.0915 | N64: =IF(M64>0,M64*6.2898*M$2/Oljepris!$D63,N63-N63*N$2) -> 1018.4852 | P64: =IF(O64>0,O64*6.2898*O$2/Oljepris!$D63,P63-P63*P$2) -> 471.1879 | R64: =IF(Q64>0,Q64*6.2898*Q$2/Oljepris!$D63,R63-R63*R$2) -> 2715.071 | T64: =IF(S64>0,S64*6.2898*S$2/Oljepris!$D63,T63-T63*T$2) -> 2168.001 | V64: =IF(U64>0,U64/0.18*6.2898*U$2/Oljepris!$D63,V63-V63*V$2) -> 592.1265 | X64: =IF(W64>0,W64*6.2898*W$2/Oljepris!$D63,X63-X63*X$2) -> 1721.6719 | Z64: =IF(Y64>0,Y64*6.2898*Y$2/Oljepris!$D63,Z63-Z63*Z$2) -> 7.8119635e-07 | AA64: =Z64+X64+V64+T64+R64+P64+N64+L64+J64+H64+F64 -> 12326.604 | AB64: =F64+H64+J64+L64+N64+P64+R64+T64+V64+X64+Z64 -> 12326.604
A65: 44562 | B65: =IF(AC64=0,AA64,AC64) -> 12326.604 | C65: =B65-(B65*$C$1) -> 12277.297 | F65: =IF(E65>0,E65*6.2898*$E$2/Oljepris!D64,F64-F64*$F$2) -> 1380.0082 | H65: =IF(G65>0,G65*6.2898*$G$2/Oljepris!D64,H64-H64*$H$2) -> 1011.415 | J65: =IF(I65>0,I65/0.2*6.2898*I$2/Oljepris!$D64,J64-J64*J$2) -> 154.43258 | L65: =IF(K65>0,K65*6.2898*K$2/Oljepris!$D64,L64-L64*L$2) -> 1085.1305 | N65: =IF(M65>0,M65*6.2898*M$2/Oljepris!$D64,N64-N64*N$2) -> 987.93066 | P65: =IF(O65>0,O65*6.2898*O$2/Oljepris!$D64,P64-P64*P$2) -> 464.12008 | R65: =IF(Q65>0,Q65*6.2898*Q$2/Oljepris!$D64,R64-R64*R$2) -> 2606.4682 | T65: =IF(S65>0,S65*6.2898*S$2/Oljepris!$D64,T64-T64*T$2) -> 2146.321 | V65: =IF(U65>0,U65/0.18*6.2898*U$2/Oljepris!$D64,V64-V64*V$2) -> 586.20523 | X65: =IF(W65>0,W65*6.2898*W$2/Oljepris!$D64,X64-X64*X$2) -> 1719.9502 | Z65: =IF(Y65>0,Y65*6.2898*Y$2/Oljepris!$D64,Z64-Z64*Z$2) -> 7.7338439e-07 | AA65: =Z65+X65+V65+T65+R65+P65+N65+L65+J65+H65+F65 -> 12141.982 | AB65: =F65+H65+J65+L65+N65+P65+R65+T65+V65+X65+Z65 -> 12141.982
A66: 44593 | B66: =IF(AC65=0,AA65,AC65) -> 12141.982 | C66: =B66-(B66*$C$1) -> 12093.414 | F66: =IF(E66>0,E66*6.2898*$E$2/Oljepris!D65,F65-F65*$F$2) -> 1393.8083 | H66: =IF(G66>0,G66*6.2898*$G$2/Oljepris!D65,H65-H65*$H$2) -> 1001.3009 | J66: =IF(I66>0,I66/0.2*6.2898*I$2/Oljepris!$D65,J65-J65*J$2) -> 152.88826 | L66: =IF(K66>0,K66*6.2898*K$2/Oljepris!$D65,L65-L65*L$2) -> 1074.2792 | N66: =IF(M66>0,M66*6.2898*M$2/Oljepris!$D65,N65-N65*N$2) -> 958.29274 | P66: =IF(O66>0,O66*6.2898*O$2/Oljepris!$D65,P65-P65*P$2) -> 457.15828 | R66: =IF(Q66>0,Q66*6.2898*Q$2/Oljepris!$D65,R65-R65*R$2) -> 2502.2094 | T66: =IF(S66>0,S66*6.2898*S$2/Oljepris!$D65,T65-T65*T$2) -> 2124.8578 | V66: =IF(U66>0,U66/0.18*6.2898*U$2/Oljepris!$D65,V65-V65*V$2) -> 580.34318 | X66: =IF(W66>0,W66*6.2898*W$2/Oljepris!$D65,X65-X65*X$2) -> 1718.2303 | Z66: =IF(Y66>0,Y66*6.2898*Y$2/Oljepris!$D65,Z65-Z65*Z$2) -> 7.6565054e-07 | AA66: =Z66+X66+V66+T66+R66+P66+N66+L66+J66+H66+F66 -> 11963.368 | AB66: =F66+H66+J66+L66+N66+P66+R66+T66+V66+X66+Z66 -> 11963.368
... A76: 44896 | B76: =IF(AC75=0,AA75,AC75) -> 10594.615 | C76: =B76-(B76*$C$1) -> 10552.236 | F76: =IF(E76>0,E76*6.2898*$E$2/Oljepris!D75,F75-F75*$F$2) -> 1539.6315 | H76: =IF(G76>0,G76*6.2898*$G$2/Oljepris!D75,H75-H75*$H$2) -> 905.55854 | J76: =IF(I76>0,I76/0.2*6.2898*I$2/Oljepris!$D75,J75-J75*J$2) -> 138.2694 | L76: =IF(K76>0,K76*6.2898*K$2/Oljepris!$D75,L75-L75*L$2) -> 971.55889 | N76: =IF(M76>0,M76*6.2898*M$2/Oljepris!$D75,N75-N75*N$2) -> 706.66819 | P76: =IF(O76>0,O76*6.2898*O$2/Oljepris!$D75,P75-P75*P$2) -> 393.03289 | R76: =IF(Q76>0,Q76*6.2898*Q$2/Oljepris!$D75,R75-R75*R$2) -> 1663.5505 | T76: =IF(S76>0,S76*6.2898*S$2/Oljepris!$D75,T75-T75*T$2) -> 1921.6833 | V76: =IF(U76>0,U76/0.18*6.2898*U$2/Oljepris!$D75,V75-V75*V$2) -> 524.85197 | X76: =IF(W76>0,W76*6.2898*W$2/Oljepris!$D75,X75-X75*X$2) -> 1701.1251 | Z76: =IF(Y76>0,Y76*6.2898*Y$2/Oljepris!$D75,Z75-Z75*Z$2) -> 6.9244063e-07 | AA76: =Z76+X76+V76+T76+R76+P76+N76+L76+J76+H76+F76 -> 10465.93 | AB76: =F76+H76+J76+L76+N76+P76+R76+T76+V76+X76+Z76 -> 10465.93

Sheet Grafer NorgeUK
A1: Produksjonsgrafer fra forskjellige felt (DNO's andel)

Sheet Kurstrend
A1: Kurstrend for DNO
A3: Sluttkurser
A5: 42737 | B5: 8.79
A6: 42738 | B6: 9.1
A7: 42739 | B7: 8.98
A8: 42740 | B8: 9.005
A9: 42741 | B9: 8.855
A10: 42744 | B10: 9.125
A11: 42745 | B11: 9.345
A12: 42746 | B12: 9.29
A13: 42747 | B13: 9.435
A14: 42748 | B14: 9.44
A15: 42751 | B15: 9.18
A16: 42752 | B16: 9.205
... A1060: 44277 | B1060: 9.84

Sheet Produksjonstrend

Sheet Lisenser Norge-UK
A2: Land | B2: Blokknr. | C2: Lisensnr. | D2: Operatør | E2: Lisensnavn | F2: DNO Andel | G2: Faktaside | H2: Status | I2: Kommentar
A4: Norge
B6: 2/5 | C6: 006 C | D6: DNO North Sea | F6: 0.85 | G6: http://factpages.npd.no/ReportServer?/FactPages/PageView/licence&rs:Command=Render&rc:Toolbar=false&rc:Parameters=f&NpdId=1333089&IpAddress=80.254.154.67&CultureCode=nb-no | H6: Tørr / Shows | I6: Antagelig uinteressant
B7: 2/5 | C7: 006 E | D7: DNO North Sea | F7: 0.85 | G7: http://factpages.npd.no/ReportServer?/FactPages/PageView/licence&rs:Command=Render&rc:Toolbar=false&rc:Parameters=f&NpdId=30977683&IpAddress=80.254.154.67&CultureCode=nb-no | H7: Uboret
B8: 2/5 | C8: 006 F | D8: DNO North Sea | F8: 0.85 | G8: http://factpages.npd.no/ReportServer?/FactPages/PageView/licence&rs:Command=Render&rc:Toolbar=false&rc:Parameters=f&NpdId=34041810&IpAddress=80.254.154.67&CultureCode=nb-no | H8: Uboret
B9: 7/12 | C9: 019 | D9: Aker BP | E9: Ula | F9: 0.2 | G9: http://factpages.npd.no/ReportServer?/FactPages/PageView/licence&rs:Command=Render&rc:Toolbar=false&rc:Parameters=f&NpdId=20916&IpAddress=80.254.154.67&CultureCode=nb-no | H9: Produserer
B10: 7/12 | C10: 019 E | D10: Aker BP | F10: 0.2 | G10: http://factpages.npd.no/ReportServer?/FactPages/PageView/licence&rs:Command=Render&rc:Toolbar=false&rc:Parameters=f&NpdId=30978084&IpAddress=80.254.154.67&CultureCode=nb-no | H10: Uboret
B11: 7/12 | C11: 019 H | D11: Aker BP | F11: 0.2 | G11: http://factpages.npd.no/ReportServer?/FactPages/PageView/licence&rs:Command=Render&rc:Toolbar=false&rc:Parameters=f&NpdId=34041830&IpAddress=80.254.154.67&CultureCode=nb-no | H11: Uboret
B12: 25/4 | C12: 036 D | D12: Aker BP | E12: Vilje | F12: 0.28853 | G12: http://factpages.npd.no/ReportServer?/FactPages/PageView/licence&rs:Command=Render&rc:Toolbar=false&rc:Parameters=f&NpdId=5081703&IpAddress=80.254.154.67&CultureCode=nb-no | H12: Produserer
B13: 25/8 | C13: 169 E | D13: DNO North Sea | E13: Ringhorne Øst | F13: 0.87 | G13: http://factpages.npd.no/ReportServer?/FactPages/PageView/licence&rs:Command=Render&rc:Toolbar=false&rc:Parameters=f&NpdId=21124742&IpAddress=80.254.154.99&CultureCode=en | H13: Produserer
B14: 15/5 | C14: 048 D | D14: Equinor | E14: Enoch | F14: 0.093 | G14: http://factpages.npd.no/ReportServer?/FactPages/PageView/licence&rs:Command=Render&rc:Toolbar=false&rc:Parameters=f&NpdId=3489553&IpAddress=80.254.154.99&CultureCode=nb-no | H14: Produserer | I14: 20% av Enoch på Norsk side
B15: 30/6 | C15: 053 B | D15: Wintershall | E15: Brage | F15: 0.142567 | G15: http://factpages.npd.no/ReportServer?/FactPages/PageView/licence&rs:Command=Render&rc:Toolbar=false&rc:Parameters=f&NpdId=48207&IpAddress=80.254.154.99&CultureCode=en | H15: Produserer
B16: 31/4 | C16: 055 | D16: Wintershall | E16: Brage | F16: 0.142567 | G16: http://factpages.npd.no/ReportServer?/FactPages/PageView/licence&rs:Command=Render&rc:Toolbar=false&rc:Parameters=f&NpdId=21236&IpAddress=80.254.154.67&CultureCode=en | H16: Produserer
B17: 31/4 | C17: 055 B | D17: Wintershall | E17: Brage | F17: 0.142567 | G17: http://factpages.npd.no/ReportServer?/FactPages/PageView/licence&rs:Command=Render&rc:Toolbar=false&rc:Parameters=f&NpdId=102499&IpAddress=80.254.154.67&CultureCode=en | H17: Produserer
B18: 31/4 | C18: 055 D | D18: Wintershall | E18: Brage | F18: 0.142567 | G18: http://factpages.npd.no/ReportServer?/FactPages/PageView/licence&rs:Command=Render&rc:Toolbar=false&rc:Parameters=f&NpdId=22813096&IpAddress=80.254.154.67&CultureCode=en | H18: Produserer
B19: 31/7 | C19: 185 | D19: Wintershall | E19: Brage | F19: 0.142567 | G19: http://factpages.npd.no/ReportServer?/FactPages/PageView/licence&rs:Command=Render&rc:Toolbar=false&rc:Parameters=f&NpdId=22292&IpAddress=80.254.154.99&CultureCode=en | H19: Produserer
B20: 1/3 | C20: 065 | D20: Aker BP | E20: Tambar | F20: 0.45 | G20: http://factpages.npd.no/ReportServer?/FactPages/PageView/licence&rs:Command=Render&rc:Toolbar=false&rc:Parameters=f&NpdId=21316&IpAddress=80.254.154.67&CultureCode=en | H20: Produserer
B21: 1/3 | C21: 065 B | D21: Aker BP | E21: (Tambar) | F21: 0.45 | G21: http://factpages.npd.no/ReportServer?/FactPages/PageView/licence&rs:Command=Render&rc:Toolbar=false&rc:Parameters=f&NpdId=30977515&IpAddress=80.254.154.67&CultureCode=en | H21: Uboret
B22: 1/3 | C22: 274 | D22: DNO North Sea | E22: Oselvar | F22: 0.55 | G22: http://factpages.npd.no/ReportServer?/FactPages/PageView/licence&rs:Command=Render&rc:Toolbar=false&rc:Parameters=f&NpdId=2060266&IpAddress=80.254.154.99&CultureCode=en | H22: Shut Down
B23: 1/2 | C23: 274 CS | D23: DNO North Sea | E23: Oselvar | F23: 0.55 | G23: http://factpages.npd.no/ReportServer?/FactPages/PageView/licence&rs:Command=Render&rc:Toolbar=false&rc:Parameters=f&NpdId=4909658&IpAddress=80.254.154.99&CultureCode=en | H23: Shut Down
B24: 2/1 | C24: 300 | D24: Aker BP | E24: Tambar Øst | F24: 0.45 | G24: http://factpages.npd.no/ReportServer?/FactPages/PageView/licence&rs:Command=Render&rc:Toolbar=false&rc:Parameters=f&NpdId=2490354&IpAddress=80.254.154.99&CultureCode=en | H24: Midl. avstengt pga trykk
B25: 8/10 | C25: 405 | D25: Spirit Energy | E25: Oda | F25: 0.15 | G25: http://factpages.npd.no/ReportServer?/FactPages/PageView/licence&rs:Command=Render&rc:Toolbar=false&rc:Parameters=f&NpdId=4237284&IpAddress=80.254.154.99&CultureCode=en | H25: Produserer
B26: 6506/9-12 | C26: 433 | D26: Spirit Energy | E26: Fogelberg | F26: 0.15 | G26: http://factpages.npd.no/ReportServer?/FactPages/PageView/licence&rs:Command=Render&rc:Toolbar=false&rc:Parameters=f&NpdId=4238654&IpAddress=80.254.154.99&CultureCode=en | H26: Funn
B27: 640x | C27: 1006 | D27: Equinor | F27: 0.3 | G27: http://factpages.npd.no/ReportServer?/FactPages/PageView/licence&rs:Command=Render&rc:Toolbar=false&rc:Parameters=f&NpdId=34040194&IpAddress=80.254.154.67&CultureCode=en | H27: Uboret
B28: 6506/7-8-10 | C28: 1007 | D28: DNO North Sea | F28: 0.4 | G28: http://factpages.npd.no/ReportServer?/FactPages/PageView/licence&rs:Command=Render&rc:Toolbar=false&rc:Parameters=f&NpdId=34040259&IpAddress=80.254.154.67&CultureCode=en | H28: Uboret
B29: 6506/8-10-11 | C29: 644 | D29: Equinor | E29: Hades / Iris | F29: 0.2 | G29: http://factpages.npd.no/ReportServer?/FactPages/PageView/licence&rs:Command=Render&rc:Toolbar=false&rc:Parameters=f&NpdId=21559648&IpAddress=80.254.154.99&CultureCode=en | H29: Funn
B30: 6507/2 | C30: 122 | D30: Vår Energy | E30: Marulk | F30: 0.17 | G30: http://factpages.npd.no/ReportServer?/FactPages/PageView/licence&rs:Command=Render&rc:Toolbar=false&rc:Parameters=f&NpdId=21788&IpAddress=80.254.154.67&CultureCode=en | H30: Produserer
B31: 6507/3 | C31: 122 B | D31: Vår Energy | E31: Marulk | F31: 0.17 | G31: http://factpages.npd.no/ReportServer?/FactPages/PageView/licence&rs:Command=Render&rc:Toolbar=false&rc:Parameters=f&NpdId=2134110&IpAddress=80.254.154.67&CultureCode=en | H31: Produserer
B32: 6607/12 | C32: 122 C | D32: Vår Energy | E32: Marulk | F32: 0.17 | G32: http://factpages.npd.no/ReportServer?/FactPages/PageView/licence&rs:Command=Render&rc:Toolbar=false&rc:Parameters=f&NpdId=2987454&IpAddress=80.254.154.67&CultureCode=en | H32: Produserer
B33: 6607/11 | C33: 122 D | D33: Vår Energy | E33: Marulk | F33: 0.17 | G33: http://factpages.npd.no/ReportServer?/FactPages/PageView/licence&rs:Command=Render&rc:Toolbar=false&rc:Parameters=f&NpdId=3811939&IpAddress=80.254.154.67&CultureCode=en | H33: Produserer
B34: 6507/3 | C34: 159B | D34: Equinor | E34: Alve | F34: 0.32 | G34: http://factpages.npd.no/ReportServer?/FactPages/PageView/licence&rs:Command=Render&rc:Toolbar=false&rc:Parameters=f&NpdId=2819945&IpAddress=80.254.154.67&CultureCode=en | H34: Produserer
B35: 03/1 | C35: 147 | D35: DNO North Sea | E35: Trym | F35: 0.5 | G35: http://factpages.npd.no/ReportServer?/FactPages/PageView/licence&rs:Command=Render&rc:Toolbar=false&rc:Parameters=f&NpdId=21988&IpAddress=80.254.154.67&CultureCode=en | H35: Produserer
B37: 35/11 | C37: 248F | D37: Wintershall | E37: Syrah and Antares | F37: 0.2 | G37: http://factpages.npd.no/FactPages/default.aspx?nav1=licence&nav2=PageView|All&nav3=27160027 | H37: Funn
B38: 35/8 35/11 | C38: 248 GS | D38: Wintershall | F38: 0.2 | G38: http://factpages.npd.no/FactPages/default.aspx?nav1=licence&nav2=PageView|All&nav3=28225653 | H38: Uboret
B39: 35/7 35/8 | C39: 248 HS | D39: Wintershall | F39: 0.2 | G39: http://factpages.npd.no/FactPages/default.aspx?nav1=licence&nav2=PageView|All&nav3=28225653 | H39: Uboret
B40: 35/10 | C40: PL293 B | D40: Equinor | F40: 0.2 | G40: http://factpages.npd.no/ReportServer?/FactPages/PageView/licence&rs:Command=Render&rc:Toolbar=false&rc:Parameters=f&NpdId=21695786&IpAddress=80.254.154.67&CultureCode=nb-no | H40: Uboret
B41: 6406/11-12 | C41: 586 | D41: Neptune | E41: Fenja | F41: 0.075 | G41: http://factpages.npd.no/ReportServer?/FactPages/PageView/licence&rs:Command=Render&rc:Toolbar=false&rc:Parameters=f&NpdId=20109200&IpAddress=80.254.154.99&CultureCode=en | H41: Funn

Sheet Oman
A1: Oman | B1: Decline faktor: | C1: 0.009 | D1: Info | E1: Bukha | F1: West Bukha
E2: 2000 | F2: 3000
A3: Måned | B3: Forrige måned | C3: Ny inc. decline | D3: Ny produksjon | G3: Estimat | H3: Reell
A5: 42736 | B5: 4800 | C5: =B5-(B5*$C$1) -> 4756.8 | D5: Ingen | G5: =C5+(E5*$E$2)+(F5*$F$2) -> 4756.8
A6: 42767 | B6: =IF(H5=0,G5,H5) -> 4756.8 | C6: =B6-(B6*$C$1) -> 4713.9888 | D6: Ingen | G6: =C6+(E6*$E$2)+(F6*$F$2) -> 4713.9888
A7: 42795 | B7: =IF(H6=0,G6,H6) -> 4713.9888 | C7: =B7-(B7*$C$1) -> 4671.5629 | D7: Ingen | G7: =C7+(E7*$E$2)+(F7*$F$2) -> 4671.5629
A8: 42826 | B8: =IF(H7=0,G7,H7) -> 4671.5629 | C8: =B8-(B8*$C$1) -> 4629.5188 | D8: Ingen | G8: =C8+(E8*$E$2)+(F8*$F$2) -> 4629.5188
A9: 42856 | B9: =IF(H8=0,G8,H8) -> 4629.5188 | C9: =B9-(B9*$C$1) -> 4587.8532 | D9: Ingen | G9: =C9+(E9*$E$2)+(F9*$F$2) -> 4587.8532
A10: 42887 | B10: =IF(H9=0,G9,H9) -> 4587.8532 | C10: =B10-(B10*$C$1) -> 4546.5625 | D10: WB 5-B | G10: =C10+(E10*$E$2)+(F10*$F$2) -> 4546.5625
A11: 42917 | B11: =IF(H10=0,G10,H10) -> 4546.5625 | C11: =B11-(B11*$C$1) -> 4505.6434 | D11: Ingen | G11: =C11+(E11*$E$2)+(F11*$F$2) -> 4505.6434
A12: 42948 | B12: =IF(H11=0,G11,H11) -> 4505.6434 | C12: =B12-(B12*$C$1) -> 4465.0926 | D12: Ingen | G12: =C12+(E12*$E$2)+(F12*$F$2) -> 4465.0926
A13: 42979 | B13: =IF(H12=0,G12,H12) -> 4465.0926 | C13: =B13-(B13*$C$1) -> 4424.9068 | D13: Ingen | G13: =C13+(E13*$E$2)+(F13*$F$2) -> 4424.9068
A14: 43009 | B14: =IF(H13=0,G13,H13) -> 4424.9068 | C14: =B14-(B14*$C$1) -> 4385.0826 | D14: Bukha 1 | G14: =C14+(E14*$E$2)+(F14*$F$2) -> 4385.0826
A15: 43040 | B15: =IF(H14=0,G14,H14) -> 4385.0826 | C15: =B15-(B15*$C$1) -> 4345.6169 | D15: Ingen | G15: =C15+(E15*$E$2)+(F15*$F$2) -> 4345.6169
A16: 43070 | B16: =IF(H15=0,G15,H15) -> 4345.6169 | C16: =B16-(B16*$C$1) -> 4306.5063 | D16: Ingen | G16: =C16+(E16*$E$2)+(F16*$F$2) -> 4306.5063 | I16: =SUM(G5:G16)/12 -> 4528.2612
A17: 43101 | B17: =IF(H16=0,G16,H16) -> 4306.5063 | C17: =B17-(B17*$C$1) -> 4267.7478 | D17: Ingen | G17: =C17+(E17*$E$2)+(F17*$F$2) -> 4267.7478
A18: 43132 | B18: =IF(H17=0,G17,H17) -> 4267.7478 | C18: =B18-(B18*$C$1) -> 4229.3381 | D18: Ingen | G18: =C18+(E18*$E$2)+(F18*$F$2) -> 4229.3381
A19: 43160 | B19: =IF(H18=0,G18,H18) -> 4229.3381 | C19: =B19-(B19*$C$1) -> 4191.274 | D19: Ingen | G19: =C19+(E19*$E$2)+(F19*$F$2) -> 4191.274
A20: 43191 | B20: =IF(H19=0,G19,H19) -> 4191.274 | C20: =B20-(B20*$C$1) -> 4153.5525 | D20: Ingen | G20: =C20+(E20*$E$2)+(F20*$F$2) -> 4153.5525
A21: 43221 | B21: =IF(H20=0,G20,H20) -> 4153.5525 | C21: =B21-(B21*$C$1) -> 4116.1706 | D21: Ingen | G21: =C21+(E21*$E$2)+(F21*$F$2) -> 4116.1706
A22: 43252 | B22: =IF(H21=0,G21,H21) -> 4116.1706 | C22: =B22-(B22*$C$1) -> 4079.125 | D22: Ingen | G22: =C22+(E22*$E$2)+(F22*$F$2) -> 4079.125
A23: 43282 | B23: =IF(H22=0,G22,H22) -> 4079.125 | C23: =B23-(B23*$C$1) -> 4042.4129 | D23: Ingen | G23: =C23+(E23*$E$2)+(F23*$F$2) -> 4042.4129
A24: 43313 | B24: =IF(H23=0,G23,H23) -> 4042.4129 | C24: =B24-(B24*$C$1) -> 4006.0312 | D24: Ingen | G24: =C24+(E24*$E$2)+(F24*$F$2) -> 4006.0312
A25: 43344 | B25: =IF(H24=0,G24,H24) -> 4006.0312 | C25: =B25-(B25*$C$1) -> 3969.9769 | D25: Ingen | G25: =C25+(E25*$E$2)+(F25*$F$2) -> 3969.9769
A26: 43374 | B26: =IF(H25=0,G25,H25) -> 3969.9769 | C26: =B26-(B26*$C$1) -> 3934.2471 | D26: Ingen | G26: =C26+(E26*$E$2)+(F26*$F$2) -> 3934.2471
A27: 43405 | B27: =IF(H26=0,G26,H26) -> 3934.2471 | C27: =B27-(B27*$C$1) -> 3898.8389 | D27: Ingen | G27: =C27+(E27*$E$2)+(F27*$F$2) -> 3898.8389
A28: 43435 | B28: =IF(H27=0,G27,H27) -> 3898.8389 | C28: =B28-(B28*$C$1) -> 3863.7494 | D28: Ingen | G28: =C28+(E28*$E$2)+(F28*$F$2) -> 3863.7494
A29: 43466 | B29: 0 | C29: =B29-(B29*$C$1) -> 0 | D29: Ingen
A30: 43497 | B30: =IF(H29=0,G29,H29) -> 0 | C30: =B30-(B30*$C$1) -> 0 | D30: Ingen
A31: 43525 | B31: =IF(H30=0,G30,H30) -> 0 | C31: =B31-(B31*$C$1) -> 0 | D31: Ingen
A32: 43556 | B32: =IF(H31=0,G31,H31) -> 0 | C32: =B32-(B32*$C$1) -> 0 | D32: Ingen
A33: 43586 | B33: =IF(H32=0,G32,H32) -> 0 | C33: =B33-(B33*$C$1) -> 0 | D33: Ingen
A34: 43617 | B34: =IF(H33=0,G33,H33) -> 0 | C34: =B34-(B34*$C$1) -> 0 | D34: Ingen
A35: 43647 | B35: =IF(H34=0,G34,H34) -> 0 | C35: =B35-(B35*$C$1) -> 0 | D35: Ingen
A36: 43678 | B36: =IF(H35=0,G35,H35) -> 0 | C36: =B36-(B36*$C$1) -> 0 | D36: Ingen
A37: 43709 | B37: =IF(H36=0,G36,H36) -> 0 | C37: =B37-(B37*$C$1) -> 0 | D37: Ingen
A38: 43739 | B38: =IF(H37=0,G37,H37) -> 0 | C38: =B38-(B38*$C$1) -> 0 | D38: Ingen
A39: 43770 | B39: =IF(H38=0,G38,H38) -> 0 | C39: =B39-(B39*$C$1) -> 0 | D39: Ingen
A40: 43800 | B40: =IF(H39=0,G39,H39) -> 0 | C40: =B40-(B40*$C$1) -> 0 | D40: Ingen
A41: 43831 | B41: =IF(H40=0,G40,H40) -> 0 | C41: =B41-(B41*$C$1) -> 0 | D41: Ingen
... A52: 44166 | B52: =IF(H51=0,G51,H51) -> 0 | C52: =B52-(B52*$C$1) -> 0 | D52: Ingen
