Workbook

Sheet Estimat
A1: Estimat DNO inntekter (USD)
C3: Produksjon Kurdistan | D3: Produksjon Oman | E3: Oljepris Tawke | F3: Oljepris Oman | G3: Reell betaling gjeld | H3: DNO Betaling gjeld | I3: DNO andel Tawke | J3: DNO andel Oman | K3: Samlet | L3: Kvartalsinntekter estimert | M3: Gjeldsinntekter | N3: Revenue per Q Estimert | O3: Revenue per Q rapportert
A4: 42736 | C4: =Kurdistan!Q5 -> 112537 | D4: =Oman!G5 -> 4925.25 | E4: =Oljepris!B4-12 -> 42.58 | F4: =Oljepris!B4-5 -> 49.58 | H4: =C4*E4*Oljepris!D4*0.05*0.71 -> 5273403.9 | I4: =C4*E4*Oljepris!D4*0.71*0.31-H4 -> 27421700 | J4: =D4*F4*Oljepris!D4*0.5*0.45 -> 1703252.4 | K4: =I4+J4 -> 29124953
A5: 42767 | C5: =Kurdistan!Q6 -> 110641 | D5: =Oman!G6 -> 4900.6237 | E5: =Oljepris!B5-12 -> 42.87 | F5: =Oljepris!B5-5 -> 49.87 | H5: =C5*E5*Oljepris!D5*0.05*0.71 -> 4714720.6 | I5: =C5*E5*Oljepris!D5*0.71*0.31-H5 -> 24516547 | J5: =D5*F5*Oljepris!D5*0.5*0.45 -> 1539682.9 | K5: =I5+J5 -> 26056230
A6: 42795 | C6: =Kurdistan!Q7 -> 108513 | D6: =Oman!G7 -> 4876.1206 | E6: =Oljepris!B6-12 -> 39.9 | F6: =Oljepris!B6-5 -> 46.9 | H6: =C6*E6*Oljepris!D6*0.05*0.71 -> 4764800.4 | I6: =C6*E6*Oljepris!D6*0.71*0.31-H6 -> 24776962 | J6: =D6*F6*Oljepris!D6*0.5*0.45 -> 1595113.2 | K6: =I6+J6 -> 26372075 | L6: 77100000
A7: 42826 | C7: =Kurdistan!Q8 -> 108519 | D7: =Oman!G8 -> 4851.74 | E7: =Oljepris!B7-12 -> 40.31 | F7: =Oljepris!B7-5 -> 47.31 | H7: =C7*E7*Oljepris!D7*0.05*0.71 -> 4658736.9 | I7: =C7*E7*Oljepris!D7*0.71*0.31-H7 -> 24225432 | J7: =D7*F7*Oljepris!D7*0.5*0.45 -> 1549366.8 | K7: =I7+J7 -> 25774799
A8: 42856 | C8: =Kurdistan!Q9 -> 107554.93 | D8: =Oman!G9 -> 4827.4813 | E8: =Oljepris!B8-12 -> 38.33 | F8: =Oljepris!B8-5 -> 45.33 | G8: 6390000 | H8: =C8*E8*Oljepris!D8*0.05*0.71 -> 4536900 | I8: =C8*E8*Oljepris!D8*0.71*0.31-H8 -> 23591880 | J8: =D8*F8*Oljepris!D8*0.5*0.45 -> 1526337.4 | K8: =I8+J8 -> 25118217
A9: 42887 | C9: =Kurdistan!Q10 -> 108834.06 | D9: =Oman!G10 -> 4803.3439 | E9: =Oljepris!B9-12 -> 34.37 | F9: =Oljepris!B9-5 -> 41.37 | H9: =C9*E9*Oljepris!D9*0.05*0.71 -> 3983767.2 | I9: =C9*E9*Oljepris!D9*0.71*0.31-H9 -> 20715590 | J9: =D9*F9*Oljepris!D9*0.5*0.45 -> 1341321.8 | K9: =I9+J9 -> 22056911 | L9: =SUM(I4:I6)+SUM(J7:J9) -> 81132235 | M9: =SUM(H4:H6) -> 14752925 | N9: =L9 -> 81132235 | O9: 81700000
A10: 42917 | C10: =Kurdistan!Q11 -> 112092.71 | D10: =Oman!G11 -> 4779.3272 | E10: =Oljepris!B10-12 -> 36.48 | F10: =Oljepris!B10-5 -> 43.48 | H10: =C10*E10*Oljepris!D10*0.05*0.71 -> 4500100.9 | I10: =C10*E10*Oljepris!D10*0.71*0.31-H10 -> 23400525 | J10: =D10*F10*Oljepris!D10*0.5*0.45 -> 1449440.9 | K10: =I10+J10 -> 24849965
A11: 42948 | C11: =Kurdistan!Q12 -> 115299.23 | D11: =Oman!G12 -> 4755.4306 | E11: =Oljepris!B11-12 -> 39.65 | F11: =Oljepris!B11-5 -> 46.65 | H11: =C11*E11*Oljepris!D11*0.03 -> 4251601.4 | I11: =(C11*E11*Oljepris!D11*0.71*0.31-H11)*1.3666 -> 36817544 | J11: =D11*F11*Oljepris!D11*0.5*0.45 -> 1547339.8 | K11: =H11+I11+J11 -> 42616485
A12: 42979 | C12: =Kurdistan!Q13 -> 113454.44 | D12: =Oman!G13 -> 4731.6534 | E12: =Oljepris!B12-12 -> 40 | F12: =Oljepris!B12-5 -> 47 | H12: =C12*E12*Oljepris!D12*0.03 -> 4084359.8 | I12: =(C12*E12*Oljepris!D12*0.71*0.31-H12)*1.3666 -> 35369285 | J12: =D12*F12*Oljepris!D12*0.5*0.45 -> 1501117 | K12: =I12+J12 -> 36870402 | L12: =SUM(I7:I9)+SUM(J10:J12) -> 73030799 | M12: =SUM(H7:H9) -> 13179404 | N12: =L12 -> 73030799
A13: 43009 | C13: =Kurdistan!Q14 -> 118139.17 | D13: =Oman!G14 -> 6707.9951 | E13: =Oljepris!B13-12 -> 40 | F13: =Oljepris!B13-5 -> 47 | H13: =C13*E13*Oljepris!D13*0.03 -> 4394777.1 | I13: =(C13*E13*Oljepris!D13*0.71*0.31-H13)*1.3666 -> 38057401 | J13: =D13*F13*Oljepris!D13*0.5*0.45 -> 2199048.5 | K13: =I13+J13 -> 40256450 | N13: =L13+M13 -> 0
A14: 43040 | C14: =Kurdistan!Q15 -> 122748.94 | D14: =Oman!G15 -> 6674.4552 | E14: =Oljepris!B14-12 -> 40 | F14: =Oljepris!B14-5 -> 47 | H14: =C14*E14*Oljepris!D14*0.03 -> 4418961.9 | I14: =(C14*E14*Oljepris!D14*0.71*0.31-H14)*1.3666 -> 38266834 | J14: =D14*F14*Oljepris!D14*0.5*0.45 -> 2117470.9 | K14: =I14+J14 -> 40384305 | N14: =L14+M14 -> 0
A15: 43070 | C15: =Kurdistan!Q16 -> 125784.96 | D15: =Oman!G16 -> 6641.0829 | E15: =Oljepris!B15-12 -> 40 | F15: =Oljepris!B15-5 -> 47 | H15: =C15*E15*Oljepris!D15*0.03 -> 4679200.5 | I15: =(C15*E15*Oljepris!D15*0.71*0.31-H15)*1.3666 -> 40520419 | J15: =D15*F15*Oljepris!D15*0.5*0.45 -> 2177113 | K15: =I15+J15 -> 42697532 | L15: =SUM(I10:I12)+SUM(J13:J15) -> 1.0208099e+08 | M15: =SUM(H10:H12) -> 12836062 | N15: =L15+M15-H13 -> 1.1052227e+08
A16: 43101 | C16: =Kurdistan!Q17 -> 123772.4 | D16: =Oman!G17 -> 6607.8775 | E16: =Oljepris!B16-12 -> 43 | F16: =Oljepris!B16-5 -> 50 | H16: =C16*E16*Oljepris!D16*0.03 -> 4949658.3 | I16: =(C16*E16*Oljepris!D16*0.71*0.31-H16)*1.3666 -> 42862500 | J16: =D16*F16*Oljepris!D16*0.5*0.45 -> 2304497.3 | K16: =I16+J16 -> 45166997 | N16: =L16+M16 -> 0
A17: 43132 | C17: =Kurdistan!Q18 -> 131292.04 | D17: =Oman!G18 -> 6574.8381 | E17: =Oljepris!B17-12 -> 43 | F17: =Oljepris!B17-5 -> 50 | H17: =C17*E17*Oljepris!D17*0.03 -> 4742268.5 | I17: =(C17*E17*Oljepris!D17*0.71*0.31-H17)*1.3666 -> 41066569 | J17: =D17*F17*Oljepris!D17*0.5*0.45 -> 2071074 | K17: =I17+J17 -> 43137643 | N17: =L17+M17 -> 0
A18: 43160 | C18: =Kurdistan!Q19 -> 130709.37 | D18: =Oman!G19 -> 6541.9639 | E18: =Oljepris!B18-12 -> 43 | F18: =Oljepris!B18-5 -> 50 | H18: =C18*E18*Oljepris!D18*0.03 -> 5227067.6 | I18: =(C18*E18*Oljepris!D18*0.71*0.31-H18)*1.3666 -> 45264778 | J18: =D18*F18*Oljepris!D18*0.5*0.45 -> 2281509.9 | K18: =I18+J18 -> 47546288 | L18: =SUM(I13:I15)+SUM(J16:J18) -> 1.2350174e+08 | M18: =SUM(H13:H15) -> 13492939 | N18: =L18+M18 -> 1.3699468e+08
A19: 43191 | C19: =Kurdistan!Q20 -> 135135.84 | D19: =Oman!G20 -> 6509.2541 | E19: =Oljepris!B19-12 -> 43 | F19: =Oljepris!B19-5 -> 50 | H19: =C19*E19*Oljepris!D19*0.03 -> 5229757 | I19: =(C19*E19*Oljepris!D19*0.71*0.31-H19)*1.3666 -> 45288067 | J19: =D19*F19*Oljepris!D19*0.5*0.45 -> 2196873.3 | K19: =I19+J19 -> 47484940 | N19: =L19+M19 -> 0
A20: 43221 | C20: =Kurdistan!Q21 -> 134491.31 | D20: =Oman!G21 -> 6476.7078 | E20: =Oljepris!B20-12 -> 43 | F20: =Oljepris!B20-5 -> 50 | H20: =C20*E20*Oljepris!D20*0.03 -> 5378307.4 | I20: =(C20*E20*Oljepris!D20*0.71*0.31-H20)*1.3666 -> 46574467 | J20: =D20*F20*Oljepris!D20*0.5*0.45 -> 2258751.8 | K20: =I20+J20 -> 48833219 | N20: =L20+M20 -> 0
A21: 43252 | C21: =Kurdistan!Q22 -> 133856.91 | D21: =Oman!G22 -> 6444.3243 | E21: =Oljepris!B21-12 -> 43 | F21: =Oljepris!B21-5 -> 50 | H21: =C21*E21*Oljepris!D21*0.03 -> 5180262.5 | I21: =(C21*E21*Oljepris!D21*0.71*0.31-H21)*1.3666 -> 44859460 | J21: =D21*F21*Oljepris!D21*0.5*0.45 -> 2174959.4 | K21: =I21+J21 -> 47034420 | L21: =SUM(I16:I18)+SUM(J19:J21) -> 1.3582443e+08 | M21: =SUM(H16:H18) -> 14918994 | N21: =L21+M21 -> 1.5074343e+08
A22: 43282 | C22: =Kurdistan!Q23 -> 136232.49 | D22: =Oman!G23 -> 6412.1027 | E22: =Oljepris!B22-12 -> 43 | F22: =Oljepris!B22-5 -> 50 | H22: =C22*E22*Oljepris!D22*0.03 -> 5447937.3 | I22: =(C22*E22*Oljepris!D22*0.71*0.31-H22)*1.3666 -> 47177441 | J22: =D22*F22*Oljepris!D22*0.5*0.45 -> 2236220.8 | K22: =I22+J22 -> 49413662 | N22: =L22+M22 -> 0
A23: 43313 | C23: =Kurdistan!Q24 -> 140587.89 | D23: =Oman!G24 -> 6380.0421 | E23: =Oljepris!B23-12 -> 43 | F23: =Oljepris!B23-5 -> 50 | H23: =C23*E23*Oljepris!D23*0.03 -> 5622109.7 | I23: =(C23*E23*Oljepris!D23*0.71*0.31-H23)*1.3666 -> 48685720 | J23: =D23*F23*Oljepris!D23*0.5*0.45 -> 2225039.7 | K23: =I23+J23 -> 50910759 | N23: =L23+M23 -> 0
A24: 43344 | C24: =Kurdistan!Q25 -> 139873.25 | D24: =Oman!G25 -> 6348.1419 | E24: =Oljepris!B24-12 -> 43 | F24: =Oljepris!B24-5 -> 50 | H24: =C24*E24*Oljepris!D24*0.03 -> 5413094.8 | I24: =(C24*E24*Oljepris!D24*0.71*0.31-H24)*1.3666 -> 46875715 | J24: =D24*F24*Oljepris!D24*0.5*0.45 -> 2142497.9 | K24: =I24+J24 -> 49018213 | L24: =SUM(I19:I21)+SUM(J22:J24) -> 1.4332575e+08 | M24: =SUM(H19:H21) -> 15788327 | N24: =L24+M24 -> 1.5911408e+08
A25: 43374 | C25: =Kurdistan!Q26 -> 139169.7 | D25: =Oman!G26 -> 6316.4012 | E25: =Oljepris!B25-12 -> 43 | F25: =Oljepris!B25-5 -> 50 | H25: =C25*E25*Oljepris!D25*0.03 -> 5565396.2 | I25: =(C25*E25*Oljepris!D25*0.71*0.31-H25)*1.3666 -> 48194598 | J25: =D25*F25*Oljepris!D25*0.5*0.45 -> 2202844.9 | K25: =I25+J25 -> 50397443 | N25: =L25+M25 -> 0
A26: 43405 | C26: =Kurdistan!Q27 -> 138477.06 | D26: =Oman!G27 -> 6284.8192 | E26: =Oljepris!B26-12 -> 43 | F26: =Oljepris!B26-5 -> 50 | H26: =C26*E26*Oljepris!D26*0.03 -> 5359062.1 | I26: =(C26*E26*Oljepris!D26*0.71*0.31-H26)*1.3666 -> 46407809 | J26: =D26*F26*Oljepris!D26*0.5*0.45 -> 2121126.5 | K26: =I26+J26 -> 48528936 | N26: =L26+M26 -> 0
A27: 43435 | C27: =Kurdistan!Q28 -> 145795.16 | D27: =Oman!G28 -> 6253.3951 | E27: =Oljepris!B27-12 -> 43 | F27: =Oljepris!B27-5 -> 50 | H27: =C27*E27*Oljepris!D27*0.03 -> 5830348.4 | I27: =(C27*E27*Oljepris!D27*0.71*0.31-H27)*1.3666 -> 50489002 | J27: =D27*F27*Oljepris!D27*0.5*0.45 -> 2180871.5 | K27: =I27+J27 -> 52669873 | L27: =SUM(I22:I24)+SUM(J25:J27) -> 1.4924372e+08 | M27: =SUM(H22:H24) -> 16483142 | N27: =L27+M27 -> 1.6572686e+08
A28: 43466 | C28: =Kurdistan!Q29 -> 145013.83 | D28: =Oman!G29 -> 6222.1281 | E28: =Oljepris!B28-12 -> 48 | F28: =Oljepris!B28-5 -> 55 | H28: =C28*E28*Oljepris!D28*0.03 -> 6473417.5 | I28: =(C28*E28*Oljepris!D28*0.71*0.31-H28)*1.3666 -> 56057780 | J28: =D28*F28*Oljepris!D28*0.5*0.45 -> 2386963.9 | K28: =I28+J28 -> 58444744 | N28: =L28+M28 -> 0
A29: 43497 | C29: =Kurdistan!Q30 -> 144244.49 | D29: =Oman!G30 -> 6191.0175 | E29: =Oljepris!B29-12 -> 48 | F29: =Oljepris!B29-5 -> 55 | H29: =C29*E29*Oljepris!D29*0.03 -> 5815938 | I29: =(C29*E29*Oljepris!D29*0.71*0.31-H29)*1.3666 -> 50364212 | J29: =D29*F29*Oljepris!D29*0.5*0.45 -> 2145187.6 | K29: =I29+J29 -> 52509400 | N29: =L29+M29 -> 0
A30: 43525 | C30: =Kurdistan!Q31 -> 143486.96 | D30: =Oman!G31 -> 6160.0624 | E30: =Oljepris!B30-12 -> 48 | F30: =Oljepris!B30-5 -> 55 | H30: =C30*E30*Oljepris!D30*0.03 -> 6405257.7 | I30: =(C30*E30*Oljepris!D30*0.71*0.31-H30)*1.3666 -> 55467537 | J30: =D30*F30*Oljepris!D30*0.5*0.45 -> 2363153.9 | K30: =I30+J30 -> 57830691 | L30: =SUM(I25:I27)+SUM(J28:J30) -> 1.5198671e+08 | M30: =SUM(H25:H27) -> 16754807 | N30: =L30+M30 -> 1.6874152e+08
A31: 43556 | C31: =Kurdistan!Q32 -> 147741.03 | D31: =Oman!G32 -> 6129.2621 | E31: =Oljepris!B31-12 -> 48 | F31: =Oljepris!B31-5 -> 55 | H31: =C31*E31*Oljepris!D31*0.03 -> 6382412.7 | I31: =(C31*E31*Oljepris!D31*0.71*0.31-H31)*1.3666 -> 55269707 | J31: =D31*F31*Oljepris!D31*0.5*0.45 -> 2275488.6 | K31: =I31+J31 -> 57545195 | N31: =L31+M31 -> 0
A32: 43586 | C32: =Kurdistan!Q33 -> 149926.55 | D32: =Oman!G33 -> 6098.6158 | E32: =Oljepris!B32-12 -> 48 | F32: =Oljepris!B32-5 -> 55 | H32: =C32*E32*Oljepris!D32*0.03 -> 6692721.2 | I32: =(C32*E32*Oljepris!D32*0.71*0.31-H32)*1.3666 -> 57956882 | J32: =D32*F32*Oljepris!D32*0.5*0.45 -> 2339581.5 | K32: =I32+J32 -> 60296463 | N32: =L32+M32 -> 0
A33: 43617 | C33: =Kurdistan!Q34 -> 149094.6 | D33: =Oman!G34 -> 6068.1227 | E33: =Oljepris!B33-12 -> 48 | F33: =Oljepris!B33-5 -> 55 | H33: =C33*E33*Oljepris!D33*0.03 -> 6440886.8 | I33: =(C33*E33*Oljepris!D33*0.71*0.31-H33)*1.3666 -> 55776075 | J33: =D33*F33*Oljepris!D33*0.5*0.45 -> 2252790.6 | K33: =I33+J33 -> 58028865 | L33: =SUM(I28:I30)+SUM(J31:J33) -> 1.6875739e+08 | M33: =SUM(H28:H30) -> 18694613 | N33: =L33+M33 -> 1.87452e+08
A34: 43647 | C34: =Kurdistan!Q35 -> 148275.3 | D34: =Oman!G35 -> 6037.7821 | E34: =Oljepris!B34-12 -> 48 | F34: =Oljepris!B34-5 -> 55 | H34: =C34*E34*Oljepris!D34*0.03 -> 6619009.3 | I34: =(C34*E34*Oljepris!D34*0.71*0.31-H34)*1.3666 -> 57318560 | J34: =D34*F34*Oljepris!D34*0.5*0.45 -> 2316244.2 | K34: =I34+J34 -> 59634804 | N34: =L34+M34 -> 0
A35: 43678 | C35: =Kurdistan!Q36 -> 152468.44 | D35: =Oman!G36 -> 6007.5932 | E35: =Oljepris!B35-12 -> 48 | F35: =Oljepris!B35-5 -> 55 | H35: =C35*E35*Oljepris!D35*0.03 -> 6806191.1 | I35: =(C35*E35*Oljepris!D35*0.71*0.31-H35)*1.3666 -> 58939496 | J35: =D35*F35*Oljepris!D35*0.5*0.45 -> 2304662.9 | K35: =I35+J35 -> 61244159 | N35: =L35+M35 -> 0
A36: 43709 | C36: =Kurdistan!Q37 -> 151593.84 | D36: =Oman!G37 -> 5977.5552 | E36: =Oljepris!B36-12 -> 48 | F36: =Oljepris!B36-5 -> 55 | H36: =C36*E36*Oljepris!D36*0.03 -> 6548853.7 | I36: =(C36*E36*Oljepris!D36*0.71*0.31-H36)*1.3666 -> 56711034 | J36: =D36*F36*Oljepris!D36*0.5*0.45 -> 2219167.4 | K36: =I36+J36 -> 58930202 | L36: =SUM(I31:I33)+SUM(J34:J36) -> 1.7584274e+08 | M36: =SUM(H31:H33) -> 19516021 | N36: =L36+M36 -> 1.9535876e+08
A37: 43739 | C37: =Kurdistan!Q38 -> 153732.58 | D37: =Oman!G38 -> 5947.6674 | E37: =Oljepris!B37-12 -> 48 | F37: =Oljepris!B37-5 -> 55 | H37: =C37*E37*Oljepris!D37*0.03 -> 6862622.2 | I37: =(C37*E37*Oljepris!D37*0.71*0.31-H37)*1.3666 -> 59428172 | J37: =D37*F37*Oljepris!D37*0.5*0.45 -> 2281673.9 | K37: =I37+J37 -> 61709846 | N37: =L37+M37 -> 0
A38: 43770 | C38: =Kurdistan!Q39 -> 152854.46 | D38: =Oman!G39 -> 5917.9291 | E38: =Oljepris!B38-12 -> 48 | F38: =Oljepris!B38-5 -> 55 | H38: =C38*E38*Oljepris!D38*0.03 -> 6603312.5 | I38: =(C38*E38*Oljepris!D38*0.71*0.31-H38)*1.3666 -> 57182630 | J38: =D38*F38*Oljepris!D38*0.5*0.45 -> 2197031.2 | K38: =I38+J38 -> 59379662 | N38: =L38+M38 -> 0
A39: 43800 | C39: =Kurdistan!Q40 -> 156989.57 | D39: =Oman!G40 -> 5888.3395 | E39: =Oljepris!B39-12 -> 48 | F39: =Oljepris!B39-5 -> 55 | H39: =C39*E39*Oljepris!D39*0.03 -> 7008014.3 | I39: =(C39*E39*Oljepris!D39*0.71*0.31-H39)*1.3666 -> 60687222 | J39: =D39*F39*Oljepris!D39*0.5*0.45 -> 2258914.2 | K39: =I39+J39 -> 62946137 | L39: =SUM(I34:I36)+SUM(J37:J39) -> 1.7970671e+08 | M39: =SUM(H34:H36) -> 19974054 | N39: =L39+M39 -> 1.9968076e+08
A40: 43831 | C40: =Kurdistan!Q41 -> 156057.71 | D40: =Oman!G41 -> 5858.8978 | E40: =Oljepris!B40-12 -> 53 | F40: =Oljepris!B40-5 -> 60 | H40: =C40*E40*Oljepris!D40*0.03 -> 7692084.6 | I40: =(C40*E40*Oljepris!D40*0.71*0.31-H40)*1.3666 -> 66611058 | J40: =D40*F40*Oljepris!D40*0.5*0.45 -> 2451948.7 | K40: =I40+J40 -> 69063007 | N40: =L40+M40 -> 0
A41: 43862 | C41: =Kurdistan!Q42 -> 155139.96 | D41: =Oman!G42 -> 5829.6033 | E41: =Oljepris!B41-12 -> 53 | F41: =Oljepris!B41-5 -> 60 | H41: =C41*E41*Oljepris!D41*0.03 -> 6906831.2 | I41: =(C41*E41*Oljepris!D41*0.71*0.31-H41)*1.3666 -> 59811008 | J41: =D41*F41*Oljepris!D41*0.5*0.45 -> 2203590 | K41: =I41+J41 -> 62014598 | N41: =L41+M41 -> 0
...

Sheet Oljepris
A1: Oljepris | D1: Days in month
A2: https://www.eia.gov/dnav/pet/hist/LeafHandler.ashx?n=PET&s=RBRTE&f=M
A4: 42736 | B4: 54.58 | D4: 31 | F4: Estimat 2017 | H4: 52 | J4: Gj. Snitt 2017: | L4: =SUM(B4:B15)/12 -> 51.540833
A5: 42767 | B5: 54.87 | D5: 28 | F5: Estimat 2018 | H5: 55 | J5: Gj. Snitt 2018: | L5: =SUM(B16:B27)/12 -> 55
A6: 42795 | B6: 51.9 | D6: 31 | F6: Estimat 2019 | H6: 60 | J6: Gj. Snitt 2019: | L6: =SUM(B28:B39)/12 -> 60
A7: 42826 | B7: 52.31 | D7: 30 | F7: Estimat 2020 | H7: 65 | J7: Gj. Snitt 2020: | L7: =SUM(B40:B51)/12 -> 65
A8: 42856 | B8: 50.33 | D8: 31
A9: 42887 | B9: 46.37 | D9: 30
A10: 42917 | B10: 48.48 | D10: 31
A11: 42948 | B11: 51.65 | D11: 31
A12: 42979 | B12: =H4 -> 52 | D12: 30
A13: 43009 | B13: =H4 -> 52 | D13: 31
A14: 43040 | B14: =H4 -> 52 | D14: 30
A15: 43070 | B15: =H4 -> 52 | D15: 31
A16: 43101 | B16: =H5 -> 55 | D16: 31
A17: 43132 | B17: =H5 -> 55 | D17: 28
A18: 43160 | B18: =H5 -> 55 | D18: 31
A19: 43191 | B19: =H5 -> 55 | D19: 30
A20: 43221 | B20: =H5 -> 55 | D20: 31
A21: 43252 | B21: =H5 -> 55 | D21: 30
A22: 43282 | B22: =H5 -> 55 | D22: 31
A23: 43313 | B23: =H5 -> 55 | D23: 31
A24: 43344 | B24: =H5 -> 55 | D24: 30
A25: 43374 | B25: =H5 -> 55 | D25: 31
A26: 43405 | B26: =H5 -> 55 | D26: 30
A27: 43435 | B27: =H5 -> 55 | D27: 31
A28: 43466 | B28: =$H$6 -> 60 | D28: 31
A29: 43497 | B29: =$H$6 -> 60 | D29: 28
A30: 43525 | B30: =$H$6 -> 60 | D30: 31
A31: 43556 | B31: =$H$6 -> 60 | D31: 30
A32: 43586 | B32: =$H$6 -> 60 | D32: 31
A33: 43617 | B33: =$H$6 -> 60 | D33: 30
A34: 43647 | B34: =$H$6 -> 60 | D34: 31
A35: 43678 | B35: =$H$6 -> 60 | D35: 31
A36: 43709 | B36: =$H$6 -> 60 | D36: 30
A37: 43739 | B37: =$H$6 -> 60 | D37: 31
A38: 43770 | B38: =$H$6 -> 60 | D38: 30
A39: 43800 | B39: =$H$6 -> 60 | D39: 31
A40: 43831 | B40: =$H$7 -> 65 | D40: 31
A41: 43862 | B41: =$H$7 -> 65 | D41: 28
...

Sheet Kurdistan
A1: Tawke | B1: Decline faktor: | C1: 0.016 | D1: Info | E1: Cretaceous | F1: Jeribe | I1: Erbil | J1: Decline faktor: | K1: 0.01 | L1: Info | M1: Reservoir 1 | N1: Reservoir 2
E2: 5000 | F2: 1500 | M2: 3000 | N2: 3000
A3: Måned | B3: Forrige måned | C3: Ny inc. decline | D3: Ny produksjon | G3: Estimat | H3: Reell | J3: Forrige måned | K3: Decline | L3: Ny produksjon | O3: Estimat | P3: Reell | Q3: Sum
A5: 42736 | B5: 109546 | C5: =B5-(B5*$C$1) -> 107793.26 | D5: Ingen | E5: 0 | F5: 0 | G5: =C5+(E5*$E$2)+(F5*$F$2) -> 107793.26 | H5: 112537 | J5: 0 | K5: =J5-(J5*$K$1) -> 0 | O5: =K5+(M5*$M$2)+(N5*$N$2) -> 0 | P5: 0 | Q5: =IF(H5=0,G5+O5,H5+P5) -> 112537
A6: 42767 | B6: =IF(H5=0,G5,H5) -> 112537 | C6: =B6-(B6*$C$1) -> 110736.41 | D6: Ingen | E6: 0 | F6: 0 | G6: =C6+(E6*$E$2)+(F6*$F$2) -> 110736.41 | H6: 110641 | J6: =IF(P5=0,O5,P5) -> 0 | K6: =J6-(J6*$K$1) -> 0 | O6: =K6+(M6*$M$2)+(N6*$N$2) -> 0 | Q6: =IF(H6=0,G6+O6,H6+P6) -> 110641
A7: 42795 | B7: =IF(H6=0,G6,H6) -> 110641 | C7: =B7-(B7*$C$1) -> 108870.74 | D7: Ingen | E7: 0 | F7: 0 | G7: =C7+(E7*$E$2)+(F7*$F$2) -> 108870.74 | H7: 108513 | J7: =IF(P6=0,O6,P6) -> 0 | K7: =J7-(J7*$K$1) -> 0 | O7: =K7+(M7*$M$2)+(N7*$N$2) -> 0 | Q7: =IF(H7=0,G7+O7,H7+P7) -> 108513
A8: 42826 | B8: =IF(H7=0,G7,H7) -> 108513 | C8: =B8-(B8*$C$1) -> 106776.79 | D8: Ingen | E8: 0 | F8: 0 | G8: =C8+(E8*$E$2)+(F8*$F$2) -> 106776.79 | H8: 108519 | J8: =IF(P7=0,O7,P7) -> 0 | K8: =J8-(J8*$K$1) -> 0 | O8: =K8+(M8*$M$2)+(N8*$N$2) -> 0 | Q8: =IF(H8=0,G8+O8,H8+P8) -> 108519
A9: 42856 | B9: =IF(H8=0,G8,H8) -> 108519 | C9: =B9-(B9*$C$1) -> 106782.7 | D9: Tawke 35 | E9: 1 | F9: 0 | G9: =C9+(E9*$E$2)+(F9*$F$2) -> 111782.7 | H9: =IF(Estimat!G8=0,0,Estimat!G8/0.05/Oljepris!D8/(Oljepris!B8-12)) -> 107554.93 | J9: =IF(P8=0,O8,P8) -> 0 | K9: =J9-(J9*$K$1) -> 0 | O9: =K9+(M9*$M$2)+(N9*$N$2) -> 0 | Q9: =IF(H9=0,G9+O9,H9+P9) -> 107554.93
A10: 42887 | B10: =IF(H9=0,G9,H9) -> 107554.93 | C10: =B10-(B10*$C$1) -> 105834.06 | D10: Tawke 38, Tawke 39 | E10: 0 | F10: 2 | G10: =C10+(E10*$E$2)+(F10*$F$2) -> 108834.06 | H10: =IF(Estimat!G9=0,0,Estimat!G9/0.05/Oljepris!D9/(Oljepris!B9-12)) -> 0 | J10: =IF(P9=0,O9,P9) -> 0 | K10: =J10-(J10*$K$1) -> 0 | O10: =K10+(M10*$M$2)+(N10*$N$2) -> 0 | Q10: =IF(H10=0,G10+O10,H10+P10) -> 108834.06
A11: 42917 | B11: =IF(H10=0,G10,H10) -> 108834.06 | C11: =B11-(B11*$C$1) -> 107092.71 | D11: Tawke 42 | E11: 1 | F11: 0 | G11: =C11+(E11*$E$2)+(F11*$F$2) -> 112092.71 | H11: =IF(Estimat!G10=0,0,Estimat!G10/0.05/Oljepris!D10/(Oljepris!B10-12)) -> 0 | J11: =IF(P10=0,O10,P10) -> 0 | K11: =J11-(J11*$K$1) -> 0 | O11: =K11+(M11*$M$2)+(N11*$N$2) -> 0 | Q11: =IF(H11=0,G11+O11,H11+P11) -> 112092.71
A12: 42948 | B12: =IF(H11=0,G11,H11) -> 112092.71 | C12: =B12-(B12*$C$1) -> 110299.23 | D12: Tawke 41 | E12: 1 | F12: 0 | G12: =C12+(E12*$E$2)+(F12*$F$2) -> 115299.23 | H12: =IF(Estimat!G11=0,0,Estimat!G11/0.03/Oljepris!D11/(Oljepris!B11-12)) -> 0 | J12: =IF(P11=0,O11,P11) -> 0 | K12: =J12-(J12*$K$1) -> 0 | O12: =K12+(M12*$M$2)+(N12*$N$2) -> 0 | Q12: =IF(H12=0,G12+O12,H12+P12) -> 115299.23
A13: 42979 | B13: =IF(H12=0,G12,H12) -> 115299.23 | C13: =B13-(B13*$C$1) -> 113454.44 | D13: Ingen | E13: 0 | F13: 0 | G13: =C13+(E13*$E$2)+(F13*$F$2) -> 113454.44 | H13: =IF(Estimat!G12=0,0,Estimat!G12/0.03/Oljepris!D12/(Oljepris!B12-12)) -> 0 | J13: =IF(P12=0,O12,P12) -> 0 | K13: =J13-(J13*$K$1) -> 0 | O13: =K13+(M13*$M$2)+(N13*$N$2) -> 0 | Q13: =IF(H13=0,G13+O13,H13+P13) -> 113454.44
A14: 43009 | B14: =IF(H13=0,G13,H13) -> 113454.44 | C14: =B14-(B14*$C$1) -> 111639.17 | D14: Tawke 43, 45 | E14: 1 | F14: 1 | G14: =C14+(E14*$E$2)+(F14*$F$2) -> 118139.17 | H14: =IF(Estimat!G13=0,0,Estimat!G13/0.03/Oljepris!D13/(Oljepris!B13-12)) -> 0 | J14: =IF(P13=0,O13,P13) -> 0 | K14: =J14-(J14*$K$1) -> 0 | O14: =K14+(M14*$M$2)+(N14*$N$2) -> 0 | Q14: =IF(H14=0,G14+O14,H14+P14) -> 118139.17
A15: 43040 | B15: =IF(H14=0,G14,H14) -> 118139.17 | C15: =B15-(B15*$C$1) -> 116248.94 | D15: Tawke 46, Pesh 3 | E15: 1 | F15: 1 | G15: =C15+(E15*$E$2)+(F15*$F$2) -> 122748.94 | H15: =IF(Estimat!G14=0,0,Estimat!G14/0.03/Oljepris!D14/(Oljepris!B14-12)) -> 0 | J15: =IF(P14=0,O14,P14) -> 0 | K15: =J15-(J15*$K$1) -> 0 | O15: =K15+(M15*$M$2)+(N15*$N$2) -> 0 | Q15: =IF(H15=0,G15+O15,H15+P15) -> 122748.94
A16: 43070 | B16: =IF(H15=0,G15,H15) -> 122748.94 | C16: =B16-(B16*$C$1) -> 120784.96 | D16: Tawke 44 | E16: 1 | F16: 0 | G16: =C16+(E16*$E$2)+(F16*$F$2) -> 125784.96 | H16: =IF(Estimat!G15=0,0,Estimat!G15/0.03/Oljepris!D15/(Oljepris!B15-12)) -> 0 | J16: =IF(P15=0,O15,P15) -> 0 | K16: =J16-(J16*$K$1) -> 0 | O16: =K16+(M16*$M$2)+(N16*$N$2) -> 0 | Q16: =IF(H16=0,G16+O16,H16+P16) -> 125784.96
A17: 43101 | B17: =IF(H16=0,G16,H16) -> 125784.96 | C17: =B17-(B17*$C$1) -> 123772.4 | D17: Ingen | E17: 0 | F17: 0 | G17: =C17+(E17*$E$2)+(F17*$F$2) -> 123772.4 | H17: =IF(Estimat!G16=0,0,Estimat!G16/0.03/Oljepris!D16/(Oljepris!B16-12)) -> 0 | J17: =IF(P16=0,O16,P16) -> 0 | K17: =J17-(J17*$K$1) -> 0 | O17: =K17+(M17*$M$2)+(N17*$N$2) -> 0 | Q17: =IF(H17=0,G17+O17,H17+P17) -> 123772.4
A18: 43132 | B18: =IF(H17=0,G17,H17) -> 123772.4 | C18: =B18-(B18*$C$1) -> 121792.04 | D18: Tawke 48, Tawke xx | E18: 1 | F18: 1 | G18: =C18+(E18*$E$2)+(F18*$F$2) -> 128292.04 | H18: =IF(Estimat!G17=0,0,Estimat!G17/0.03/Oljepris!D17/(Oljepris!B17-12)) -> 0 | J18: =IF(P17=0,O17,P17) -> 0 | K18: =J18-(J18*$K$1) -> 0 | L18: Hawler 1A | M18: 1 | O18: =K18+(M18*$M$2)+(N18*$N$2) -> 3000 | Q18: =IF(H18=0,G18+O18,H18+P18) -> 131292.04
A19: 43160 | B19: =IF(H18=0,G18,H18) -> 128292.04 | C19: =B19-(B19*$C$1) -> 126239.37 | D19: Tawke xx | F19: 1 | G19: =C19+(E19*$E$2)+(F19*$F$2) -> 127739.37 | H19: =IF(Estimat!G18=0,0,Estimat!G18/0.03/Oljepris!D18/(Oljepris!B18-12)) -> 0 | J19: =IF(P18=0,O18,P18) -> 3000 | K19: =J19-(J19*$K$1) -> 2970 | O19: =K19+(M19*$M$2)+(N19*$N$2) -> 2970 | Q19: =IF(H19=0,G19+O19,H19+P19) -> 130709.37
A20: 43191 | B20: =IF(H19=0,G19,H19) -> 127739.37 | C20: =B20-(B20*$C$1) -> 125695.54 | D20: Tawke xx, Pesh 4 | E20: 1 | F20: 1 | G20: =C20+(E20*$E$2)+(F20*$F$2) -> 132195.54 | H20: =IF(Estimat!G19=0,0,Estimat!G19/0.03/Oljepris!D19/(Oljepris!B19-12)) -> 0 | J20: =IF(P19=0,O19,P19) -> 2970 | K20: =J20-(J20*$K$1) -> 2940.3 | O20: =K20+(M20*$M$2)+(N20*$N$2) -> 2940.3 | Q20: =IF(H20=0,G20+O20,H20+P20) -> 135135.84
A21: 43221 | B21: =IF(H20=0,G20,H20) -> 132195.54 | C21: =B21-(B21*$C$1) -> 130080.41 | D21: Tawke xx | F21: 1 | G21: =C21+(E21*$E$2)+(F21*$F$2) -> 131580.41 | H21: =IF(Estimat!G20=0,0,Estimat!G20/0.03/Oljepris!D20/(Oljepris!B20-12)) -> 0 | J21: =IF(P20=0,O20,P20) -> 2940.3 | K21: =J21-(J21*$K$1) -> 2910.897 | O21: =K21+(M21*$M$2)+(N21*$N$2) -> 2910.897 | Q21: =IF(H21=0,G21+O21,H21+P21) -> 134491.31
A22: 43252 | B22: =IF(H21=0,G21,H21) -> 131580.41 | C22: =B22-(B22*$C$1) -> 129475.12 | D22: Tawke xx | F22: 1 | G22: =C22+(E22*$E$2)+(F22*$F$2) -> 130975.12 | H22: =IF(Estimat!G21=0,0,Estimat!G21/0.03/Oljepris!D21/(Oljepris!B21-12)) -> 0 | J22: =IF(P21=0,O21,P21) -> 2910.897 | K22: =J22-(J22*$K$1) -> 2881.788 | O22: =K22+(M22*$M$2)+(N22*$N$2) -> 2881.788 | Q22: =IF(H22=0,G22+O22,H22+P22) -> 133856.91
A23: 43282 | B23: =IF(H22=0,G22,H22) -> 130975.12 | C23: =B23-(B23*$C$1) -> 128879.52 | D23: Tawke xx | F23: 1 | G23: =C23+(E23*$E$2)+(F23*$F$2) -> 130379.52 | H23: =IF(Estimat!G22=0,0,Estimat!G22/0.03/Oljepris!D22/(Oljepris!B22-12)) -> 0 | J23: =IF(P22=0,O22,P22) -> 2881.788 | K23: =J23-(J23*$K$1) -> 2852.9701 | L23: Hawler XX | M23: 1 | O23: =K23+(M23*$M$2)+(N23*$N$2) -> 5852.9701 | Q23: =IF(H23=0,G23+O23,H23+P23) -> 136232.49
A24: 43313 | B24: =IF(H23=0,G23,H23) -> 130379.52 | C24: =B24-(B24*$C$1) -> 128293.45 | D24: Tawke xx, Pesh 5 | E24: 1 | F24: 1 | G24: =C24+(E24*$E$2)+(F24*$F$2) -> 134793.45 | H24: =IF(Estimat!G23=0,0,Estimat!G23/0.03/Oljepris!D23/(Oljepris!B23-12)) -> 0 | J24: =IF(P23=0,O23,P23) -> 5852.9701 | K24: =J24-(J24*$K$1) -> 5794.4404 | O24: =K24+(M24*$M$2)+(N24*$N$2) -> 5794.4404 | Q24: =IF(H24=0,G24+O24,H24+P24) -> 140587.89
A25: 43344 | B25: =IF(H24=0,G24,H24) -> 134793.45 | C25: =B25-(B25*$C$1) -> 132636.75 | D25: Tawke xx | F25: 1 | G25: =C25+(E25*$E$2)+(F25*$F$2) -> 134136.75 | H25: =IF(Estimat!G24=0,0,Estimat!G24/0.03/Oljepris!D24/(Oljepris!B24-12)) -> 0 | J25: =IF(P24=0,O24,P24) -> 5794.4404 | K25: =J25-(J25*$K$1) -> 5736.496 | O25: =K25+(M25*$M$2)+(N25*$N$2) -> 5736.496 | Q25: =IF(H25=0,G25+O25,H25+P25) -> 139873.25
A26: 43374 | B26: =IF(H25=0,G25,H25) -> 134136.75 | C26: =B26-(B26*$C$1) -> 131990.57 | D26: Tawke xx | F26: 1 | G26: =C26+(E26*$E$2)+(F26*$F$2) -> 133490.57 | H26: =IF(Estimat!G25=0,0,Estimat!G25/0.03/Oljepris!D25/(Oljepris!B25-12)) -> 0 | J26: =IF(P25=0,O25,P25) -> 5736.496 | K26: =J26-(J26*$K$1) -> 5679.1311 | O26: =K26+(M26*$M$2)+(N26*$N$2) -> 5679.1311 | Q26: =IF(H26=0,G26+O26,H26+P26) -> 139169.7
A27: 43405 | B27: =IF(H26=0,G26,H26) -> 133490.57 | C27: =B27-(B27*$C$1) -> 131354.72 | D27: Tawke xx | F27: 1 | G27: =C27+(E27*$E$2)+(F27*$F$2) -> 132854.72 | H27: =IF(Estimat!G26=0,0,Estimat!G26/0.03/Oljepris!D26/(Oljepris!B26-12)) -> 0 | J27: =IF(P26=0,O26,P26) -> 5679.1311 | K27: =J27-(J27*$K$1) -> 5622.3398 | O27: =K27+(M27*$M$2)+(N27*$N$2) -> 5622.3398 | Q27: =IF(H27=0,G27+O27,H27+P27) -> 138477.06
A28: 43435 | B28: =IF(H27=0,G27,H27) -> 132854.72 | C28: =B28-(B28*$C$1) -> 130729.04 | D28: Tawke xx, Pesh 6 | E28: 1 | F28: 1 | G28: =C28+(E28*$E$2)+(F28*$F$2) -> 137229.04 | H28: =IF(Estimat!G27=0,0,Estimat!G27/0.03/Oljepris!D27/(Oljepris!B27-12)) -> 0 | J28: =IF(P27=0,O27,P27) -> 5622.3398 | K28: =J28-(J28*$K$1) -> 5566.1164 | L28: Hawler XX | M28: 1 | O28: =K28+(M28*$M$2)+(N28*$N$2) -> 8566.1164 | Q28: =IF(H28=0,G28+O28,H28+P28) -> 145795.16
A29: 43466 | B29: =IF(H28=0,G28,H28) -> 137229.04 | C29: =B29-(B29*$C$1) -> 135033.38 | D29: Tawke xx | F29: 1 | G29: =C29+(E29*$E$2)+(F29*$F$2) -> 136533.38 | H29: =IF(Estimat!G28=0,0,Estimat!G28/0.03/Oljepris!D28/(Oljepris!B28-12)) -> 0 | J29: =IF(P28=0,O28,P28) -> 8566.1164 | K29: =J29-(J29*$K$1) -> 8480.4552 | O29: =K29+(M29*$M$2)+(N29*$N$2) -> 8480.4552 | Q29: =IF(H29=0,G29+O29,H29+P29) -> 145013.83
A30: 43497 | B30: =IF(H29=0,G29,H29) -> 136533.38 | C30: =B30-(B30*$C$1) -> 134348.84 | D30: Tawke xx | F30: 1 | G30: =C30+(E30*$E$2)+(F30*$F$2) -> 135848.84 | H30: =IF(Estimat!G29=0,0,Estimat!G29/0.03/Oljepris!D29/(Oljepris!B29-12)) -> 0 | J30: =IF(P29=0,O29,P29) -> 8480.4552 | K30: =J30-(J30*$K$1) -> 8395.6507 | O30: =K30+(M30*$M$2)+(N30*$N$2) -> 8395.6507 | Q30: =IF(H30=0,G30+O30,H30+P30) -> 144244.49
A31: 43525 | B31: =IF(H30=0,G30,H30) -> 135848.84 | C31: =B31-(B31*$C$1) -> 133675.26 | D31: Tawke xx | F31: 1 | G31: =C31+(E31*$E$2)+(F31*$F$2) -> 135175.26 | H31: =IF(Estimat!G30=0,0,Estimat!G30/0.03/Oljepris!D30/(Oljepris!B30-12)) -> 0 | J31: =IF(P30=0,O30,P30) -> 8395.6507 | K31: =J31-(J31*$K$1) -> 8311.6942 | O31: =K31+(M31*$M$2)+(N31*$N$2) -> 8311.6942 | Q31: =IF(H31=0,G31+O31,H31+P31) -> 143486.96
A32: 43556 | B32: =IF(H31=0,G31,H31) -> 135175.26 | C32: =B32-(B32*$C$1) -> 133012.46 | D32: Tawke xx, Pesh 7 | E32: 1 | F32: 1 | G32: =C32+(E32*$E$2)+(F32*$F$2) -> 139512.46 | H32: =IF(Estimat!G31=0,0,Estimat!G31/0.03/Oljepris!D31/(Oljepris!B31-12)) -> 0 | J32: =IF(P31=0,O31,P31) -> 8311.6942 | K32: =J32-(J32*$K$1) -> 8228.5772 | O32: =K32+(M32*$M$2)+(N32*$N$2) -> 8228.5772 | Q32: =IF(H32=0,G32+O32,H32+P32) -> 147741.03
A33: 43586 | B33: =IF(H32=0,G32,H32) -> 139512.46 | C33: =B33-(B33*$C$1) -> 137280.26 | D33: Tawke xx | F33: 1 | G33: =C33+(E33*$E$2)+(F33*$F$2) -> 138780.26 | H33: =IF(Estimat!G32=0,0,Estimat!G32/0.03/Oljepris!D32/(Oljepris!B32-12)) -> 0 | J33: =IF(P32=0,O32,P32) -> 8228.5772 | K33: =J33-(J33*$K$1) -> 8146.2914 | L33: Hawler XX | M33: 1 | O33: =K33+(M33*$M$2)+(N33*$N$2) -> 11146.291 | Q33: =IF(H33=0,G33+O33,H33+P33) -> 149926.55
A34: 43617 | B34: =IF(H33=0,G33,H33) -> 138780.26 | C34: =B34-(B34*$C$1) -> 136559.77 | D34: Tawke xx | F34: 1 | G34: =C34+(E34*$E$2)+(F34*$F$2) -> 138059.77 | H34: =IF(Estimat!G33=0,0,Estimat!G33/0.03/Oljepris!D33/(Oljepris!B33-12)) -> 0 | J34: =IF(P33=0,O33,P33) -> 11146.291 | K34: =J34-(J34*$K$1) -> 11034.829 | O34: =K34+(M34*$M$2)+(N34*$N$2) -> 11034.829 | Q34: =IF(H34=0,G34+O34,H34+P34) -> 149094.6
A35: 43647 | B35: =IF(H34=0,G34,H34) -> 138059.77 | C35: =B35-(B35*$C$1) -> 135850.82 | D35: Tawke xx | F35: 1 | G35: =C35+(E35*$E$2)+(F35*$F$2) -> 137350.82 | H35: =IF(Estimat!G34=0,0,Estimat!G34/0.03/Oljepris!D34/(Oljepris!B34-12)) -> 0 | J35: =IF(P34=0,O34,P34) -> 11034.829 | K35: =J35-(J35*$K$1) -> 10924.48 | O35: =K35+(M35*$M$2)+(N35*$N$2) -> 10924.48 | Q35: =IF(H35=0,G35+O35,H35+P35) -> 148275.3
A36: 43678 | B36: =IF(H35=0,G35,H35) -> 137350.82 | C36: =B36-(B36*$C$1) -> 135153.2 | D36: Tawke xx, Pesh 8 | E36: 1 | F36: 1 | G36: =C36+(E36*$E$2)+(F36*$F$2) -> 141653.2 | H36: =IF(Estimat!G35=0,0,Estimat!G35/0.03/Oljepris!D35/(Oljepris!B35-12)) -> 0 | J36: =IF(P35=0,O35,P35) -> 10924.48 | K36: =J36-(J36*$K$1) -> 10815.235 | O36: =K36+(M36*$M$2)+(N36*$N$2) -> 10815.235 | Q36: =IF(H36=0,G36+O36,H36+P36) -> 152468.44
A37: 43709 | B37: =IF(H36=0,G36,H36) -> 141653.2 | C37: =B37-(B37*$C$1) -> 139386.75 | D37: Tawke xx | F37: 1 | G37: =C37+(E37*$E$2)+(F37*$F$2) -> 140886.75 | H37: =IF(Estimat!G36=0,0,Estimat!G36/0.03/Oljepris!D36/(Oljepris!B36-12)) -> 0 | J37: =IF(P36=0,O36,P36) -> 10815.235 | K37: =J37-(J37*$K$1) -> 10707.083 | O37: =K37+(M37*$M$2)+(N37*$N$2) -> 10707.083 | Q37: =IF(H37=0,G37+O37,H37+P37) -> 151593.84
A38: 43739 | B38: =IF(H37=0,G37,H37) -> 140886.75 | C38: =B38-(B38*$C$1) -> 138632.56 | D38: Tawke xx | F38: 1 | G38: =C38+(E38*$E$2)+(F38*$F$2) -> 140132.56 | H38: =IF(Estimat!G37=0,0,Estimat!G37/0.03/Oljepris!D37/(Oljepris!B37-12)) -> 0 | J38: =IF(P37=0,O37,P37) -> 10707.083 | K38: =J38-(J38*$K$1) -> 10600.012 | L38: Hawler XX | M38: 1 | O38: =K38+(M38*$M$2)+(N38*$N$2) -> 13600.012 | Q38: =IF(H38=0,G38+O38,H38+P38) -> 153732.58
A39: 43770 | B39: =IF(H38=0,G38,H38) -> 140132.56 | C39: =B39-(B39*$C$1) -> 137890.44 | D39: Tawke xx | F39: 1 | G39: =C39+(E39*$E$2)+(F39*$F$2) -> 139390.44 | H39: =IF(Estimat!G38=0,0,Estimat!G38/0.03/Oljepris!D38/(Oljepris!B38-12)) -> 0 | J39: =IF(P38=0,O38,P38) -> 13600.012 | K39: =J39-(J39*$K$1) -> 13464.012 | O39: =K39+(M39*$M$2)+(N39*$N$2) -> 13464.012 | Q39: =IF(H39=0,G39+O39,H39+P39) -> 152854.46
A40: 43800 | B40: =IF(H39=0,G39,H39) -> 139390.44 | C40: =B40-(B40*$C$1) -> 137160.2 | D40: Tawke xx, Pesh 9 | E40: 1 | F40: 1 | G40: =C40+(E40*$E$2)+(F40*$F$2) -> 143660.2 | H40: =IF(Estimat!G39=0,0,Estimat!G39/0.03/Oljepris!D39/(Oljepris!B39-12)) -> 0 | J40: =IF(P39=0,O39,P39) -> 13464.012 | K40: =J40-(J40*$K$1) -> 13329.372 | O40: =K40+(M40*$M$2)+(N40*$N$2) -> 13329.372 | Q40: =IF(H40=0,G40+O40,H40+P40) -> 156989.57
A41: 43831 | B41: =IF(H40=0,G40,H40) -> 143660.2 | C41: =B41-(B41*$C$1) -> 141361.63 | D41: Tawke xx | F41: 1 | G41: =C41+(E41*$E$2)+(F41*$F$2) -> 142861.63 | H41: =IF(Estimat!G40=0,0,Estimat!G40/0.03/Oljepris!D40/(Oljepris!B40-12)) -> 0 | J41: =IF(P40=0,O40,P40) -> 13329.372 | K41: =J41-(J41*$K$1) -> 13196.078 | O41: =K41+(M41*$M$2)+(N41*$N$2) -> 13196.078 | Q41: =IF(H41=0,G41+O41,H41+P41) -> 156057.71
...

Sheet Oman
A1: Oman | B1: Decline faktor: | C1: 0.005 | D1: Info | E1: Bukha | F1: West Bukha
E2: 2000 | F2: 3000
A3: Måned | B3: Forrige måned | C3: Ny inc. decline | D3: Ny produksjon | G3: Estimat | H3: Reell
A5: 42736 | B5: 4950 | C5: =B5-(B5*$C$1) -> 4925.25 | D5: Ingen | G5: =C5+(E5*$E$2)+(F5*$F$2) -> 4925.25
A6: 42767 | B6: =IF(H5=0,G5,H5) -> 4925.25 | C6: =B6-(B6*$C$1) -> 4900.6237 | D6: Ingen | G6: =C6+(E6*$E$2)+(F6*$F$2) -> 4900.6237
A7: 42795 | B7: =IF(H6=0,G6,H6) -> 4900.6237 | C7: =B7-(B7*$C$1) -> 4876.1206 | D7: Ingen | G7: =C7+(E7*$E$2)+(F7*$F$2) -> 4876.1206
A8: 42826 | B8: =IF(H7=0,G7,H7) -> 4876.1206 | C8: =B8-(B8*$C$1) -> 4851.74 | D8: Ingen | G8: =C8+(E8*$E$2)+(F8*$F$2) -> 4851.74
A9: 42856 | B9: =IF(H8=0,G8,H8) -> 4851.74 | C9: =B9-(B9*$C$1) -> 4827.4813 | D9: Ingen | G9: =C9+(E9*$E$2)+(F9*$F$2) -> 4827.4813
A10: 42887 | B10: =IF(H9=0,G9,H9) -> 4827.4813 | C10: =B10-(B10*$C$1) -> 4803.3439 | D10: WB 5-B | G10: =C10+(E10*$E$2)+(F10*$F$2) -> 4803.3439
A11: 42917 | B11: =IF(H10=0,G10,H10) -> 4803.3439 | C11: =B11-(B11*$C$1) -> 4779.3272 | D11: Ingen | G11: =C11+(E11*$E$2)+(F11*$F$2) -> 4779.3272
A12: 42948 | B12: =IF(H11=0,G11,H11) -> 4779.3272 | C12: =B12-(B12*$C$1) -> 4755.4306 | D12: Ingen | G12: =C12+(E12*$E$2)+(F12*$F$2) -> 4755.4306
A13: 42979 | B13: =IF(H12=0,G12,H12) -> 4755.4306 | C13: =B13-(B13*$C$1) -> 4731.6534 | D13: Ingen | G13: =C13+(E13*$E$2)+(F13*$F$2) -> 4731.6534
A14: 43009 | B14: =IF(H13=0,G13,H13) -> 4731.6534 | C14: =B14-(B14*$C$1) -> 4707.9951 | D14: Bukha 1 | E14: 1 | G14: =C14+(E14*$E$2)+(F14*$F$2) -> 6707.9951
A15: 43040 | B15: =IF(H14=0,G14,H14) -> 6707.9951 | C15: =B15-(B15*$C$1) -> 6674.4552 | D15: Ingen | G15: =C15+(E15*$E$2)+(F15*$F$2) -> 6674.4552
A16: 43070 | B16: =IF(H15=0,G15,H15) -> 6674.4552 | C16: =B16-(B16*$C$1) -> 6641.0829 | D16: Ingen | G16: =C16+(E16*$E$2)+(F16*$F$2) -> 6641.0829
A17: 43101 | B17: =IF(H16=0,G16,H16) -> 6641.0829 | C17: =B17-(B17*$C$1) -> 6607.8775 | D17: Ingen | G17: =C17+(E17*$E$2)+(F17*$F$2) -> 6607.8775
A18: 43132 | B18: =IF(H17=0,G17,H17) -> 6607.8775 | C18: =B18-(B18*$C$1) -> 6574.8381 | D18: Ingen | G18: =C18+(E18*$E$2)+(F18*$F$2) -> 6574.8381
A19: 43160 | B19: =IF(H18=0,G18,H18) -> 6574.8381 | C19: =B19-(B19*$C$1) -> 6541.9639 | D19: Ingen | G19: =C19+(E19*$E$2)+(F19*$F$2) -> 6541.9639
A20: 43191 | B20: =IF(H19=0,G19,H19) -> 6541.9639 | C20: =B20-(B20*$C$1) -> 6509.2541 | D20: Ingen | G20: =C20+(E20*$E$2)+(F20*$F$2) -> 6509.2541
A21: 43221 | B21: =IF(H20=0,G20,H20) -> 6509.2541 | C21: =B21-(B21*$C$1) -> 6476.7078 | D21: Ingen | G21: =C21+(E21*$E$2)+(F21*$F$2) -> 6476.7078
A22: 43252 | B22: =IF(H21=0,G21,H21) -> 6476.7078 | C22: =B22-(B22*$C$1) -> 6444.3243 | D22: Ingen | G22: =C22+(E22*$E$2)+(F22*$F$2) -> 6444.3243
A23: 43282 | B23: =IF(H22=0,G22,H22) -> 6444.3243 | C23: =B23-(B23*$C$1) -> 6412.1027 | D23: Ingen | G23: =C23+(E23*$E$2)+(F23*$F$2) -> 6412.1027
A24: 43313 | B24: =IF(H23=0,G23,H23) -> 6412.1027 | C24: =B24-(B24*$C$1) -> 6380.0421 | D24: Ingen | G24: =C24+(E24*$E$2)+(F24*$F$2) -> 6380.0421
A25: 43344 | B25: =IF(H24=0,G24,H24) -> 6380.0421 | C25: =B25-(B25*$C$1) -> 6348.1419 | D25: Ingen | G25: =C25+(E25*$E$2)+(F25*$F$2) -> 6348.1419
A26: 43374 | B26: =IF(H25=0,G25,H25) -> 6348.1419 | C26: =B26-(B26*$C$1) -> 6316.4012 | D26: Ingen | G26: =C26+(E26*$E$2)+(F26*$F$2) -> 6316.4012
... A52: 44166 | B52: =IF(H51=0,G51,H51) -> 5572.457 | C52: =B52-(B52*$C$1) -> 5544.5947 | D52: Ingen | G52: =C52+(E52*$E$2)+(F52*$F$2) -> 5544.5947
